BEGIN:VCALENDAR
VERSION:2.0
PRODID:-//Arathana - To know Him and make Him known - ECPv6.15.20//NONSGML v1.0//EN
CALSCALE:GREGORIAN
METHOD:PUBLISH
X-WR-CALNAME:Arathana - To know Him and make Him known
X-ORIGINAL-URL:https://arathana.com
X-WR-CALDESC:Events for Arathana - To know Him and make Him known
REFRESH-INTERVAL;VALUE=DURATION:PT1H
X-Robots-Tag:noindex
X-PUBLISHED-TTL:PT1H
BEGIN:VTIMEZONE
TZID:America/New_York
BEGIN:DAYLIGHT
TZOFFSETFROM:-0500
TZOFFSETTO:-0400
TZNAME:EDT
DTSTART:20230312T070000
END:DAYLIGHT
BEGIN:STANDARD
TZOFFSETFROM:-0400
TZOFFSETTO:-0500
TZNAME:EST
DTSTART:20231105T060000
END:STANDARD
BEGIN:DAYLIGHT
TZOFFSETFROM:-0500
TZOFFSETTO:-0400
TZNAME:EDT
DTSTART:20240310T070000
END:DAYLIGHT
BEGIN:STANDARD
TZOFFSETFROM:-0400
TZOFFSETTO:-0500
TZNAME:EST
DTSTART:20241103T060000
END:STANDARD
BEGIN:DAYLIGHT
TZOFFSETFROM:-0500
TZOFFSETTO:-0400
TZNAME:EDT
DTSTART:20250309T070000
END:DAYLIGHT
BEGIN:STANDARD
TZOFFSETFROM:-0400
TZOFFSETTO:-0500
TZNAME:EST
DTSTART:20251102T060000
END:STANDARD
END:VTIMEZONE
BEGIN:VEVENT
DTSTART;TZID=America/New_York:20241201T050000
DTEND;TZID=America/New_York:20241201T060000
DTSTAMP:20260422T081011
CREATED:20241201T034858Z
LAST-MODIFIED:20241201T034858Z
UID:3506-1733029200-1733032800@arathana.com
SUMMARY:First of Month - December 2024
DESCRIPTION:First of the month Prayer – December 2024 \n  \nLets start the month at the presence of the Lord and Savior JESUS CHRIST
URL:https://arathana.com/event/first-of-month-december-2024/
LOCATION:Arathana – Zoom
END:VEVENT
BEGIN:VEVENT
DTSTART;TZID=America/New_York:20241201T100000
DTEND;TZID=America/New_York:20241201T120000
DTSTAMP:20260422T081011
CREATED:20241127T050610Z
LAST-MODIFIED:20241201T034353Z
UID:3424-1733047200-1733054400@arathana.com
SUMMARY:Sunday Worship Service
DESCRIPTION:Join our worship services with your family and friends and receive showers of Blessings.
URL:https://arathana.com/event/sunday-worship-service-266/
LOCATION:CRTC\, 11326 Wiles Road\, Coral Springs\, FL\, 33076\, United States
CATEGORIES:Sunday Worship Service
ORGANIZER;CN="Arathana - Church":MAILTO:info@arathana.com
END:VEVENT
BEGIN:VEVENT
DTSTART;TZID=America/New_York:20241208T150000
DTEND;TZID=America/New_York:20241208T170000
DTSTAMP:20260422T081011
CREATED:20241127T050610Z
LAST-MODIFIED:20241127T050610Z
UID:3425-1733670000-1733677200@arathana.com
SUMMARY:Sunday Worship Service
DESCRIPTION:Join our worship services with your family and friends and receive showers of Blessings.
URL:https://arathana.com/event/sunday-worship-service-319/
LOCATION:Arathana Church\, 300 E. Yamato Road\, Boca Raton\, FL\, 33431\, United States
CATEGORIES:Sunday Worship Service
ORGANIZER;CN="Arathana - Church":MAILTO:info@arathana.com
END:VEVENT
BEGIN:VEVENT
DTSTART;TZID=America/New_York:20241215T150000
DTEND;TZID=America/New_York:20241215T170000
DTSTAMP:20260422T081011
CREATED:20241127T050610Z
LAST-MODIFIED:20241127T050610Z
UID:3426-1734274800-1734282000@arathana.com
SUMMARY:Sunday Worship Service
DESCRIPTION:Join our worship services with your family and friends and receive showers of Blessings.
URL:https://arathana.com/event/sunday-worship-service-320/
LOCATION:Arathana Church\, 300 E. Yamato Road\, Boca Raton\, FL\, 33431\, United States
CATEGORIES:Sunday Worship Service
ORGANIZER;CN="Arathana - Church":MAILTO:info@arathana.com
END:VEVENT
BEGIN:VEVENT
DTSTART;TZID=America/New_York:20241222T150000
DTEND;TZID=America/New_York:20241222T170000
DTSTAMP:20260422T081011
CREATED:20241127T050611Z
LAST-MODIFIED:20241127T050611Z
UID:3427-1734879600-1734886800@arathana.com
SUMMARY:Sunday Worship Service
DESCRIPTION:Join our worship services with your family and friends and receive showers of Blessings.
URL:https://arathana.com/event/sunday-worship-service-321/
LOCATION:Arathana Church\, 300 E. Yamato Road\, Boca Raton\, FL\, 33431\, United States
CATEGORIES:Sunday Worship Service
ORGANIZER;CN="Arathana - Church":MAILTO:info@arathana.com
END:VEVENT
BEGIN:VEVENT
DTSTART;TZID=America/New_York:20241225T103000
DTEND;TZID=America/New_York:20241225T130000
DTSTAMP:20260422T081011
CREATED:20241201T041035Z
LAST-MODIFIED:20241201T041035Z
UID:3509-1735122600-1735131600@arathana.com
SUMMARY:Christmas Service - 2024
DESCRIPTION:
URL:https://arathana.com/event/christmas-service-2024/
LOCATION:Arathana Church\, 300 E. Yamato Road\, Boca Raton\, FL\, 33431\, United States
ORGANIZER;CN="Arathana - Church":MAILTO:info@arathana.com
END:VEVENT
BEGIN:VEVENT
DTSTART;TZID=America/New_York:20241229T150000
DTEND;TZID=America/New_York:20241229T170000
DTSTAMP:20260422T081011
CREATED:20241127T050611Z
LAST-MODIFIED:20241127T050611Z
UID:3428-1735484400-1735491600@arathana.com
SUMMARY:Sunday Worship Service
DESCRIPTION:Join our worship services with your family and friends and receive showers of Blessings.
URL:https://arathana.com/event/sunday-worship-service-322/
LOCATION:Arathana Church\, 300 E. Yamato Road\, Boca Raton\, FL\, 33431\, United States
CATEGORIES:Sunday Worship Service
ORGANIZER;CN="Arathana - Church":MAILTO:info@arathana.com
END:VEVENT
END:VCALENDAR