BEGIN:VCALENDAR
VERSION:2.0
PRODID:-//Arathana - To know Him and make Him known - ECPv6.15.20//NONSGML v1.0//EN
CALSCALE:GREGORIAN
METHOD:PUBLISH
X-ORIGINAL-URL:https://arathana.com
X-WR-CALDESC:Events for Arathana - To know Him and make Him known
REFRESH-INTERVAL;VALUE=DURATION:PT1H
X-Robots-Tag:noindex
X-PUBLISHED-TTL:PT1H
BEGIN:VTIMEZONE
TZID:America/New_York
BEGIN:DAYLIGHT
TZOFFSETFROM:-0500
TZOFFSETTO:-0400
TZNAME:EDT
DTSTART:20220313T070000
END:DAYLIGHT
BEGIN:STANDARD
TZOFFSETFROM:-0400
TZOFFSETTO:-0500
TZNAME:EST
DTSTART:20221106T060000
END:STANDARD
BEGIN:DAYLIGHT
TZOFFSETFROM:-0500
TZOFFSETTO:-0400
TZNAME:EDT
DTSTART:20230312T070000
END:DAYLIGHT
BEGIN:STANDARD
TZOFFSETFROM:-0400
TZOFFSETTO:-0500
TZNAME:EST
DTSTART:20231105T060000
END:STANDARD
BEGIN:DAYLIGHT
TZOFFSETFROM:-0500
TZOFFSETTO:-0400
TZNAME:EDT
DTSTART:20240310T070000
END:DAYLIGHT
BEGIN:STANDARD
TZOFFSETFROM:-0400
TZOFFSETTO:-0500
TZNAME:EST
DTSTART:20241103T060000
END:STANDARD
BEGIN:DAYLIGHT
TZOFFSETFROM:-0500
TZOFFSETTO:-0400
TZNAME:EDT
DTSTART:20250309T070000
END:DAYLIGHT
BEGIN:STANDARD
TZOFFSETFROM:-0400
TZOFFSETTO:-0500
TZNAME:EST
DTSTART:20251102T060000
END:STANDARD
END:VTIMEZONE
BEGIN:VEVENT
DTSTART;TZID=America/New_York:20231231T223000
DTEND;TZID=America/New_York:20240101T013000
DTSTAMP:20260423T155129
CREATED:20230414T232303Z
LAST-MODIFIED:20231231T031431Z
UID:3142-1704061800-1704072600@arathana.com
SUMMARY:New Year's Eve Service
DESCRIPTION:Join us with our worship services with your family and friends and receive showers of Blessings.
URL:https://arathana.com/event/sunday-worship-service-304/
LOCATION:Arathana Church\, 300 E. Yamato Road\, Boca Raton\, FL\, 33431\, United States
CATEGORIES:New Year Service
ORGANIZER;CN="Arathana - Church":MAILTO:info@arathana.com
END:VEVENT
BEGIN:VEVENT
DTSTART;TZID=America/New_York:20240105T210000
DTEND;TZID=America/New_York:20240105T220000
DTSTAMP:20260423T155129
CREATED:20230901T221751Z
LAST-MODIFIED:20230901T223000Z
UID:3351-1704488400-1704492000@arathana.com
SUMMARY:Womens Bible Study
DESCRIPTION:Join our women’s Bible study to strongly rooted in the word of GOD. \nJoin and let us build HIS Kingdom together. \n  \nZoom Link \nPasscode 1122
URL:https://arathana.com/event/womens-bible-study-11/
LOCATION:Arathana Church\, 300 E. Yamato Road\, Boca Raton\, FL\, 33431\, United States
CATEGORIES:Bible Study
ORGANIZER;CN="Arathana - Church":MAILTO:info@arathana.com
END:VEVENT
BEGIN:VEVENT
DTSTART;TZID=America/New_York:20240107T143000
DTEND;TZID=America/New_York:20240107T163000
DTSTAMP:20260423T155129
CREATED:20230414T232304Z
LAST-MODIFIED:20230416T035145Z
UID:3143-1704637800-1704645000@arathana.com
SUMMARY:Sunday Worship Service
DESCRIPTION:Join us with our worship services with your family and friends and receive showers of Blessings.
URL:https://arathana.com/event/sunday-worship-service-305/
LOCATION:Arathana Church\, 300 E. Yamato Road\, Boca Raton\, FL\, 33431\, United States
CATEGORIES:Sunday Worship Service
ORGANIZER;CN="Arathana - Church":MAILTO:info@arathana.com
END:VEVENT
BEGIN:VEVENT
DTSTART;TZID=America/New_York:20240114T143000
DTEND;TZID=America/New_York:20240114T163000
DTSTAMP:20260423T155129
CREATED:20230414T232305Z
LAST-MODIFIED:20230416T035145Z
UID:3144-1705242600-1705249800@arathana.com
SUMMARY:Sunday Worship Service
DESCRIPTION:Join us with our worship services with your family and friends and receive showers of Blessings.
URL:https://arathana.com/event/sunday-worship-service-306/
LOCATION:Arathana Church\, 300 E. Yamato Road\, Boca Raton\, FL\, 33431\, United States
CATEGORIES:Sunday Worship Service
ORGANIZER;CN="Arathana - Church":MAILTO:info@arathana.com
END:VEVENT
BEGIN:VEVENT
DTSTART;TZID=America/New_York:20240119T210000
DTEND;TZID=America/New_York:20240119T220000
DTSTAMP:20260423T155129
CREATED:20230901T221751Z
LAST-MODIFIED:20230901T222833Z
UID:3352-1705698000-1705701600@arathana.com
SUMMARY:Womens Bible Study
DESCRIPTION:Join our women’s Bible study to strongly rooted in the word of GOD. \nJoin and let us build HIS Kingdom together. \n  \nZoom Link \nPasscode 1122
URL:https://arathana.com/event/womens-bible-study-12/
LOCATION:Arathana Church\, 300 E. Yamato Road\, Boca Raton\, FL\, 33431\, United States
CATEGORIES:Bible Study
ORGANIZER;CN="Arathana - Church":MAILTO:info@arathana.com
END:VEVENT
BEGIN:VEVENT
DTSTART;TZID=America/New_York:20240121T143000
DTEND;TZID=America/New_York:20240121T163000
DTSTAMP:20260423T155129
CREATED:20230414T232503Z
LAST-MODIFIED:20230416T035202Z
UID:3145-1705847400-1705854600@arathana.com
SUMMARY:Sunday Worship Service
DESCRIPTION:Join us with our worship services with your family and friends and receive showers of Blessings.
URL:https://arathana.com/event/sunday-worship-service-307/
LOCATION:Arathana Church\, 300 E. Yamato Road\, Boca Raton\, FL\, 33431\, United States
CATEGORIES:Sunday Worship Service
ORGANIZER;CN="Arathana - Church":MAILTO:info@arathana.com
END:VEVENT
BEGIN:VEVENT
DTSTART;TZID=America/New_York:20240128T143000
DTEND;TZID=America/New_York:20240128T163000
DTSTAMP:20260423T155129
CREATED:20230414T232504Z
LAST-MODIFIED:20230416T035203Z
UID:3146-1706452200-1706459400@arathana.com
SUMMARY:Sunday Worship Service
DESCRIPTION:Join us with our worship services with your family and friends and receive showers of Blessings.
URL:https://arathana.com/event/sunday-worship-service-308/
LOCATION:Arathana Church\, 300 E. Yamato Road\, Boca Raton\, FL\, 33431\, United States
CATEGORIES:Sunday Worship Service
ORGANIZER;CN="Arathana - Church":MAILTO:info@arathana.com
END:VEVENT
END:VCALENDAR