BEGIN:VCALENDAR
VERSION:2.0
PRODID:-//Arathana - To know Him and make Him known - ECPv6.15.20//NONSGML v1.0//EN
CALSCALE:GREGORIAN
METHOD:PUBLISH
X-WR-CALNAME:Arathana - To know Him and make Him known
X-ORIGINAL-URL:https://arathana.com
X-WR-CALDESC:Events for Arathana - To know Him and make Him known
REFRESH-INTERVAL;VALUE=DURATION:PT1H
X-Robots-Tag:noindex
X-PUBLISHED-TTL:PT1H
BEGIN:VTIMEZONE
TZID:America/New_York
BEGIN:DAYLIGHT
TZOFFSETFROM:-0500
TZOFFSETTO:-0400
TZNAME:EDT
DTSTART:20200308T070000
END:DAYLIGHT
BEGIN:STANDARD
TZOFFSETFROM:-0400
TZOFFSETTO:-0500
TZNAME:EST
DTSTART:20201101T060000
END:STANDARD
BEGIN:DAYLIGHT
TZOFFSETFROM:-0500
TZOFFSETTO:-0400
TZNAME:EDT
DTSTART:20210314T070000
END:DAYLIGHT
BEGIN:STANDARD
TZOFFSETFROM:-0400
TZOFFSETTO:-0500
TZNAME:EST
DTSTART:20211107T060000
END:STANDARD
BEGIN:DAYLIGHT
TZOFFSETFROM:-0500
TZOFFSETTO:-0400
TZNAME:EDT
DTSTART:20220313T070000
END:DAYLIGHT
BEGIN:STANDARD
TZOFFSETFROM:-0400
TZOFFSETTO:-0500
TZNAME:EST
DTSTART:20221106T060000
END:STANDARD
BEGIN:DAYLIGHT
TZOFFSETFROM:-0500
TZOFFSETTO:-0400
TZNAME:EDT
DTSTART:20230312T070000
END:DAYLIGHT
BEGIN:STANDARD
TZOFFSETFROM:-0400
TZOFFSETTO:-0500
TZNAME:EST
DTSTART:20231105T060000
END:STANDARD
BEGIN:DAYLIGHT
TZOFFSETFROM:-0500
TZOFFSETTO:-0400
TZNAME:EDT
DTSTART:20240310T070000
END:DAYLIGHT
BEGIN:STANDARD
TZOFFSETFROM:-0400
TZOFFSETTO:-0500
TZNAME:EST
DTSTART:20241103T060000
END:STANDARD
END:VTIMEZONE
BEGIN:VEVENT
DTSTART;TZID=America/New_York:20230521T143000
DTEND;TZID=America/New_York:20230521T163000
DTSTAMP:20260422T175049
CREATED:20230414T232131Z
LAST-MODIFIED:20230416T035034Z
UID:3110-1684679400-1684686600@arathana.com
SUMMARY:Sunday Worship Service
DESCRIPTION:Join us with our worship services with your family and friends and receive showers of Blessings.
URL:https://arathana.com/event/sunday-worship-service-272/
LOCATION:Arathana Church\, 300 E. Yamato Road\, Boca Raton\, FL\, 33431\, United States
CATEGORIES:Sunday Worship Service
ORGANIZER;CN="Arathana - Church":MAILTO:info@arathana.com
END:VEVENT
BEGIN:VEVENT
DTSTART;TZID=America/New_York:20230516T190000
DTEND;TZID=America/New_York:20230516T200000
DTSTAMP:20260422T175049
CREATED:20230504T020450Z
LAST-MODIFIED:20230504T031303Z
UID:3244-1684263600-1684267200@arathana.com
SUMMARY:Youth Bible Study- Final Exam
DESCRIPTION:Best of luck and blessings to all the youth taking the exam. Congratulations for completing the year successfully! \n  \nZoom Link \nPasscode 1122
URL:https://arathana.com/event/youth-bible-study-final-exam/
LOCATION:Arathana – Zoom
CATEGORIES:Youth Bible Study- Final Exam
ORGANIZER;CN="Arathana - Church":MAILTO:info@arathana.com
END:VEVENT
BEGIN:VEVENT
DTSTART;TZID=America/New_York:20230514T143000
DTEND;TZID=America/New_York:20230514T163000
DTSTAMP:20260422T175049
CREATED:20230414T232129Z
LAST-MODIFIED:20230416T035032Z
UID:3109-1684074600-1684081800@arathana.com
SUMMARY:Sunday Worship Service
DESCRIPTION:Join us with our worship services with your family and friends and receive showers of Blessings.
URL:https://arathana.com/event/sunday-worship-service-271/
LOCATION:Arathana Church\, 300 E. Yamato Road\, Boca Raton\, FL\, 33431\, United States
CATEGORIES:Sunday Worship Service
ORGANIZER;CN="Arathana - Church":MAILTO:info@arathana.com
END:VEVENT
BEGIN:VEVENT
DTSTART;TZID=America/New_York:20230513T180000
DTEND;TZID=America/New_York:20230513T200000
DTSTAMP:20260422T175049
CREATED:20230503T000017Z
LAST-MODIFIED:20230503T000017Z
UID:3235-1684000800-1684008000@arathana.com
SUMMARY:11th Church Anniversary Service
DESCRIPTION:Join us for our 11th Church Anniversary Service and celebrate the marvelous things GOD has done. \n  \nZoom Link \nPasscode 1122
URL:https://arathana.com/event/11th-church-anniversary-service/
LOCATION:FL
CATEGORIES:Worship Service
ORGANIZER;CN="Arathana - Church":MAILTO:info@arathana.com
END:VEVENT
BEGIN:VEVENT
DTSTART;TZID=America/New_York:20230509T190000
DTEND;TZID=America/New_York:20230509T200000
DTSTAMP:20260422T175049
CREATED:20230504T020449Z
LAST-MODIFIED:20230504T031205Z
UID:3243-1683658800-1683662400@arathana.com
SUMMARY:Youth Bible Study
DESCRIPTION:Calling all youth! Please join us on Tuesday nights and engage with peers about biblical topics that apply to our lives today. Inspired\, fun and blessed times are expected! \n  \nZoom Link \nPasscode 1122
URL:https://arathana.com/event/youth-bible-study/
LOCATION:Arathana – Zoom
CATEGORIES:Youth Bible Study
ORGANIZER;CN="Arathana - Church":MAILTO:info@arathana.com
END:VEVENT
BEGIN:VEVENT
DTSTART;TZID=America/New_York:20230507T143000
DTEND;TZID=America/New_York:20230507T163000
DTSTAMP:20260422T175049
CREATED:20230414T232128Z
LAST-MODIFIED:20230416T035032Z
UID:3108-1683469800-1683477000@arathana.com
SUMMARY:Sunday Worship Service
DESCRIPTION:Join us with our worship services with your family and friends and receive showers of Blessings.
URL:https://arathana.com/event/sunday-worship-service-270/
LOCATION:Arathana Church\, 300 E. Yamato Road\, Boca Raton\, FL\, 33431\, United States
CATEGORIES:Sunday Worship Service
ORGANIZER;CN="Arathana - Church":MAILTO:info@arathana.com
END:VEVENT
BEGIN:VEVENT
DTSTART;TZID=America/New_York:20230430T143000
DTEND;TZID=America/New_York:20230430T163000
DTSTAMP:20260422T175049
CREATED:20230414T232127Z
LAST-MODIFIED:20230416T035031Z
UID:3107-1682865000-1682872200@arathana.com
SUMMARY:Sunday Worship Service
DESCRIPTION:Join us with our worship services with your family and friends and receive showers of Blessings.
URL:https://arathana.com/event/sunday-worship-service-269/
LOCATION:Arathana Church\, 300 E. Yamato Road\, Boca Raton\, FL\, 33431\, United States
CATEGORIES:Sunday Worship Service
ORGANIZER;CN="Arathana - Church":MAILTO:info@arathana.com
END:VEVENT
BEGIN:VEVENT
DTSTART;TZID=America/New_York:20230423T143000
DTEND;TZID=America/New_York:20230423T163000
DTSTAMP:20260422T175049
CREATED:20230414T232126Z
LAST-MODIFIED:20230416T035031Z
UID:3106-1682260200-1682267400@arathana.com
SUMMARY:Sunday Worship Service
DESCRIPTION:Join us with our worship services with your family and friends and receive showers of Blessings.
URL:https://arathana.com/event/sunday-worship-service-268/
LOCATION:Arathana Church\, 300 E. Yamato Road\, Boca Raton\, FL\, 33431\, United States
CATEGORIES:Sunday Worship Service
ORGANIZER;CN="Arathana - Church":MAILTO:info@arathana.com
END:VEVENT
BEGIN:VEVENT
DTSTART;TZID=America/New_York:20230421T210000
DTEND;TZID=America/New_York:20230421T220000
DTSTAMP:20260422T175049
CREATED:20230414T233710Z
LAST-MODIFIED:20230415T200323Z
UID:3157-1682110800-1682114400@arathana.com
SUMMARY:Women's Bible Study
DESCRIPTION:Join our women’s Bible study to strongly rooted in the word of GOD. \nJoin and let us build HIS Kingdom together. \n  \nZoom Link \nPasscode 1122
URL:https://arathana.com/event/womens-bible-study-2/
LOCATION:Arathana – Zoom
CATEGORIES:Bible Study
ORGANIZER;CN="Arathana - Church":MAILTO:info@arathana.com
END:VEVENT
BEGIN:VEVENT
DTSTART;TZID=America/New_York:20230416T143000
DTEND;TZID=America/New_York:20230416T163000
DTSTAMP:20260422T175049
CREATED:20230414T232126Z
LAST-MODIFIED:20230416T035030Z
UID:3105-1681655400-1681662600@arathana.com
SUMMARY:Sunday Worship Service
DESCRIPTION:Join us with our worship services with your family and friends and receive showers of Blessings.
URL:https://arathana.com/event/sunday-worship-service-267/
LOCATION:Arathana Church\, 300 E. Yamato Road\, Boca Raton\, FL\, 33431\, United States
CATEGORIES:Sunday Worship Service
ORGANIZER;CN="Arathana - Church":MAILTO:info@arathana.com
END:VEVENT
BEGIN:VEVENT
DTSTART;TZID=America/New_York:20230414T210000
DTEND;TZID=America/New_York:20230414T220000
DTSTAMP:20260422T175049
CREATED:20230414T230038Z
LAST-MODIFIED:20230414T230038Z
UID:3099-1681506000-1681509600@arathana.com
SUMMARY:Women's Bible Study
DESCRIPTION:
URL:https://arathana.com/event/womens-bible-study/
LOCATION:Zoom
ORGANIZER;CN="Arathana - Church":MAILTO:info@arathana.com
END:VEVENT
BEGIN:VEVENT
DTSTART;TZID=America/New_York:20211224T193000
DTEND;TZID=America/New_York:20211224T210000
DTSTAMP:20260422T175049
CREATED:20210301T184330Z
LAST-MODIFIED:20210301T184330Z
UID:3044-1640374200-1640379600@arathana.com
SUMMARY:Standing In The Gap - Prayer
DESCRIPTION:
URL:https://arathana.com/event/standing-in-the-gap-prayer-34/
LOCATION:FL
CATEGORIES:Prayer Meeting
ORGANIZER;CN="Arathana - Church":MAILTO:info@arathana.com
END:VEVENT
BEGIN:VEVENT
DTSTART;TZID=America/New_York:20211212T143000
DTEND;TZID=America/New_York:20211212T163000
DTSTAMP:20260422T175049
CREATED:20210301T184302Z
LAST-MODIFIED:20210301T184302Z
UID:3032-1639319400-1639326600@arathana.com
SUMMARY:Sunday Worship Service
DESCRIPTION:Join us with our worship services with your family and friends and receive showers of Blessings.
URL:https://arathana.com/event/sunday-worship-service-265/
LOCATION:Arathana Church\, 300 E. Yamato Road\, Boca Raton\, FL\, 33431\, United States
CATEGORIES:Sunday Worship Service
ORGANIZER;CN="Arathana - Church":MAILTO:info@arathana.com
END:VEVENT
BEGIN:VEVENT
DTSTART;TZID=America/New_York:20211205T143000
DTEND;TZID=America/New_York:20211205T163000
DTSTAMP:20260422T175049
CREATED:20210301T184302Z
LAST-MODIFIED:20210301T184302Z
UID:3030-1638714600-1638721800@arathana.com
SUMMARY:Sunday Worship Service
DESCRIPTION:Join us with our worship services with your family and friends and receive showers of Blessings.
URL:https://arathana.com/event/sunday-worship-service-264/
LOCATION:Arathana Church\, 300 E. Yamato Road\, Boca Raton\, FL\, 33431\, United States
CATEGORIES:Sunday Worship Service
ORGANIZER;CN="Arathana - Church":MAILTO:info@arathana.com
END:VEVENT
BEGIN:VEVENT
DTSTART;TZID=America/New_York:20211201T050000
DTEND;TZID=America/New_York:20211201T053000
DTSTAMP:20260422T175049
CREATED:20210301T183623Z
LAST-MODIFIED:20210301T183623Z
UID:2978-1638334800-1638336600@arathana.com
SUMMARY:First of December - Prayer
DESCRIPTION:First of Month – Prayer Line\nJoin the conference prayer line on every first of month prayer at 5:00 am. \nCall in Number\n515-606-5187 \nAccess Code\n900556
URL:https://arathana.com/event/first-of-december-prayer-6/
LOCATION:FL
CATEGORIES:First of Month Prayer
ORGANIZER;CN="Arathana - Church":MAILTO:info@arathana.com
END:VEVENT
BEGIN:VEVENT
DTSTART;TZID=America/New_York:20211128T143000
DTEND;TZID=America/New_York:20211128T163000
DTSTAMP:20260422T175049
CREATED:20210301T184301Z
LAST-MODIFIED:20210301T184301Z
UID:3029-1638109800-1638117000@arathana.com
SUMMARY:Sunday Worship Service
DESCRIPTION:Join us with our worship services with your family and friends and receive showers of Blessings.
URL:https://arathana.com/event/sunday-worship-service-263/
LOCATION:Arathana Church\, 300 E. Yamato Road\, Boca Raton\, FL\, 33431\, United States
CATEGORIES:Sunday Worship Service
ORGANIZER;CN="Arathana - Church":MAILTO:info@arathana.com
END:VEVENT
BEGIN:VEVENT
DTSTART;TZID=America/New_York:20211126T193000
DTEND;TZID=America/New_York:20211126T210000
DTSTAMP:20260422T175049
CREATED:20210301T184330Z
LAST-MODIFIED:20210301T184330Z
UID:3043-1637955000-1637960400@arathana.com
SUMMARY:Standing In The Gap - Prayer
DESCRIPTION:
URL:https://arathana.com/event/standing-in-the-gap-prayer-33/
LOCATION:FL
CATEGORIES:Prayer Meeting
ORGANIZER;CN="Arathana - Church":MAILTO:info@arathana.com
END:VEVENT
BEGIN:VEVENT
DTSTART;TZID=America/New_York:20211121T143000
DTEND;TZID=America/New_York:20211121T163000
DTSTAMP:20260422T175049
CREATED:20210301T184301Z
LAST-MODIFIED:20210301T184301Z
UID:3028-1637505000-1637512200@arathana.com
SUMMARY:Sunday Worship Service
DESCRIPTION:Join us with our worship services with your family and friends and receive showers of Blessings.
URL:https://arathana.com/event/sunday-worship-service-262/
LOCATION:Arathana Church\, 300 E. Yamato Road\, Boca Raton\, FL\, 33431\, United States
CATEGORIES:Sunday Worship Service
ORGANIZER;CN="Arathana - Church":MAILTO:info@arathana.com
END:VEVENT
BEGIN:VEVENT
DTSTART;TZID=America/New_York:20211114T143000
DTEND;TZID=America/New_York:20211114T163000
DTSTAMP:20260422T175049
CREATED:20210301T184300Z
LAST-MODIFIED:20210301T184300Z
UID:3027-1636900200-1636907400@arathana.com
SUMMARY:Sunday Worship Service
DESCRIPTION:Join us with our worship services with your family and friends and receive showers of Blessings.
URL:https://arathana.com/event/sunday-worship-service-261/
LOCATION:Arathana Church\, 300 E. Yamato Road\, Boca Raton\, FL\, 33431\, United States
CATEGORIES:Sunday Worship Service
ORGANIZER;CN="Arathana - Church":MAILTO:info@arathana.com
END:VEVENT
BEGIN:VEVENT
DTSTART;TZID=America/New_York:20211107T143000
DTEND;TZID=America/New_York:20211107T163000
DTSTAMP:20260422T175049
CREATED:20210301T184248Z
LAST-MODIFIED:20210301T184248Z
UID:3025-1636295400-1636302600@arathana.com
SUMMARY:Sunday Worship Service
DESCRIPTION:Join us with our worship services with your family and friends and receive showers of Blessings.
URL:https://arathana.com/event/sunday-worship-service-260/
LOCATION:Arathana Church\, 300 E. Yamato Road\, Boca Raton\, FL\, 33431\, United States
CATEGORIES:Sunday Worship Service
ORGANIZER;CN="Arathana - Church":MAILTO:info@arathana.com
END:VEVENT
BEGIN:VEVENT
DTSTART;TZID=America/New_York:20211101T050000
DTEND;TZID=America/New_York:20211101T053000
DTSTAMP:20260422T175049
CREATED:20210301T183610Z
LAST-MODIFIED:20210301T183610Z
UID:2977-1635742800-1635744600@arathana.com
SUMMARY:First of Novemebr - Prayer
DESCRIPTION:First of Month – Prayer Line\nJoin the conference prayer line on every first of month prayer at 5:00 am. \nCall in Number\n515-606-5187 \nAccess Code\n900556
URL:https://arathana.com/event/first-of-novemebr-prayer-5/
LOCATION:FL
CATEGORIES:First of Month Prayer
ORGANIZER;CN="Arathana - Church":MAILTO:info@arathana.com
END:VEVENT
BEGIN:VEVENT
DTSTART;TZID=America/New_York:20211031T143000
DTEND;TZID=America/New_York:20211031T163000
DTSTAMP:20260422T175049
CREATED:20210301T184248Z
LAST-MODIFIED:20210301T184248Z
UID:3024-1635690600-1635697800@arathana.com
SUMMARY:Sunday Worship Service
DESCRIPTION:Join us with our worship services with your family and friends and receive showers of Blessings.
URL:https://arathana.com/event/sunday-worship-service-259/
LOCATION:Arathana Church\, 300 E. Yamato Road\, Boca Raton\, FL\, 33431\, United States
CATEGORIES:Sunday Worship Service
ORGANIZER;CN="Arathana - Church":MAILTO:info@arathana.com
END:VEVENT
BEGIN:VEVENT
DTSTART;TZID=America/New_York:20211024T143000
DTEND;TZID=America/New_York:20211024T163000
DTSTAMP:20260422T175049
CREATED:20210301T184247Z
LAST-MODIFIED:20210301T184247Z
UID:3023-1635085800-1635093000@arathana.com
SUMMARY:Sunday Worship Service
DESCRIPTION:Join us with our worship services with your family and friends and receive showers of Blessings.
URL:https://arathana.com/event/sunday-worship-service-258/
LOCATION:Arathana Church\, 300 E. Yamato Road\, Boca Raton\, FL\, 33431\, United States
CATEGORIES:Sunday Worship Service
ORGANIZER;CN="Arathana - Church":MAILTO:info@arathana.com
END:VEVENT
BEGIN:VEVENT
DTSTART;TZID=America/New_York:20211022T193000
DTEND;TZID=America/New_York:20211022T210000
DTSTAMP:20260422T175049
CREATED:20210301T184316Z
LAST-MODIFIED:20210301T184316Z
UID:3042-1634931000-1634936400@arathana.com
SUMMARY:Standing In The Gap - Prayer
DESCRIPTION:
URL:https://arathana.com/event/standing-in-the-gap-prayer-32/
LOCATION:FL
CATEGORIES:Prayer Meeting
ORGANIZER;CN="Arathana - Church":MAILTO:info@arathana.com
END:VEVENT
BEGIN:VEVENT
DTSTART;TZID=America/New_York:20211017T143000
DTEND;TZID=America/New_York:20211017T163000
DTSTAMP:20260422T175049
CREATED:20210301T184247Z
LAST-MODIFIED:20210301T184247Z
UID:3022-1634481000-1634488200@arathana.com
SUMMARY:Sunday Worship Service
DESCRIPTION:Join us with our worship services with your family and friends and receive showers of Blessings.
URL:https://arathana.com/event/sunday-worship-service-257/
LOCATION:Arathana Church\, 300 E. Yamato Road\, Boca Raton\, FL\, 33431\, United States
CATEGORIES:Sunday Worship Service
ORGANIZER;CN="Arathana - Church":MAILTO:info@arathana.com
END:VEVENT
BEGIN:VEVENT
DTSTART;TZID=America/New_York:20211010T143000
DTEND;TZID=America/New_York:20211010T163000
DTSTAMP:20260422T175049
CREATED:20210301T184246Z
LAST-MODIFIED:20210301T184246Z
UID:3021-1633876200-1633883400@arathana.com
SUMMARY:Sunday Worship Service
DESCRIPTION:Join us with our worship services with your family and friends and receive showers of Blessings.
URL:https://arathana.com/event/sunday-worship-service-256/
LOCATION:Arathana Church\, 300 E. Yamato Road\, Boca Raton\, FL\, 33431\, United States
CATEGORIES:Sunday Worship Service
ORGANIZER;CN="Arathana - Church":MAILTO:info@arathana.com
END:VEVENT
BEGIN:VEVENT
DTSTART;TZID=America/New_York:20211003T143000
DTEND;TZID=America/New_York:20211003T163000
DTSTAMP:20260422T175049
CREATED:20210301T184232Z
LAST-MODIFIED:20210301T184232Z
UID:3020-1633271400-1633278600@arathana.com
SUMMARY:Sunday Worship Service
DESCRIPTION:Join us with our worship services with your family and friends and receive showers of Blessings.
URL:https://arathana.com/event/sunday-worship-service-255/
LOCATION:Arathana Church\, 300 E. Yamato Road\, Boca Raton\, FL\, 33431\, United States
CATEGORIES:Sunday Worship Service
ORGANIZER;CN="Arathana - Church":MAILTO:info@arathana.com
END:VEVENT
BEGIN:VEVENT
DTSTART;TZID=America/New_York:20211001T050000
DTEND;TZID=America/New_York:20211001T053000
DTSTAMP:20260422T175049
CREATED:20210301T183610Z
LAST-MODIFIED:20210301T183610Z
UID:2976-1633064400-1633066200@arathana.com
SUMMARY:First of October - Prayer
DESCRIPTION:First of Month – Prayer Line\nJoin the conference prayer line on every first of month prayer at 5:00 am. \nCall in Number\n515-606-5187 \nAccess Code\n900556
URL:https://arathana.com/event/first-of-october-prayer-5/
LOCATION:FL
CATEGORIES:First of Month Prayer
ORGANIZER;CN="Arathana - Church":MAILTO:info@arathana.com
END:VEVENT
BEGIN:VEVENT
DTSTART;TZID=America/New_York:20210926T143000
DTEND;TZID=America/New_York:20210926T163000
DTSTAMP:20260422T175049
CREATED:20210301T184232Z
LAST-MODIFIED:20210301T184232Z
UID:3019-1632666600-1632673800@arathana.com
SUMMARY:Sunday Worship Service
DESCRIPTION:Join us with our worship services with your family and friends and receive showers of Blessings.
URL:https://arathana.com/event/sunday-worship-service-254/
LOCATION:Arathana Church\, 300 E. Yamato Road\, Boca Raton\, FL\, 33431\, United States
CATEGORIES:Sunday Worship Service
ORGANIZER;CN="Arathana - Church":MAILTO:info@arathana.com
END:VEVENT
BEGIN:VEVENT
DTSTART;TZID=America/New_York:20210924T193000
DTEND;TZID=America/New_York:20210924T210000
DTSTAMP:20260422T175049
CREATED:20210301T184316Z
LAST-MODIFIED:20210301T184316Z
UID:3041-1632511800-1632517200@arathana.com
SUMMARY:Standing In The Gap - Prayer
DESCRIPTION:
URL:https://arathana.com/event/standing-in-the-gap-prayer-31/
LOCATION:FL
CATEGORIES:Prayer Meeting
ORGANIZER;CN="Arathana - Church":MAILTO:info@arathana.com
END:VEVENT
END:VCALENDAR