BEGIN:VCALENDAR
VERSION:2.0
PRODID:-//Arathana - To know Him and make Him known - ECPv6.15.20//NONSGML v1.0//EN
CALSCALE:GREGORIAN
METHOD:PUBLISH
X-WR-CALNAME:Arathana - To know Him and make Him known
X-ORIGINAL-URL:https://arathana.com
X-WR-CALDESC:Events for Arathana - To know Him and make Him known
REFRESH-INTERVAL;VALUE=DURATION:PT1H
X-Robots-Tag:noindex
X-PUBLISHED-TTL:PT1H
BEGIN:VTIMEZONE
TZID:America/New_York
BEGIN:DAYLIGHT
TZOFFSETFROM:-0500
TZOFFSETTO:-0400
TZNAME:EDT
DTSTART:20240310T070000
END:DAYLIGHT
BEGIN:STANDARD
TZOFFSETFROM:-0400
TZOFFSETTO:-0500
TZNAME:EST
DTSTART:20241103T060000
END:STANDARD
BEGIN:DAYLIGHT
TZOFFSETFROM:-0500
TZOFFSETTO:-0400
TZNAME:EDT
DTSTART:20250309T070000
END:DAYLIGHT
BEGIN:STANDARD
TZOFFSETFROM:-0400
TZOFFSETTO:-0500
TZNAME:EST
DTSTART:20251102T060000
END:STANDARD
BEGIN:DAYLIGHT
TZOFFSETFROM:-0500
TZOFFSETTO:-0400
TZNAME:EDT
DTSTART:20260308T070000
END:DAYLIGHT
BEGIN:STANDARD
TZOFFSETFROM:-0400
TZOFFSETTO:-0500
TZNAME:EST
DTSTART:20261101T060000
END:STANDARD
END:VTIMEZONE
BEGIN:VEVENT
DTSTART;TZID=America/New_York:20250401T050000
DTEND;TZID=America/New_York:20250401T060000
DTSTAMP:20260422T181604
CREATED:20241127T053434Z
LAST-MODIFIED:20241127T053434Z
UID:3492-1743483600-1743487200@arathana.com
SUMMARY:First of April - Prayer
DESCRIPTION:First of Month – Prayer Line\nJoin the conference prayer line on every first day of month startingat 5:00 am. \nJoin us through ZOOM at:\nhttps://us06web.zoom.us/j/9556640647?pwd=bUlMMzZCdTZqNTdrU210SnRVY2ovZz09
URL:https://arathana.com/event/first-of-april-prayer-6/
LOCATION:FL
CATEGORIES:First of Month Prayer
ORGANIZER;CN="Arathana - Church":MAILTO:info@arathana.com
END:VEVENT
BEGIN:VEVENT
DTSTART;TZID=America/New_York:20250406T150000
DTEND;TZID=America/New_York:20250406T170000
DTSTAMP:20260422T181604
CREATED:20241127T050708Z
LAST-MODIFIED:20241127T050708Z
UID:3442-1743951600-1743958800@arathana.com
SUMMARY:Sunday Worship Service
DESCRIPTION:Join our worship services with your family and friends and receive showers of Blessings.
URL:https://arathana.com/event/sunday-worship-service-336/
LOCATION:Arathana Church\, 300 E. Yamato Road\, Boca Raton\, FL\, 33431\, United States
CATEGORIES:Sunday Worship Service
ORGANIZER;CN="Arathana - Church":MAILTO:info@arathana.com
END:VEVENT
BEGIN:VEVENT
DTSTART;TZID=America/New_York:20250413T150000
DTEND;TZID=America/New_York:20250413T170000
DTSTAMP:20260422T181604
CREATED:20241127T050709Z
LAST-MODIFIED:20241127T050709Z
UID:3443-1744556400-1744563600@arathana.com
SUMMARY:Sunday Worship Service
DESCRIPTION:Join our worship services with your family and friends and receive showers of Blessings.
URL:https://arathana.com/event/sunday-worship-service-337/
LOCATION:Arathana Church\, 300 E. Yamato Road\, Boca Raton\, FL\, 33431\, United States
CATEGORIES:Sunday Worship Service
ORGANIZER;CN="Arathana - Church":MAILTO:info@arathana.com
END:VEVENT
BEGIN:VEVENT
DTSTART;TZID=America/New_York:20250420T150000
DTEND;TZID=America/New_York:20250420T170000
DTSTAMP:20260422T181604
CREATED:20241127T050722Z
LAST-MODIFIED:20241127T050722Z
UID:3444-1745161200-1745168400@arathana.com
SUMMARY:Sunday Worship Service
DESCRIPTION:Join our worship services with your family and friends and receive showers of Blessings.
URL:https://arathana.com/event/sunday-worship-service-338/
LOCATION:Arathana Church\, 300 E. Yamato Road\, Boca Raton\, FL\, 33431\, United States
CATEGORIES:Sunday Worship Service
ORGANIZER;CN="Arathana - Church":MAILTO:info@arathana.com
END:VEVENT
BEGIN:VEVENT
DTSTART;TZID=America/New_York:20250427T150000
DTEND;TZID=America/New_York:20250427T170000
DTSTAMP:20260422T181604
CREATED:20241127T050722Z
LAST-MODIFIED:20241127T050722Z
UID:3445-1745766000-1745773200@arathana.com
SUMMARY:Sunday Worship Service
DESCRIPTION:Join our worship services with your family and friends and receive showers of Blessings.
URL:https://arathana.com/event/sunday-worship-service-339/
LOCATION:Arathana Church\, 300 E. Yamato Road\, Boca Raton\, FL\, 33431\, United States
CATEGORIES:Sunday Worship Service
ORGANIZER;CN="Arathana - Church":MAILTO:info@arathana.com
END:VEVENT
BEGIN:VEVENT
DTSTART;TZID=America/New_York:20250501T050000
DTEND;TZID=America/New_York:20250501T060000
DTSTAMP:20260422T181604
CREATED:20241127T053435Z
LAST-MODIFIED:20241127T053435Z
UID:3493-1746075600-1746079200@arathana.com
SUMMARY:First of May - Prayer
DESCRIPTION:First of Month – Prayer Line\nJoin the conference prayer line on every first day of month startingat 5:00 am. \nJoin us through ZOOM at:\nhttps://us06web.zoom.us/j/9556640647?pwd=bUlMMzZCdTZqNTdrU210SnRVY2ovZz09
URL:https://arathana.com/event/first-of-may-prayer-6/
LOCATION:FL
CATEGORIES:First of Month Prayer
ORGANIZER;CN="Arathana - Church":MAILTO:info@arathana.com
END:VEVENT
BEGIN:VEVENT
DTSTART;TZID=America/New_York:20250504T150000
DTEND;TZID=America/New_York:20250504T170000
DTSTAMP:20260422T181604
CREATED:20241127T050723Z
LAST-MODIFIED:20241127T050723Z
UID:3446-1746370800-1746378000@arathana.com
SUMMARY:Sunday Worship Service
DESCRIPTION:Join our worship services with your family and friends and receive showers of Blessings.
URL:https://arathana.com/event/sunday-worship-service-340/
LOCATION:Arathana Church\, 300 E. Yamato Road\, Boca Raton\, FL\, 33431\, United States
CATEGORIES:Sunday Worship Service
ORGANIZER;CN="Arathana - Church":MAILTO:info@arathana.com
END:VEVENT
BEGIN:VEVENT
DTSTART;TZID=America/New_York:20250511T150000
DTEND;TZID=America/New_York:20250511T170000
DTSTAMP:20260422T181604
CREATED:20241127T050723Z
LAST-MODIFIED:20241127T050723Z
UID:3447-1746975600-1746982800@arathana.com
SUMMARY:Sunday Worship Service
DESCRIPTION:Join our worship services with your family and friends and receive showers of Blessings.
URL:https://arathana.com/event/sunday-worship-service-341/
LOCATION:Arathana Church\, 300 E. Yamato Road\, Boca Raton\, FL\, 33431\, United States
CATEGORIES:Sunday Worship Service
ORGANIZER;CN="Arathana - Church":MAILTO:info@arathana.com
END:VEVENT
BEGIN:VEVENT
DTSTART;TZID=America/New_York:20250518T150000
DTEND;TZID=America/New_York:20250518T170000
DTSTAMP:20260422T181604
CREATED:20241127T050724Z
LAST-MODIFIED:20241127T050724Z
UID:3448-1747580400-1747587600@arathana.com
SUMMARY:Sunday Worship Service
DESCRIPTION:Join our worship services with your family and friends and receive showers of Blessings.
URL:https://arathana.com/event/sunday-worship-service-342/
LOCATION:Arathana Church\, 300 E. Yamato Road\, Boca Raton\, FL\, 33431\, United States
CATEGORIES:Sunday Worship Service
ORGANIZER;CN="Arathana - Church":MAILTO:info@arathana.com
END:VEVENT
BEGIN:VEVENT
DTSTART;TZID=America/New_York:20250525T150000
DTEND;TZID=America/New_York:20250525T170000
DTSTAMP:20260422T181604
CREATED:20241127T050737Z
LAST-MODIFIED:20241127T050737Z
UID:3449-1748185200-1748192400@arathana.com
SUMMARY:Sunday Worship Service
DESCRIPTION:Join our worship services with your family and friends and receive showers of Blessings.
URL:https://arathana.com/event/sunday-worship-service-343/
LOCATION:Arathana Church\, 300 E. Yamato Road\, Boca Raton\, FL\, 33431\, United States
CATEGORIES:Sunday Worship Service
ORGANIZER;CN="Arathana - Church":MAILTO:info@arathana.com
END:VEVENT
BEGIN:VEVENT
DTSTART;TZID=America/New_York:20250601T050000
DTEND;TZID=America/New_York:20250601T060000
DTSTAMP:20260422T181604
CREATED:20241127T053435Z
LAST-MODIFIED:20241127T053435Z
UID:3494-1748754000-1748757600@arathana.com
SUMMARY:First of June - Prayer
DESCRIPTION:First of Month – Prayer Line\nJoin the conference prayer line on every first day of month startingat 5:00 am. \nJoin us through ZOOM at:\nhttps://us06web.zoom.us/j/9556640647?pwd=bUlMMzZCdTZqNTdrU210SnRVY2ovZz09
URL:https://arathana.com/event/first-of-june-prayer-6/
LOCATION:FL
CATEGORIES:First of Month Prayer
ORGANIZER;CN="Arathana - Church":MAILTO:info@arathana.com
END:VEVENT
BEGIN:VEVENT
DTSTART;TZID=America/New_York:20250601T150000
DTEND;TZID=America/New_York:20250601T170000
DTSTAMP:20260422T181604
CREATED:20241127T050737Z
LAST-MODIFIED:20241127T050737Z
UID:3450-1748790000-1748797200@arathana.com
SUMMARY:Sunday Worship Service
DESCRIPTION:Join our worship services with your family and friends and receive showers of Blessings.
URL:https://arathana.com/event/sunday-worship-service-344/
LOCATION:Arathana Church\, 300 E. Yamato Road\, Boca Raton\, FL\, 33431\, United States
CATEGORIES:Sunday Worship Service
ORGANIZER;CN="Arathana - Church":MAILTO:info@arathana.com
END:VEVENT
BEGIN:VEVENT
DTSTART;TZID=America/New_York:20250608T150000
DTEND;TZID=America/New_York:20250608T170000
DTSTAMP:20260422T181604
CREATED:20241127T050738Z
LAST-MODIFIED:20241127T050738Z
UID:3451-1749394800-1749402000@arathana.com
SUMMARY:Sunday Worship Service
DESCRIPTION:Join our worship services with your family and friends and receive showers of Blessings.
URL:https://arathana.com/event/sunday-worship-service-345/
LOCATION:Arathana Church\, 300 E. Yamato Road\, Boca Raton\, FL\, 33431\, United States
CATEGORIES:Sunday Worship Service
ORGANIZER;CN="Arathana - Church":MAILTO:info@arathana.com
END:VEVENT
BEGIN:VEVENT
DTSTART;TZID=America/New_York:20250615T150000
DTEND;TZID=America/New_York:20250615T170000
DTSTAMP:20260422T181604
CREATED:20241127T050739Z
LAST-MODIFIED:20241127T050739Z
UID:3452-1749999600-1750006800@arathana.com
SUMMARY:Sunday Worship Service
DESCRIPTION:Join our worship services with your family and friends and receive showers of Blessings.
URL:https://arathana.com/event/sunday-worship-service-346/
LOCATION:Arathana Church\, 300 E. Yamato Road\, Boca Raton\, FL\, 33431\, United States
CATEGORIES:Sunday Worship Service
ORGANIZER;CN="Arathana - Church":MAILTO:info@arathana.com
END:VEVENT
BEGIN:VEVENT
DTSTART;TZID=America/New_York:20250622T150000
DTEND;TZID=America/New_York:20250622T170000
DTSTAMP:20260422T181604
CREATED:20241127T050739Z
LAST-MODIFIED:20241127T050739Z
UID:3453-1750604400-1750611600@arathana.com
SUMMARY:Sunday Worship Service
DESCRIPTION:Join our worship services with your family and friends and receive showers of Blessings.
URL:https://arathana.com/event/sunday-worship-service-347/
LOCATION:Arathana Church\, 300 E. Yamato Road\, Boca Raton\, FL\, 33431\, United States
CATEGORIES:Sunday Worship Service
ORGANIZER;CN="Arathana - Church":MAILTO:info@arathana.com
END:VEVENT
BEGIN:VEVENT
DTSTART;TZID=America/New_York:20250629T150000
DTEND;TZID=America/New_York:20250629T170000
DTSTAMP:20260422T181604
CREATED:20241127T050752Z
LAST-MODIFIED:20241127T050752Z
UID:3454-1751209200-1751216400@arathana.com
SUMMARY:Sunday Worship Service
DESCRIPTION:Join our worship services with your family and friends and receive showers of Blessings.
URL:https://arathana.com/event/sunday-worship-service-348/
LOCATION:Arathana Church\, 300 E. Yamato Road\, Boca Raton\, FL\, 33431\, United States
CATEGORIES:Sunday Worship Service
ORGANIZER;CN="Arathana - Church":MAILTO:info@arathana.com
END:VEVENT
BEGIN:VEVENT
DTSTART;TZID=America/New_York:20250701T050000
DTEND;TZID=America/New_York:20250701T060000
DTSTAMP:20260422T181604
CREATED:20241127T053437Z
LAST-MODIFIED:20241127T053437Z
UID:3495-1751346000-1751349600@arathana.com
SUMMARY:First of July - Prayer
DESCRIPTION:First of Month – Prayer Line\nJoin the conference prayer line on every first day of month startingat 5:00 am. \nJoin us through ZOOM at:\nhttps://us06web.zoom.us/j/9556640647?pwd=bUlMMzZCdTZqNTdrU210SnRVY2ovZz09
URL:https://arathana.com/event/first-of-july-prayer-6/
LOCATION:FL
CATEGORIES:First of Month Prayer
ORGANIZER;CN="Arathana - Church":MAILTO:info@arathana.com
END:VEVENT
BEGIN:VEVENT
DTSTART;TZID=America/New_York:20250706T150000
DTEND;TZID=America/New_York:20250706T170000
DTSTAMP:20260422T181604
CREATED:20241127T050753Z
LAST-MODIFIED:20241127T050753Z
UID:3455-1751814000-1751821200@arathana.com
SUMMARY:Sunday Worship Service
DESCRIPTION:Join our worship services with your family and friends and receive showers of Blessings.
URL:https://arathana.com/event/sunday-worship-service-349/
LOCATION:Arathana Church\, 300 E. Yamato Road\, Boca Raton\, FL\, 33431\, United States
CATEGORIES:Sunday Worship Service
ORGANIZER;CN="Arathana - Church":MAILTO:info@arathana.com
END:VEVENT
BEGIN:VEVENT
DTSTART;TZID=America/New_York:20250713T150000
DTEND;TZID=America/New_York:20250713T170000
DTSTAMP:20260422T181604
CREATED:20241127T050754Z
LAST-MODIFIED:20241127T050754Z
UID:3456-1752418800-1752426000@arathana.com
SUMMARY:Sunday Worship Service
DESCRIPTION:Join our worship services with your family and friends and receive showers of Blessings.
URL:https://arathana.com/event/sunday-worship-service-350/
LOCATION:Arathana Church\, 300 E. Yamato Road\, Boca Raton\, FL\, 33431\, United States
CATEGORIES:Sunday Worship Service
ORGANIZER;CN="Arathana - Church":MAILTO:info@arathana.com
END:VEVENT
BEGIN:VEVENT
DTSTART;TZID=America/New_York:20250720T150000
DTEND;TZID=America/New_York:20250720T170000
DTSTAMP:20260422T181604
CREATED:20241127T050754Z
LAST-MODIFIED:20241127T050754Z
UID:3457-1753023600-1753030800@arathana.com
SUMMARY:Sunday Worship Service
DESCRIPTION:Join our worship services with your family and friends and receive showers of Blessings.
URL:https://arathana.com/event/sunday-worship-service-351/
LOCATION:Arathana Church\, 300 E. Yamato Road\, Boca Raton\, FL\, 33431\, United States
CATEGORIES:Sunday Worship Service
ORGANIZER;CN="Arathana - Church":MAILTO:info@arathana.com
END:VEVENT
BEGIN:VEVENT
DTSTART;TZID=America/New_York:20250727T150000
DTEND;TZID=America/New_York:20250727T170000
DTSTAMP:20260422T181604
CREATED:20241127T050755Z
LAST-MODIFIED:20241127T050755Z
UID:3458-1753628400-1753635600@arathana.com
SUMMARY:Sunday Worship Service
DESCRIPTION:Join our worship services with your family and friends and receive showers of Blessings.
URL:https://arathana.com/event/sunday-worship-service-352/
LOCATION:Arathana Church\, 300 E. Yamato Road\, Boca Raton\, FL\, 33431\, United States
CATEGORIES:Sunday Worship Service
ORGANIZER;CN="Arathana - Church":MAILTO:info@arathana.com
END:VEVENT
BEGIN:VEVENT
DTSTART;TZID=America/New_York:20250801T050000
DTEND;TZID=America/New_York:20250801T060000
DTSTAMP:20260422T181604
CREATED:20241127T053437Z
LAST-MODIFIED:20241127T053437Z
UID:3496-1754024400-1754028000@arathana.com
SUMMARY:First of August - Prayer
DESCRIPTION:First of Month – Prayer Line\nJoin the conference prayer line on every first day of month startingat 5:00 am. \nJoin us through ZOOM at:\nhttps://us06web.zoom.us/j/9556640647?pwd=bUlMMzZCdTZqNTdrU210SnRVY2ovZz09
URL:https://arathana.com/event/first-of-august-prayer-6/
LOCATION:FL
CATEGORIES:First of Month Prayer
ORGANIZER;CN="Arathana - Church":MAILTO:info@arathana.com
END:VEVENT
BEGIN:VEVENT
DTSTART;TZID=America/New_York:20250803T150000
DTEND;TZID=America/New_York:20250803T170000
DTSTAMP:20260422T181604
CREATED:20241127T050756Z
LAST-MODIFIED:20241127T050756Z
UID:3459-1754233200-1754240400@arathana.com
SUMMARY:Sunday Worship Service
DESCRIPTION:Join our worship services with your family and friends and receive showers of Blessings.
URL:https://arathana.com/event/sunday-worship-service-353/
LOCATION:Arathana Church\, 300 E. Yamato Road\, Boca Raton\, FL\, 33431\, United States
CATEGORIES:Sunday Worship Service
ORGANIZER;CN="Arathana - Church":MAILTO:info@arathana.com
END:VEVENT
BEGIN:VEVENT
DTSTART;TZID=America/New_York:20250810T150000
DTEND;TZID=America/New_York:20250810T170000
DTSTAMP:20260422T181604
CREATED:20241127T050757Z
LAST-MODIFIED:20241127T050757Z
UID:3460-1754838000-1754845200@arathana.com
SUMMARY:Sunday Worship Service
DESCRIPTION:Join our worship services with your family and friends and receive showers of Blessings.
URL:https://arathana.com/event/sunday-worship-service-354/
LOCATION:Arathana Church\, 300 E. Yamato Road\, Boca Raton\, FL\, 33431\, United States
CATEGORIES:Sunday Worship Service
ORGANIZER;CN="Arathana - Church":MAILTO:info@arathana.com
END:VEVENT
BEGIN:VEVENT
DTSTART;TZID=America/New_York:20250817T150000
DTEND;TZID=America/New_York:20250817T170000
DTSTAMP:20260422T181604
CREATED:20241127T050758Z
LAST-MODIFIED:20241127T050758Z
UID:3461-1755442800-1755450000@arathana.com
SUMMARY:Sunday Worship Service
DESCRIPTION:Join our worship services with your family and friends and receive showers of Blessings.
URL:https://arathana.com/event/sunday-worship-service-355/
LOCATION:Arathana Church\, 300 E. Yamato Road\, Boca Raton\, FL\, 33431\, United States
CATEGORIES:Sunday Worship Service
ORGANIZER;CN="Arathana - Church":MAILTO:info@arathana.com
END:VEVENT
BEGIN:VEVENT
DTSTART;TZID=America/New_York:20250824T150000
DTEND;TZID=America/New_York:20250824T170000
DTSTAMP:20260422T181604
CREATED:20241127T050758Z
LAST-MODIFIED:20241127T050758Z
UID:3462-1756047600-1756054800@arathana.com
SUMMARY:Sunday Worship Service
DESCRIPTION:Join our worship services with your family and friends and receive showers of Blessings.
URL:https://arathana.com/event/sunday-worship-service-356/
LOCATION:Arathana Church\, 300 E. Yamato Road\, Boca Raton\, FL\, 33431\, United States
CATEGORIES:Sunday Worship Service
ORGANIZER;CN="Arathana - Church":MAILTO:info@arathana.com
END:VEVENT
BEGIN:VEVENT
DTSTART;TZID=America/New_York:20250831T150000
DTEND;TZID=America/New_York:20250831T170000
DTSTAMP:20260422T181604
CREATED:20241127T050759Z
LAST-MODIFIED:20241127T050759Z
UID:3463-1756652400-1756659600@arathana.com
SUMMARY:Sunday Worship Service
DESCRIPTION:Join our worship services with your family and friends and receive showers of Blessings.
URL:https://arathana.com/event/sunday-worship-service-357/
LOCATION:Arathana Church\, 300 E. Yamato Road\, Boca Raton\, FL\, 33431\, United States
CATEGORIES:Sunday Worship Service
ORGANIZER;CN="Arathana - Church":MAILTO:info@arathana.com
END:VEVENT
BEGIN:VEVENT
DTSTART;TZID=America/New_York:20250901T050000
DTEND;TZID=America/New_York:20250901T060000
DTSTAMP:20260422T181604
CREATED:20241127T053438Z
LAST-MODIFIED:20241127T053438Z
UID:3497-1756702800-1756706400@arathana.com
SUMMARY:First of September - Prayer
DESCRIPTION:First of Month – Prayer Line\nJoin the conference prayer line on every first day of month startingat 5:00 am. \nJoin us through ZOOM at:\nhttps://us06web.zoom.us/j/9556640647?pwd=bUlMMzZCdTZqNTdrU210SnRVY2ovZz09
URL:https://arathana.com/event/first-of-september-prayer-6/
LOCATION:FL
CATEGORIES:First of Month Prayer
ORGANIZER;CN="Arathana - Church":MAILTO:info@arathana.com
END:VEVENT
BEGIN:VEVENT
DTSTART;TZID=America/New_York:20250907T150000
DTEND;TZID=America/New_York:20250907T170000
DTSTAMP:20260422T181604
CREATED:20241127T050816Z
LAST-MODIFIED:20241127T050816Z
UID:3464-1757257200-1757264400@arathana.com
SUMMARY:Sunday Worship Service
DESCRIPTION:Join our worship services with your family and friends and receive showers of Blessings.
URL:https://arathana.com/event/sunday-worship-service-358/
LOCATION:Arathana Church\, 300 E. Yamato Road\, Boca Raton\, FL\, 33431\, United States
CATEGORIES:Sunday Worship Service
ORGANIZER;CN="Arathana - Church":MAILTO:info@arathana.com
END:VEVENT
BEGIN:VEVENT
DTSTART;TZID=America/New_York:20250914T150000
DTEND;TZID=America/New_York:20250914T170000
DTSTAMP:20260422T181604
CREATED:20241127T050816Z
LAST-MODIFIED:20241127T050816Z
UID:3465-1757862000-1757869200@arathana.com
SUMMARY:Sunday Worship Service
DESCRIPTION:Join our worship services with your family and friends and receive showers of Blessings.
URL:https://arathana.com/event/sunday-worship-service-359/
LOCATION:Arathana Church\, 300 E. Yamato Road\, Boca Raton\, FL\, 33431\, United States
CATEGORIES:Sunday Worship Service
ORGANIZER;CN="Arathana - Church":MAILTO:info@arathana.com
END:VEVENT
END:VCALENDAR