BEGIN:VCALENDAR
VERSION:2.0
PRODID:-//Arathana - To know Him and make Him known - ECPv6.15.20//NONSGML v1.0//EN
CALSCALE:GREGORIAN
METHOD:PUBLISH
X-WR-CALNAME:Arathana - To know Him and make Him known
X-ORIGINAL-URL:https://arathana.com
X-WR-CALDESC:Events for Arathana - To know Him and make Him known
REFRESH-INTERVAL;VALUE=DURATION:PT1H
X-Robots-Tag:noindex
X-PUBLISHED-TTL:PT1H
BEGIN:VTIMEZONE
TZID:America/New_York
BEGIN:DAYLIGHT
TZOFFSETFROM:-0500
TZOFFSETTO:-0400
TZNAME:EDT
DTSTART:20220313T070000
END:DAYLIGHT
BEGIN:STANDARD
TZOFFSETFROM:-0400
TZOFFSETTO:-0500
TZNAME:EST
DTSTART:20221106T060000
END:STANDARD
BEGIN:DAYLIGHT
TZOFFSETFROM:-0500
TZOFFSETTO:-0400
TZNAME:EDT
DTSTART:20230312T070000
END:DAYLIGHT
BEGIN:STANDARD
TZOFFSETFROM:-0400
TZOFFSETTO:-0500
TZNAME:EST
DTSTART:20231105T060000
END:STANDARD
BEGIN:DAYLIGHT
TZOFFSETFROM:-0500
TZOFFSETTO:-0400
TZNAME:EDT
DTSTART:20240310T070000
END:DAYLIGHT
BEGIN:STANDARD
TZOFFSETFROM:-0400
TZOFFSETTO:-0500
TZNAME:EST
DTSTART:20241103T060000
END:STANDARD
BEGIN:DAYLIGHT
TZOFFSETFROM:-0500
TZOFFSETTO:-0400
TZNAME:EDT
DTSTART:20250309T070000
END:DAYLIGHT
BEGIN:STANDARD
TZOFFSETFROM:-0400
TZOFFSETTO:-0500
TZNAME:EST
DTSTART:20251102T060000
END:STANDARD
END:VTIMEZONE
BEGIN:VEVENT
DTSTART;TZID=America/New_York:20240211T143000
DTEND;TZID=America/New_York:20240211T163000
DTSTAMP:20260422T181628
CREATED:20230414T232505Z
LAST-MODIFIED:20230416T035203Z
UID:3148-1707661800-1707669000@arathana.com
SUMMARY:Sunday Worship Service
DESCRIPTION:Join us with our worship services with your family and friends and receive showers of Blessings.
URL:https://arathana.com/event/sunday-worship-service-310/
LOCATION:Arathana Church\, 300 E. Yamato Road\, Boca Raton\, FL\, 33431\, United States
CATEGORIES:Sunday Worship Service
ORGANIZER;CN="Arathana - Church":MAILTO:info@arathana.com
END:VEVENT
BEGIN:VEVENT
DTSTART;TZID=America/New_York:20240204T143000
DTEND;TZID=America/New_York:20240204T163000
DTSTAMP:20260422T181628
CREATED:20230414T232504Z
LAST-MODIFIED:20230416T035203Z
UID:3147-1707057000-1707064200@arathana.com
SUMMARY:Sunday Worship Service
DESCRIPTION:Join us with our worship services with your family and friends and receive showers of Blessings.
URL:https://arathana.com/event/sunday-worship-service-309/
LOCATION:Arathana Church\, 300 E. Yamato Road\, Boca Raton\, FL\, 33431\, United States
CATEGORIES:Sunday Worship Service
ORGANIZER;CN="Arathana - Church":MAILTO:info@arathana.com
END:VEVENT
BEGIN:VEVENT
DTSTART;TZID=America/New_York:20240202T210000
DTEND;TZID=America/New_York:20240202T220000
DTSTAMP:20260422T181628
CREATED:20230901T221806Z
LAST-MODIFIED:20230901T222725Z
UID:3358-1706907600-1706911200@arathana.com
SUMMARY:Womens Bible Study
DESCRIPTION:Join our women’s Bible study to strongly rooted in the word of GOD. \nJoin and let us build HIS Kingdom together. \n  \nZoom Link \nPasscode 1122
URL:https://arathana.com/event/womens-bible-study-13/
LOCATION:Arathana Church\, 300 E. Yamato Road\, Boca Raton\, FL\, 33431\, United States
CATEGORIES:Bible Study
ORGANIZER;CN="Arathana - Church":MAILTO:info@arathana.com
END:VEVENT
BEGIN:VEVENT
DTSTART;TZID=America/New_York:20240128T143000
DTEND;TZID=America/New_York:20240128T163000
DTSTAMP:20260422T181628
CREATED:20230414T232504Z
LAST-MODIFIED:20230416T035203Z
UID:3146-1706452200-1706459400@arathana.com
SUMMARY:Sunday Worship Service
DESCRIPTION:Join us with our worship services with your family and friends and receive showers of Blessings.
URL:https://arathana.com/event/sunday-worship-service-308/
LOCATION:Arathana Church\, 300 E. Yamato Road\, Boca Raton\, FL\, 33431\, United States
CATEGORIES:Sunday Worship Service
ORGANIZER;CN="Arathana - Church":MAILTO:info@arathana.com
END:VEVENT
BEGIN:VEVENT
DTSTART;TZID=America/New_York:20240121T143000
DTEND;TZID=America/New_York:20240121T163000
DTSTAMP:20260422T181628
CREATED:20230414T232503Z
LAST-MODIFIED:20230416T035202Z
UID:3145-1705847400-1705854600@arathana.com
SUMMARY:Sunday Worship Service
DESCRIPTION:Join us with our worship services with your family and friends and receive showers of Blessings.
URL:https://arathana.com/event/sunday-worship-service-307/
LOCATION:Arathana Church\, 300 E. Yamato Road\, Boca Raton\, FL\, 33431\, United States
CATEGORIES:Sunday Worship Service
ORGANIZER;CN="Arathana - Church":MAILTO:info@arathana.com
END:VEVENT
BEGIN:VEVENT
DTSTART;TZID=America/New_York:20240119T210000
DTEND;TZID=America/New_York:20240119T220000
DTSTAMP:20260422T181628
CREATED:20230901T221751Z
LAST-MODIFIED:20230901T222833Z
UID:3352-1705698000-1705701600@arathana.com
SUMMARY:Womens Bible Study
DESCRIPTION:Join our women’s Bible study to strongly rooted in the word of GOD. \nJoin and let us build HIS Kingdom together. \n  \nZoom Link \nPasscode 1122
URL:https://arathana.com/event/womens-bible-study-12/
LOCATION:Arathana Church\, 300 E. Yamato Road\, Boca Raton\, FL\, 33431\, United States
CATEGORIES:Bible Study
ORGANIZER;CN="Arathana - Church":MAILTO:info@arathana.com
END:VEVENT
BEGIN:VEVENT
DTSTART;TZID=America/New_York:20240114T143000
DTEND;TZID=America/New_York:20240114T163000
DTSTAMP:20260422T181628
CREATED:20230414T232305Z
LAST-MODIFIED:20230416T035145Z
UID:3144-1705242600-1705249800@arathana.com
SUMMARY:Sunday Worship Service
DESCRIPTION:Join us with our worship services with your family and friends and receive showers of Blessings.
URL:https://arathana.com/event/sunday-worship-service-306/
LOCATION:Arathana Church\, 300 E. Yamato Road\, Boca Raton\, FL\, 33431\, United States
CATEGORIES:Sunday Worship Service
ORGANIZER;CN="Arathana - Church":MAILTO:info@arathana.com
END:VEVENT
BEGIN:VEVENT
DTSTART;TZID=America/New_York:20240107T143000
DTEND;TZID=America/New_York:20240107T163000
DTSTAMP:20260422T181628
CREATED:20230414T232304Z
LAST-MODIFIED:20230416T035145Z
UID:3143-1704637800-1704645000@arathana.com
SUMMARY:Sunday Worship Service
DESCRIPTION:Join us with our worship services with your family and friends and receive showers of Blessings.
URL:https://arathana.com/event/sunday-worship-service-305/
LOCATION:Arathana Church\, 300 E. Yamato Road\, Boca Raton\, FL\, 33431\, United States
CATEGORIES:Sunday Worship Service
ORGANIZER;CN="Arathana - Church":MAILTO:info@arathana.com
END:VEVENT
BEGIN:VEVENT
DTSTART;TZID=America/New_York:20240105T210000
DTEND;TZID=America/New_York:20240105T220000
DTSTAMP:20260422T181628
CREATED:20230901T221751Z
LAST-MODIFIED:20230901T223000Z
UID:3351-1704488400-1704492000@arathana.com
SUMMARY:Womens Bible Study
DESCRIPTION:Join our women’s Bible study to strongly rooted in the word of GOD. \nJoin and let us build HIS Kingdom together. \n  \nZoom Link \nPasscode 1122
URL:https://arathana.com/event/womens-bible-study-11/
LOCATION:Arathana Church\, 300 E. Yamato Road\, Boca Raton\, FL\, 33431\, United States
CATEGORIES:Bible Study
ORGANIZER;CN="Arathana - Church":MAILTO:info@arathana.com
END:VEVENT
BEGIN:VEVENT
DTSTART;TZID=America/New_York:20231231T223000
DTEND;TZID=America/New_York:20240101T013000
DTSTAMP:20260422T181628
CREATED:20230414T232303Z
LAST-MODIFIED:20231231T031431Z
UID:3142-1704061800-1704072600@arathana.com
SUMMARY:New Year's Eve Service
DESCRIPTION:Join us with our worship services with your family and friends and receive showers of Blessings.
URL:https://arathana.com/event/sunday-worship-service-304/
LOCATION:Arathana Church\, 300 E. Yamato Road\, Boca Raton\, FL\, 33431\, United States
CATEGORIES:New Year Service
ORGANIZER;CN="Arathana - Church":MAILTO:info@arathana.com
END:VEVENT
BEGIN:VEVENT
DTSTART;TZID=America/New_York:20231224T143000
DTEND;TZID=America/New_York:20231224T163000
DTSTAMP:20260422T181628
CREATED:20230414T232303Z
LAST-MODIFIED:20230416T035144Z
UID:3141-1703428200-1703435400@arathana.com
SUMMARY:Sunday Worship Service
DESCRIPTION:Join us with our worship services with your family and friends and receive showers of Blessings.
URL:https://arathana.com/event/sunday-worship-service-303/
LOCATION:Arathana Church\, 300 E. Yamato Road\, Boca Raton\, FL\, 33431\, United States
CATEGORIES:Sunday Worship Service
ORGANIZER;CN="Arathana - Church":MAILTO:info@arathana.com
END:VEVENT
BEGIN:VEVENT
DTSTART;TZID=America/New_York:20231217T143000
DTEND;TZID=America/New_York:20231217T163000
DTSTAMP:20260422T181628
CREATED:20230414T232302Z
LAST-MODIFIED:20230416T035144Z
UID:3140-1702823400-1702830600@arathana.com
SUMMARY:Sunday Worship Service
DESCRIPTION:Join us with our worship services with your family and friends and receive showers of Blessings.
URL:https://arathana.com/event/sunday-worship-service-302/
LOCATION:Arathana Church\, 300 E. Yamato Road\, Boca Raton\, FL\, 33431\, United States
CATEGORIES:Sunday Worship Service
ORGANIZER;CN="Arathana - Church":MAILTO:info@arathana.com
END:VEVENT
BEGIN:VEVENT
DTSTART;TZID=America/New_York:20231215T210000
DTEND;TZID=America/New_York:20231215T220000
DTSTAMP:20260422T181628
CREATED:20230901T221751Z
LAST-MODIFIED:20230901T223030Z
UID:3350-1702674000-1702677600@arathana.com
SUMMARY:Womens Bible Study
DESCRIPTION:Join our women’s Bible study to strongly rooted in the word of GOD. \nJoin and let us build HIS Kingdom together. \n  \nZoom Link \nPasscode 1122
URL:https://arathana.com/event/womens-bible-study-10/
LOCATION:Arathana Church\, 300 E. Yamato Road\, Boca Raton\, FL\, 33431\, United States
CATEGORIES:Bible Study
ORGANIZER;CN="Arathana - Church":MAILTO:info@arathana.com
END:VEVENT
BEGIN:VEVENT
DTSTART;TZID=America/New_York:20231212T190000
DTEND;TZID=America/New_York:20231212T200000
DTSTAMP:20260422T181628
CREATED:20230504T020511Z
LAST-MODIFIED:20230504T032442Z
UID:3260-1702407600-1702411200@arathana.com
SUMMARY:Youth Bible Study
DESCRIPTION:Calling all youth! Please join us on Tuesday nights and engage with peers about biblical topics that apply to our lives today. Inspired\, fun and blessed times are expected! \nZoom Link \nPasscode 1122
URL:https://arathana.com/event/youth-bible-study-16/
LOCATION:Arathana – Zoom
CATEGORIES:Youth Bible Study
ORGANIZER;CN="Arathana - Church":MAILTO:info@arathana.com
END:VEVENT
BEGIN:VEVENT
DTSTART;TZID=America/New_York:20231210T143000
DTEND;TZID=America/New_York:20231210T163000
DTSTAMP:20260422T181628
CREATED:20230414T232249Z
LAST-MODIFIED:20230416T035134Z
UID:3139-1702218600-1702225800@arathana.com
SUMMARY:Sunday Worship Service
DESCRIPTION:Join us with our worship services with your family and friends and receive showers of Blessings.
URL:https://arathana.com/event/sunday-worship-service-301/
LOCATION:Arathana Church\, 300 E. Yamato Road\, Boca Raton\, FL\, 33431\, United States
CATEGORIES:Sunday Worship Service
ORGANIZER;CN="Arathana - Church":MAILTO:info@arathana.com
END:VEVENT
BEGIN:VEVENT
DTSTART;TZID=America/New_York:20231205T190000
DTEND;TZID=America/New_York:20231205T200000
DTSTAMP:20260422T181628
CREATED:20230504T020510Z
LAST-MODIFIED:20230504T030322Z
UID:3259-1701802800-1701806400@arathana.com
SUMMARY:Youth Bible Study
DESCRIPTION:Calling all youth! Please join us on Tuesday nights and engage with peers about biblical topics that apply to our lives today. Inspired\, fun and blessed times are expected! \n  \nZoom Link \nPasscode 1122
URL:https://arathana.com/event/youth-bible-study-15/
LOCATION:Arathana – Zoom
CATEGORIES:Youth Bible Study
ORGANIZER;CN="Arathana - Church":MAILTO:info@arathana.com
END:VEVENT
BEGIN:VEVENT
DTSTART;TZID=America/New_York:20231203T143000
DTEND;TZID=America/New_York:20231203T163000
DTSTAMP:20260422T181628
CREATED:20230414T232249Z
LAST-MODIFIED:20230416T035134Z
UID:3138-1701613800-1701621000@arathana.com
SUMMARY:Sunday Worship Service
DESCRIPTION:Join us with our worship services with your family and friends and receive showers of Blessings.
URL:https://arathana.com/event/sunday-worship-service-300/
LOCATION:Arathana Church\, 300 E. Yamato Road\, Boca Raton\, FL\, 33431\, United States
CATEGORIES:Sunday Worship Service
ORGANIZER;CN="Arathana - Church":MAILTO:info@arathana.com
END:VEVENT
BEGIN:VEVENT
DTSTART;TZID=America/New_York:20231201T210000
DTEND;TZID=America/New_York:20231201T220000
DTSTAMP:20260422T181628
CREATED:20230901T221750Z
LAST-MODIFIED:20230901T223049Z
UID:3349-1701464400-1701468000@arathana.com
SUMMARY:Womens Bible Study
DESCRIPTION:Join our women’s Bible study to strongly rooted in the word of GOD. \nJoin and let us build HIS Kingdom together. \n  \nZoom Link \nPasscode 1122
URL:https://arathana.com/event/womens-bible-study-9/
LOCATION:Arathana Church\, 300 E. Yamato Road\, Boca Raton\, FL\, 33431\, United States
CATEGORIES:Bible Study
ORGANIZER;CN="Arathana - Church":MAILTO:info@arathana.com
END:VEVENT
BEGIN:VEVENT
DTSTART;TZID=America/New_York:20231128T190000
DTEND;TZID=America/New_York:20231128T200000
DTSTAMP:20260422T181628
CREATED:20230504T020510Z
LAST-MODIFIED:20230504T030443Z
UID:3258-1701198000-1701201600@arathana.com
SUMMARY:Youth Bible Study
DESCRIPTION:Calling all youth! Please join us on Tuesday nights and engage with peers about biblical topics that apply to our lives today. Inspired\, fun and blessed times are expected! \n  \nZoom Link \nPasscode 1122
URL:https://arathana.com/event/youth-bible-study-14/
LOCATION:Arathana – Zoom
CATEGORIES:Youth Bible Study
ORGANIZER;CN="Arathana - Church":MAILTO:info@arathana.com
END:VEVENT
BEGIN:VEVENT
DTSTART;TZID=America/New_York:20231126T143000
DTEND;TZID=America/New_York:20231126T163000
DTSTAMP:20260422T181628
CREATED:20230414T232248Z
LAST-MODIFIED:20230416T035134Z
UID:3137-1701009000-1701016200@arathana.com
SUMMARY:Sunday Worship Service
DESCRIPTION:Join us with our worship services with your family and friends and receive showers of Blessings.
URL:https://arathana.com/event/sunday-worship-service-299/
LOCATION:Arathana Church\, 300 E. Yamato Road\, Boca Raton\, FL\, 33431\, United States
CATEGORIES:Sunday Worship Service
ORGANIZER;CN="Arathana - Church":MAILTO:info@arathana.com
END:VEVENT
BEGIN:VEVENT
DTSTART;TZID=America/New_York:20231119T143000
DTEND;TZID=America/New_York:20231119T163000
DTSTAMP:20260422T181628
CREATED:20230414T232248Z
LAST-MODIFIED:20230416T035133Z
UID:3136-1700404200-1700411400@arathana.com
SUMMARY:Sunday Worship Service
DESCRIPTION:Join us with our worship services with your family and friends and receive showers of Blessings.
URL:https://arathana.com/event/sunday-worship-service-298/
LOCATION:Arathana Church\, 300 E. Yamato Road\, Boca Raton\, FL\, 33431\, United States
CATEGORIES:Sunday Worship Service
ORGANIZER;CN="Arathana - Church":MAILTO:info@arathana.com
END:VEVENT
BEGIN:VEVENT
DTSTART;TZID=America/New_York:20231117T210000
DTEND;TZID=America/New_York:20231117T220000
DTSTAMP:20260422T181628
CREATED:20230901T221750Z
LAST-MODIFIED:20230901T223115Z
UID:3348-1700254800-1700258400@arathana.com
SUMMARY:Womens Bible Study
DESCRIPTION:Join our women’s Bible study to strongly rooted in the word of GOD. \nJoin and let us build HIS Kingdom together. \n  \nZoom Link \nPasscode 1122
URL:https://arathana.com/event/womens-bible-study-8/
LOCATION:Arathana Church\, 300 E. Yamato Road\, Boca Raton\, FL\, 33431\, United States
CATEGORIES:Bible Study
ORGANIZER;CN="Arathana - Church":MAILTO:info@arathana.com
END:VEVENT
BEGIN:VEVENT
DTSTART;TZID=America/New_York:20231114T190000
DTEND;TZID=America/New_York:20231114T200000
DTSTAMP:20260422T181628
CREATED:20230504T020456Z
LAST-MODIFIED:20230504T030628Z
UID:3257-1699988400-1699992000@arathana.com
SUMMARY:Youth Bible Study
DESCRIPTION:Calling all youth! Please join us on Tuesday nights and engage with peers about biblical topics that apply to our lives today. Inspired\, fun and blessed times are expected! \n  \nZoom Link \nPasscode 1122
URL:https://arathana.com/event/youth-bible-study-13/
LOCATION:Arathana – Zoom
CATEGORIES:Youth Bible Study
ORGANIZER;CN="Arathana - Church":MAILTO:info@arathana.com
END:VEVENT
BEGIN:VEVENT
DTSTART;TZID=America/New_York:20231112T143000
DTEND;TZID=America/New_York:20231112T163000
DTSTAMP:20260422T181628
CREATED:20230414T232247Z
LAST-MODIFIED:20230416T035133Z
UID:3135-1699799400-1699806600@arathana.com
SUMMARY:Sunday Worship Service
DESCRIPTION:Join us with our worship services with your family and friends and receive showers of Blessings.
URL:https://arathana.com/event/sunday-worship-service-297/
LOCATION:Arathana Church\, 300 E. Yamato Road\, Boca Raton\, FL\, 33431\, United States
CATEGORIES:Sunday Worship Service
ORGANIZER;CN="Arathana - Church":MAILTO:info@arathana.com
END:VEVENT
BEGIN:VEVENT
DTSTART;TZID=America/New_York:20231107T190000
DTEND;TZID=America/New_York:20231107T200000
DTSTAMP:20260422T181628
CREATED:20230504T020456Z
LAST-MODIFIED:20230504T030731Z
UID:3256-1699383600-1699387200@arathana.com
SUMMARY:Youth Bible Study
DESCRIPTION:Calling all youth! Please join us on Tuesday nights and engage with peers about biblical topics that apply to our lives today. Inspired\, fun and blessed times are expected! \n  \nZoom Link \nPasscode 1122
URL:https://arathana.com/event/youth-bible-study-12/
LOCATION:Arathana – Zoom
CATEGORIES:Youth Bible Study
ORGANIZER;CN="Arathana - Church":MAILTO:info@arathana.com
END:VEVENT
BEGIN:VEVENT
DTSTART;TZID=America/New_York:20231105T143000
DTEND;TZID=America/New_York:20231105T163000
DTSTAMP:20260422T181628
CREATED:20230414T232234Z
LAST-MODIFIED:20230416T035126Z
UID:3134-1699194600-1699201800@arathana.com
SUMMARY:Sunday Worship Service
DESCRIPTION:Join us with our worship services with your family and friends and receive showers of Blessings.
URL:https://arathana.com/event/sunday-worship-service-296/
LOCATION:Arathana Church\, 300 E. Yamato Road\, Boca Raton\, FL\, 33431\, United States
CATEGORIES:Sunday Worship Service
ORGANIZER;CN="Arathana - Church":MAILTO:info@arathana.com
END:VEVENT
BEGIN:VEVENT
DTSTART;TZID=America/New_York:20231103T210000
DTEND;TZID=America/New_York:20231103T220000
DTSTAMP:20260422T181628
CREATED:20230901T221749Z
LAST-MODIFIED:20230901T223233Z
UID:3347-1699045200-1699048800@arathana.com
SUMMARY:Womens Bible Study
DESCRIPTION:Join our women’s Bible study to strongly rooted in the word of GOD. \nJoin and let us build HIS Kingdom together. \n  \nZoom Link \nPasscode 1122
URL:https://arathana.com/event/womens-bible-study-7/
LOCATION:Arathana Church\, 300 E. Yamato Road\, Boca Raton\, FL\, 33431\, United States
CATEGORIES:Bible Study
ORGANIZER;CN="Arathana - Church":MAILTO:info@arathana.com
END:VEVENT
BEGIN:VEVENT
DTSTART;TZID=America/New_York:20231031T190000
DTEND;TZID=America/New_York:20231031T200000
DTSTAMP:20260422T181628
CREATED:20230504T020456Z
LAST-MODIFIED:20230504T030831Z
UID:3255-1698778800-1698782400@arathana.com
SUMMARY:Youth Bible Study
DESCRIPTION:Calling all youth! Please join us on Tuesday nights and engage with peers about biblical topics that apply to our lives today. Inspired\, fun and blessed times are expected! \n  \nZoom Link \nPasscode 1122
URL:https://arathana.com/event/youth-bible-study-11/
LOCATION:Arathana – Zoom
CATEGORIES:Youth Bible Study
ORGANIZER;CN="Arathana - Church":MAILTO:info@arathana.com
END:VEVENT
BEGIN:VEVENT
DTSTART;TZID=America/New_York:20231029T143000
DTEND;TZID=America/New_York:20231029T163000
DTSTAMP:20260422T181628
CREATED:20230414T232234Z
LAST-MODIFIED:20230416T035126Z
UID:3133-1698589800-1698597000@arathana.com
SUMMARY:Sunday Worship Service
DESCRIPTION:Join us with our worship services with your family and friends and receive showers of Blessings.
URL:https://arathana.com/event/sunday-worship-service-295/
LOCATION:Arathana Church\, 300 E. Yamato Road\, Boca Raton\, FL\, 33431\, United States
CATEGORIES:Sunday Worship Service
ORGANIZER;CN="Arathana - Church":MAILTO:info@arathana.com
END:VEVENT
BEGIN:VEVENT
DTSTART;TZID=America/New_York:20231024T190000
DTEND;TZID=America/New_York:20231024T200000
DTSTAMP:20260422T181628
CREATED:20230504T020455Z
LAST-MODIFIED:20230504T031116Z
UID:3254-1698174000-1698177600@arathana.com
SUMMARY:Youth Bible Study
DESCRIPTION:Calling all youth! Please join us on Tuesday nights and engage with peers about biblical topics that apply to our lives today. Inspired\, fun and blessed times are expected! \n  \nZoom Link \nPasscode 1122
URL:https://arathana.com/event/youth-bible-study-10/
LOCATION:Arathana – Zoom
CATEGORIES:Youth Bible Study
ORGANIZER;CN="Arathana - Church":MAILTO:info@arathana.com
END:VEVENT
END:VCALENDAR