BEGIN:VCALENDAR
VERSION:2.0
PRODID:-//Arathana - To know Him and make Him known - ECPv6.15.20//NONSGML v1.0//EN
CALSCALE:GREGORIAN
METHOD:PUBLISH
X-ORIGINAL-URL:https://arathana.com
X-WR-CALDESC:Events for Arathana - To know Him and make Him known
REFRESH-INTERVAL;VALUE=DURATION:PT1H
X-Robots-Tag:noindex
X-PUBLISHED-TTL:PT1H
BEGIN:VTIMEZONE
TZID:America/New_York
BEGIN:DAYLIGHT
TZOFFSETFROM:-0500
TZOFFSETTO:-0400
TZNAME:EDT
DTSTART:20230312T070000
END:DAYLIGHT
BEGIN:STANDARD
TZOFFSETFROM:-0400
TZOFFSETTO:-0500
TZNAME:EST
DTSTART:20231105T060000
END:STANDARD
BEGIN:DAYLIGHT
TZOFFSETFROM:-0500
TZOFFSETTO:-0400
TZNAME:EDT
DTSTART:20240310T070000
END:DAYLIGHT
BEGIN:STANDARD
TZOFFSETFROM:-0400
TZOFFSETTO:-0500
TZNAME:EST
DTSTART:20241103T060000
END:STANDARD
BEGIN:DAYLIGHT
TZOFFSETFROM:-0500
TZOFFSETTO:-0400
TZNAME:EDT
DTSTART:20250309T070000
END:DAYLIGHT
BEGIN:STANDARD
TZOFFSETFROM:-0400
TZOFFSETTO:-0500
TZNAME:EST
DTSTART:20251102T060000
END:STANDARD
BEGIN:DAYLIGHT
TZOFFSETFROM:-0500
TZOFFSETTO:-0400
TZNAME:EDT
DTSTART:20260308T070000
END:DAYLIGHT
BEGIN:STANDARD
TZOFFSETFROM:-0400
TZOFFSETTO:-0500
TZNAME:EST
DTSTART:20261101T060000
END:STANDARD
END:VTIMEZONE
BEGIN:VEVENT
DTSTART;TZID=America/New_York:20241222T150000
DTEND;TZID=America/New_York:20241222T170000
DTSTAMP:20260422T183333
CREATED:20241127T050611Z
LAST-MODIFIED:20241127T050611Z
UID:3427-1734879600-1734886800@arathana.com
SUMMARY:Sunday Worship Service
DESCRIPTION:Join our worship services with your family and friends and receive showers of Blessings.
URL:https://arathana.com/event/sunday-worship-service-321/
LOCATION:Arathana Church\, 300 E. Yamato Road\, Boca Raton\, FL\, 33431\, United States
CATEGORIES:Sunday Worship Service
ORGANIZER;CN="Arathana - Church":MAILTO:info@arathana.com
END:VEVENT
BEGIN:VEVENT
DTSTART;TZID=America/New_York:20241225T103000
DTEND;TZID=America/New_York:20241225T130000
DTSTAMP:20260422T183333
CREATED:20241201T041035Z
LAST-MODIFIED:20241201T041035Z
UID:3509-1735122600-1735131600@arathana.com
SUMMARY:Christmas Service - 2024
DESCRIPTION:
URL:https://arathana.com/event/christmas-service-2024/
LOCATION:Arathana Church\, 300 E. Yamato Road\, Boca Raton\, FL\, 33431\, United States
ORGANIZER;CN="Arathana - Church":MAILTO:info@arathana.com
END:VEVENT
BEGIN:VEVENT
DTSTART;TZID=America/New_York:20241229T150000
DTEND;TZID=America/New_York:20241229T170000
DTSTAMP:20260422T183333
CREATED:20241127T050611Z
LAST-MODIFIED:20241127T050611Z
UID:3428-1735484400-1735491600@arathana.com
SUMMARY:Sunday Worship Service
DESCRIPTION:Join our worship services with your family and friends and receive showers of Blessings.
URL:https://arathana.com/event/sunday-worship-service-322/
LOCATION:Arathana Church\, 300 E. Yamato Road\, Boca Raton\, FL\, 33431\, United States
CATEGORIES:Sunday Worship Service
ORGANIZER;CN="Arathana - Church":MAILTO:info@arathana.com
END:VEVENT
BEGIN:VEVENT
DTSTART;TZID=America/New_York:20250105T150000
DTEND;TZID=America/New_York:20250105T170000
DTSTAMP:20260422T183333
CREATED:20241127T050613Z
LAST-MODIFIED:20241127T050613Z
UID:3429-1736089200-1736096400@arathana.com
SUMMARY:Sunday Worship Service
DESCRIPTION:Join our worship services with your family and friends and receive showers of Blessings.
URL:https://arathana.com/event/sunday-worship-service-323/
LOCATION:Arathana Church\, 300 E. Yamato Road\, Boca Raton\, FL\, 33431\, United States
CATEGORIES:Sunday Worship Service
ORGANIZER;CN="Arathana - Church":MAILTO:info@arathana.com
END:VEVENT
BEGIN:VEVENT
DTSTART;TZID=America/New_York:20250112T150000
DTEND;TZID=America/New_York:20250112T170000
DTSTAMP:20260422T183333
CREATED:20241127T050614Z
LAST-MODIFIED:20241127T050614Z
UID:3430-1736694000-1736701200@arathana.com
SUMMARY:Sunday Worship Service
DESCRIPTION:Join our worship services with your family and friends and receive showers of Blessings.
URL:https://arathana.com/event/sunday-worship-service-324/
LOCATION:Arathana Church\, 300 E. Yamato Road\, Boca Raton\, FL\, 33431\, United States
CATEGORIES:Sunday Worship Service
ORGANIZER;CN="Arathana - Church":MAILTO:info@arathana.com
END:VEVENT
BEGIN:VEVENT
DTSTART;TZID=America/New_York:20250119T150000
DTEND;TZID=America/New_York:20250119T170000
DTSTAMP:20260422T183333
CREATED:20241127T050614Z
LAST-MODIFIED:20241127T050614Z
UID:3431-1737298800-1737306000@arathana.com
SUMMARY:Sunday Worship Service
DESCRIPTION:Join our worship services with your family and friends and receive showers of Blessings.
URL:https://arathana.com/event/sunday-worship-service-325/
LOCATION:Arathana Church\, 300 E. Yamato Road\, Boca Raton\, FL\, 33431\, United States
CATEGORIES:Sunday Worship Service
ORGANIZER;CN="Arathana - Church":MAILTO:info@arathana.com
END:VEVENT
BEGIN:VEVENT
DTSTART;TZID=America/New_York:20250126T150000
DTEND;TZID=America/New_York:20250126T170000
DTSTAMP:20260422T183333
CREATED:20241127T050615Z
LAST-MODIFIED:20241127T050615Z
UID:3432-1737903600-1737910800@arathana.com
SUMMARY:Sunday Worship Service
DESCRIPTION:Join our worship services with your family and friends and receive showers of Blessings.
URL:https://arathana.com/event/sunday-worship-service-326/
LOCATION:Arathana Church\, 300 E. Yamato Road\, Boca Raton\, FL\, 33431\, United States
CATEGORIES:Sunday Worship Service
ORGANIZER;CN="Arathana - Church":MAILTO:info@arathana.com
END:VEVENT
BEGIN:VEVENT
DTSTART;TZID=America/New_York:20250201T050000
DTEND;TZID=America/New_York:20250201T060000
DTSTAMP:20260422T183333
CREATED:20241127T053433Z
LAST-MODIFIED:20241127T053433Z
UID:3490-1738386000-1738389600@arathana.com
SUMMARY:First of February - Prayer
DESCRIPTION:First of Month – Prayer Line\nJoin the conference prayer line on every first day of month startingat 5:00 am. \nJoin us through ZOOM at:\nhttps://us06web.zoom.us/j/9556640647?pwd=bUlMMzZCdTZqNTdrU210SnRVY2ovZz09
URL:https://arathana.com/event/first-of-february-prayer-6/
CATEGORIES:First of Month Prayer
ORGANIZER;CN="Arathana - Church":MAILTO:info@arathana.com
END:VEVENT
BEGIN:VEVENT
DTSTART;TZID=America/New_York:20250202T150000
DTEND;TZID=America/New_York:20250202T170000
DTSTAMP:20260422T183333
CREATED:20241127T050615Z
LAST-MODIFIED:20241127T050615Z
UID:3433-1738508400-1738515600@arathana.com
SUMMARY:Sunday Worship Service
DESCRIPTION:Join our worship services with your family and friends and receive showers of Blessings.
URL:https://arathana.com/event/sunday-worship-service-327/
LOCATION:Arathana Church\, 300 E. Yamato Road\, Boca Raton\, FL\, 33431\, United States
CATEGORIES:Sunday Worship Service
ORGANIZER;CN="Arathana - Church":MAILTO:info@arathana.com
END:VEVENT
BEGIN:VEVENT
DTSTART;TZID=America/New_York:20250209T150000
DTEND;TZID=America/New_York:20250209T170000
DTSTAMP:20260422T183333
CREATED:20241127T050630Z
LAST-MODIFIED:20241127T050630Z
UID:3434-1739113200-1739120400@arathana.com
SUMMARY:Sunday Worship Service
DESCRIPTION:Join our worship services with your family and friends and receive showers of Blessings.
URL:https://arathana.com/event/sunday-worship-service-328/
LOCATION:Arathana Church\, 300 E. Yamato Road\, Boca Raton\, FL\, 33431\, United States
CATEGORIES:Sunday Worship Service
ORGANIZER;CN="Arathana - Church":MAILTO:info@arathana.com
END:VEVENT
BEGIN:VEVENT
DTSTART;TZID=America/New_York:20250216T150000
DTEND;TZID=America/New_York:20250216T170000
DTSTAMP:20260422T183333
CREATED:20241127T050631Z
LAST-MODIFIED:20241127T050631Z
UID:3435-1739718000-1739725200@arathana.com
SUMMARY:Sunday Worship Service
DESCRIPTION:Join our worship services with your family and friends and receive showers of Blessings.
URL:https://arathana.com/event/sunday-worship-service-329/
LOCATION:Arathana Church\, 300 E. Yamato Road\, Boca Raton\, FL\, 33431\, United States
CATEGORIES:Sunday Worship Service
ORGANIZER;CN="Arathana - Church":MAILTO:info@arathana.com
END:VEVENT
BEGIN:VEVENT
DTSTART;TZID=America/New_York:20250223T150000
DTEND;TZID=America/New_York:20250223T170000
DTSTAMP:20260422T183333
CREATED:20241127T050631Z
LAST-MODIFIED:20241127T050631Z
UID:3436-1740322800-1740330000@arathana.com
SUMMARY:Sunday Worship Service
DESCRIPTION:Join our worship services with your family and friends and receive showers of Blessings.
URL:https://arathana.com/event/sunday-worship-service-330/
LOCATION:Arathana Church\, 300 E. Yamato Road\, Boca Raton\, FL\, 33431\, United States
CATEGORIES:Sunday Worship Service
ORGANIZER;CN="Arathana - Church":MAILTO:info@arathana.com
END:VEVENT
BEGIN:VEVENT
DTSTART;TZID=America/New_York:20250301T050000
DTEND;TZID=America/New_York:20250301T060000
DTSTAMP:20260422T183333
CREATED:20241127T053434Z
LAST-MODIFIED:20241127T053434Z
UID:3491-1740805200-1740808800@arathana.com
SUMMARY:First of March - Prayer
DESCRIPTION:First of Month – Prayer Line\nJoin the conference prayer line on every first day of month startingat 5:00 am. \nJoin us through ZOOM at:\nhttps://us06web.zoom.us/j/9556640647?pwd=bUlMMzZCdTZqNTdrU210SnRVY2ovZz09
URL:https://arathana.com/event/first-of-march-prayer-6/
CATEGORIES:First of Month Prayer
ORGANIZER;CN="Arathana - Church":MAILTO:info@arathana.com
END:VEVENT
BEGIN:VEVENT
DTSTART;TZID=America/New_York:20250302T150000
DTEND;TZID=America/New_York:20250302T170000
DTSTAMP:20260422T183333
CREATED:20241127T050632Z
LAST-MODIFIED:20241127T050632Z
UID:3437-1740927600-1740934800@arathana.com
SUMMARY:Sunday Worship Service
DESCRIPTION:Join our worship services with your family and friends and receive showers of Blessings.
URL:https://arathana.com/event/sunday-worship-service-331/
LOCATION:Arathana Church\, 300 E. Yamato Road\, Boca Raton\, FL\, 33431\, United States
CATEGORIES:Sunday Worship Service
ORGANIZER;CN="Arathana - Church":MAILTO:info@arathana.com
END:VEVENT
BEGIN:VEVENT
DTSTART;TZID=America/New_York:20250309T150000
DTEND;TZID=America/New_York:20250309T170000
DTSTAMP:20260422T183333
CREATED:20241127T050632Z
LAST-MODIFIED:20241127T050632Z
UID:3438-1741532400-1741539600@arathana.com
SUMMARY:Sunday Worship Service
DESCRIPTION:Join our worship services with your family and friends and receive showers of Blessings.
URL:https://arathana.com/event/sunday-worship-service-332/
LOCATION:Arathana Church\, 300 E. Yamato Road\, Boca Raton\, FL\, 33431\, United States
CATEGORIES:Sunday Worship Service
ORGANIZER;CN="Arathana - Church":MAILTO:info@arathana.com
END:VEVENT
BEGIN:VEVENT
DTSTART;TZID=America/New_York:20250316T150000
DTEND;TZID=America/New_York:20250316T170000
DTSTAMP:20260422T183333
CREATED:20241127T050707Z
LAST-MODIFIED:20241127T050707Z
UID:3439-1742137200-1742144400@arathana.com
SUMMARY:Sunday Worship Service
DESCRIPTION:Join our worship services with your family and friends and receive showers of Blessings.
URL:https://arathana.com/event/sunday-worship-service-333/
LOCATION:Arathana Church\, 300 E. Yamato Road\, Boca Raton\, FL\, 33431\, United States
CATEGORIES:Sunday Worship Service
ORGANIZER;CN="Arathana - Church":MAILTO:info@arathana.com
END:VEVENT
BEGIN:VEVENT
DTSTART;TZID=America/New_York:20250323T150000
DTEND;TZID=America/New_York:20250323T170000
DTSTAMP:20260422T183333
CREATED:20241127T050707Z
LAST-MODIFIED:20241127T050707Z
UID:3440-1742742000-1742749200@arathana.com
SUMMARY:Sunday Worship Service
DESCRIPTION:Join our worship services with your family and friends and receive showers of Blessings.
URL:https://arathana.com/event/sunday-worship-service-334/
LOCATION:Arathana Church\, 300 E. Yamato Road\, Boca Raton\, FL\, 33431\, United States
CATEGORIES:Sunday Worship Service
ORGANIZER;CN="Arathana - Church":MAILTO:info@arathana.com
END:VEVENT
BEGIN:VEVENT
DTSTART;TZID=America/New_York:20250330T150000
DTEND;TZID=America/New_York:20250330T170000
DTSTAMP:20260422T183333
CREATED:20241127T050708Z
LAST-MODIFIED:20241127T050708Z
UID:3441-1743346800-1743354000@arathana.com
SUMMARY:Sunday Worship Service
DESCRIPTION:Join our worship services with your family and friends and receive showers of Blessings.
URL:https://arathana.com/event/sunday-worship-service-335/
LOCATION:Arathana Church\, 300 E. Yamato Road\, Boca Raton\, FL\, 33431\, United States
CATEGORIES:Sunday Worship Service
ORGANIZER;CN="Arathana - Church":MAILTO:info@arathana.com
END:VEVENT
BEGIN:VEVENT
DTSTART;TZID=America/New_York:20250401T050000
DTEND;TZID=America/New_York:20250401T060000
DTSTAMP:20260422T183333
CREATED:20241127T053434Z
LAST-MODIFIED:20241127T053434Z
UID:3492-1743483600-1743487200@arathana.com
SUMMARY:First of April - Prayer
DESCRIPTION:First of Month – Prayer Line\nJoin the conference prayer line on every first day of month startingat 5:00 am. \nJoin us through ZOOM at:\nhttps://us06web.zoom.us/j/9556640647?pwd=bUlMMzZCdTZqNTdrU210SnRVY2ovZz09
URL:https://arathana.com/event/first-of-april-prayer-6/
CATEGORIES:First of Month Prayer
ORGANIZER;CN="Arathana - Church":MAILTO:info@arathana.com
END:VEVENT
BEGIN:VEVENT
DTSTART;TZID=America/New_York:20250406T150000
DTEND;TZID=America/New_York:20250406T170000
DTSTAMP:20260422T183333
CREATED:20241127T050708Z
LAST-MODIFIED:20241127T050708Z
UID:3442-1743951600-1743958800@arathana.com
SUMMARY:Sunday Worship Service
DESCRIPTION:Join our worship services with your family and friends and receive showers of Blessings.
URL:https://arathana.com/event/sunday-worship-service-336/
LOCATION:Arathana Church\, 300 E. Yamato Road\, Boca Raton\, FL\, 33431\, United States
CATEGORIES:Sunday Worship Service
ORGANIZER;CN="Arathana - Church":MAILTO:info@arathana.com
END:VEVENT
BEGIN:VEVENT
DTSTART;TZID=America/New_York:20250413T150000
DTEND;TZID=America/New_York:20250413T170000
DTSTAMP:20260422T183333
CREATED:20241127T050709Z
LAST-MODIFIED:20241127T050709Z
UID:3443-1744556400-1744563600@arathana.com
SUMMARY:Sunday Worship Service
DESCRIPTION:Join our worship services with your family and friends and receive showers of Blessings.
URL:https://arathana.com/event/sunday-worship-service-337/
LOCATION:Arathana Church\, 300 E. Yamato Road\, Boca Raton\, FL\, 33431\, United States
CATEGORIES:Sunday Worship Service
ORGANIZER;CN="Arathana - Church":MAILTO:info@arathana.com
END:VEVENT
BEGIN:VEVENT
DTSTART;TZID=America/New_York:20250420T150000
DTEND;TZID=America/New_York:20250420T170000
DTSTAMP:20260422T183333
CREATED:20241127T050722Z
LAST-MODIFIED:20241127T050722Z
UID:3444-1745161200-1745168400@arathana.com
SUMMARY:Sunday Worship Service
DESCRIPTION:Join our worship services with your family and friends and receive showers of Blessings.
URL:https://arathana.com/event/sunday-worship-service-338/
LOCATION:Arathana Church\, 300 E. Yamato Road\, Boca Raton\, FL\, 33431\, United States
CATEGORIES:Sunday Worship Service
ORGANIZER;CN="Arathana - Church":MAILTO:info@arathana.com
END:VEVENT
BEGIN:VEVENT
DTSTART;TZID=America/New_York:20250427T150000
DTEND;TZID=America/New_York:20250427T170000
DTSTAMP:20260422T183333
CREATED:20241127T050722Z
LAST-MODIFIED:20241127T050722Z
UID:3445-1745766000-1745773200@arathana.com
SUMMARY:Sunday Worship Service
DESCRIPTION:Join our worship services with your family and friends and receive showers of Blessings.
URL:https://arathana.com/event/sunday-worship-service-339/
LOCATION:Arathana Church\, 300 E. Yamato Road\, Boca Raton\, FL\, 33431\, United States
CATEGORIES:Sunday Worship Service
ORGANIZER;CN="Arathana - Church":MAILTO:info@arathana.com
END:VEVENT
BEGIN:VEVENT
DTSTART;TZID=America/New_York:20250501T050000
DTEND;TZID=America/New_York:20250501T060000
DTSTAMP:20260422T183333
CREATED:20241127T053435Z
LAST-MODIFIED:20241127T053435Z
UID:3493-1746075600-1746079200@arathana.com
SUMMARY:First of May - Prayer
DESCRIPTION:First of Month – Prayer Line\nJoin the conference prayer line on every first day of month startingat 5:00 am. \nJoin us through ZOOM at:\nhttps://us06web.zoom.us/j/9556640647?pwd=bUlMMzZCdTZqNTdrU210SnRVY2ovZz09
URL:https://arathana.com/event/first-of-may-prayer-6/
CATEGORIES:First of Month Prayer
ORGANIZER;CN="Arathana - Church":MAILTO:info@arathana.com
END:VEVENT
BEGIN:VEVENT
DTSTART;TZID=America/New_York:20250504T150000
DTEND;TZID=America/New_York:20250504T170000
DTSTAMP:20260422T183333
CREATED:20241127T050723Z
LAST-MODIFIED:20241127T050723Z
UID:3446-1746370800-1746378000@arathana.com
SUMMARY:Sunday Worship Service
DESCRIPTION:Join our worship services with your family and friends and receive showers of Blessings.
URL:https://arathana.com/event/sunday-worship-service-340/
LOCATION:Arathana Church\, 300 E. Yamato Road\, Boca Raton\, FL\, 33431\, United States
CATEGORIES:Sunday Worship Service
ORGANIZER;CN="Arathana - Church":MAILTO:info@arathana.com
END:VEVENT
BEGIN:VEVENT
DTSTART;TZID=America/New_York:20250511T150000
DTEND;TZID=America/New_York:20250511T170000
DTSTAMP:20260422T183333
CREATED:20241127T050723Z
LAST-MODIFIED:20241127T050723Z
UID:3447-1746975600-1746982800@arathana.com
SUMMARY:Sunday Worship Service
DESCRIPTION:Join our worship services with your family and friends and receive showers of Blessings.
URL:https://arathana.com/event/sunday-worship-service-341/
LOCATION:Arathana Church\, 300 E. Yamato Road\, Boca Raton\, FL\, 33431\, United States
CATEGORIES:Sunday Worship Service
ORGANIZER;CN="Arathana - Church":MAILTO:info@arathana.com
END:VEVENT
BEGIN:VEVENT
DTSTART;TZID=America/New_York:20250518T150000
DTEND;TZID=America/New_York:20250518T170000
DTSTAMP:20260422T183333
CREATED:20241127T050724Z
LAST-MODIFIED:20241127T050724Z
UID:3448-1747580400-1747587600@arathana.com
SUMMARY:Sunday Worship Service
DESCRIPTION:Join our worship services with your family and friends and receive showers of Blessings.
URL:https://arathana.com/event/sunday-worship-service-342/
LOCATION:Arathana Church\, 300 E. Yamato Road\, Boca Raton\, FL\, 33431\, United States
CATEGORIES:Sunday Worship Service
ORGANIZER;CN="Arathana - Church":MAILTO:info@arathana.com
END:VEVENT
BEGIN:VEVENT
DTSTART;TZID=America/New_York:20250525T150000
DTEND;TZID=America/New_York:20250525T170000
DTSTAMP:20260422T183333
CREATED:20241127T050737Z
LAST-MODIFIED:20241127T050737Z
UID:3449-1748185200-1748192400@arathana.com
SUMMARY:Sunday Worship Service
DESCRIPTION:Join our worship services with your family and friends and receive showers of Blessings.
URL:https://arathana.com/event/sunday-worship-service-343/
LOCATION:Arathana Church\, 300 E. Yamato Road\, Boca Raton\, FL\, 33431\, United States
CATEGORIES:Sunday Worship Service
ORGANIZER;CN="Arathana - Church":MAILTO:info@arathana.com
END:VEVENT
BEGIN:VEVENT
DTSTART;TZID=America/New_York:20250601T050000
DTEND;TZID=America/New_York:20250601T060000
DTSTAMP:20260422T183333
CREATED:20241127T053435Z
LAST-MODIFIED:20241127T053435Z
UID:3494-1748754000-1748757600@arathana.com
SUMMARY:First of June - Prayer
DESCRIPTION:First of Month – Prayer Line\nJoin the conference prayer line on every first day of month startingat 5:00 am. \nJoin us through ZOOM at:\nhttps://us06web.zoom.us/j/9556640647?pwd=bUlMMzZCdTZqNTdrU210SnRVY2ovZz09
URL:https://arathana.com/event/first-of-june-prayer-6/
CATEGORIES:First of Month Prayer
ORGANIZER;CN="Arathana - Church":MAILTO:info@arathana.com
END:VEVENT
BEGIN:VEVENT
DTSTART;TZID=America/New_York:20250601T150000
DTEND;TZID=America/New_York:20250601T170000
DTSTAMP:20260422T183333
CREATED:20241127T050737Z
LAST-MODIFIED:20241127T050737Z
UID:3450-1748790000-1748797200@arathana.com
SUMMARY:Sunday Worship Service
DESCRIPTION:Join our worship services with your family and friends and receive showers of Blessings.
URL:https://arathana.com/event/sunday-worship-service-344/
LOCATION:Arathana Church\, 300 E. Yamato Road\, Boca Raton\, FL\, 33431\, United States
CATEGORIES:Sunday Worship Service
ORGANIZER;CN="Arathana - Church":MAILTO:info@arathana.com
END:VEVENT
END:VCALENDAR