BEGIN:VCALENDAR
VERSION:2.0
PRODID:-//Arathana - To know Him and make Him known - ECPv6.15.20//NONSGML v1.0//EN
CALSCALE:GREGORIAN
METHOD:PUBLISH
X-WR-CALNAME:Arathana - To know Him and make Him known
X-ORIGINAL-URL:https://arathana.com
X-WR-CALDESC:Events for Arathana - To know Him and make Him known
REFRESH-INTERVAL;VALUE=DURATION:PT1H
X-Robots-Tag:noindex
X-PUBLISHED-TTL:PT1H
BEGIN:VTIMEZONE
TZID:America/New_York
BEGIN:DAYLIGHT
TZOFFSETFROM:-0500
TZOFFSETTO:-0400
TZNAME:EDT
DTSTART:20240310T070000
END:DAYLIGHT
BEGIN:STANDARD
TZOFFSETFROM:-0400
TZOFFSETTO:-0500
TZNAME:EST
DTSTART:20241103T060000
END:STANDARD
BEGIN:DAYLIGHT
TZOFFSETFROM:-0500
TZOFFSETTO:-0400
TZNAME:EDT
DTSTART:20250309T070000
END:DAYLIGHT
BEGIN:STANDARD
TZOFFSETFROM:-0400
TZOFFSETTO:-0500
TZNAME:EST
DTSTART:20251102T060000
END:STANDARD
BEGIN:DAYLIGHT
TZOFFSETFROM:-0500
TZOFFSETTO:-0400
TZNAME:EDT
DTSTART:20260308T070000
END:DAYLIGHT
BEGIN:STANDARD
TZOFFSETFROM:-0400
TZOFFSETTO:-0500
TZNAME:EST
DTSTART:20261101T060000
END:STANDARD
BEGIN:DAYLIGHT
TZOFFSETFROM:-0500
TZOFFSETTO:-0400
TZNAME:EDT
DTSTART:20270314T070000
END:DAYLIGHT
BEGIN:STANDARD
TZOFFSETFROM:-0400
TZOFFSETTO:-0500
TZNAME:EST
DTSTART:20271107T060000
END:STANDARD
END:VTIMEZONE
BEGIN:VEVENT
DTSTART;TZID=America/New_York:20251221T150000
DTEND;TZID=America/New_York:20251221T170000
DTSTAMP:20260422T183017
CREATED:20241127T050914Z
LAST-MODIFIED:20241127T050914Z
UID:3479-1766329200-1766336400@arathana.com
SUMMARY:Sunday Worship Service
DESCRIPTION:Join our worship services with your family and friends and receive showers of Blessings.
URL:https://arathana.com/event/sunday-worship-service-373/
LOCATION:Arathana Church\, 300 E. Yamato Road\, Boca Raton\, FL\, 33431\, United States
CATEGORIES:Sunday Worship Service
ORGANIZER;CN="Arathana - Church":MAILTO:info@arathana.com
END:VEVENT
BEGIN:VEVENT
DTSTART;TZID=America/New_York:20251228T150000
DTEND;TZID=America/New_York:20251228T170000
DTSTAMP:20260422T183017
CREATED:20241127T050915Z
LAST-MODIFIED:20241127T050915Z
UID:3480-1766934000-1766941200@arathana.com
SUMMARY:Sunday Worship Service
DESCRIPTION:Join our worship services with your family and friends and receive showers of Blessings.
URL:https://arathana.com/event/sunday-worship-service-374/
LOCATION:Arathana Church\, 300 E. Yamato Road\, Boca Raton\, FL\, 33431\, United States
CATEGORIES:Sunday Worship Service
ORGANIZER;CN="Arathana - Church":MAILTO:info@arathana.com
END:VEVENT
BEGIN:VEVENT
DTSTART;TZID=America/New_York:20260104T150000
DTEND;TZID=America/New_York:20260104T170000
DTSTAMP:20260422T183017
CREATED:20241127T050915Z
LAST-MODIFIED:20241127T050915Z
UID:3481-1767538800-1767546000@arathana.com
SUMMARY:Sunday Worship Service
DESCRIPTION:Join our worship services with your family and friends and receive showers of Blessings.
URL:https://arathana.com/event/sunday-worship-service-375/
LOCATION:Arathana Church\, 300 E. Yamato Road\, Boca Raton\, FL\, 33431\, United States
CATEGORIES:Sunday Worship Service
ORGANIZER;CN="Arathana - Church":MAILTO:info@arathana.com
END:VEVENT
BEGIN:VEVENT
DTSTART;TZID=America/New_York:20260111T150000
DTEND;TZID=America/New_York:20260111T170000
DTSTAMP:20260422T183017
CREATED:20241127T050916Z
LAST-MODIFIED:20241127T050916Z
UID:3482-1768143600-1768150800@arathana.com
SUMMARY:Sunday Worship Service
DESCRIPTION:Join our worship services with your family and friends and receive showers of Blessings.
URL:https://arathana.com/event/sunday-worship-service-376/
LOCATION:Arathana Church\, 300 E. Yamato Road\, Boca Raton\, FL\, 33431\, United States
CATEGORIES:Sunday Worship Service
ORGANIZER;CN="Arathana - Church":MAILTO:info@arathana.com
END:VEVENT
BEGIN:VEVENT
DTSTART;TZID=America/New_York:20260118T150000
DTEND;TZID=America/New_York:20260118T170000
DTSTAMP:20260422T183017
CREATED:20241127T050917Z
LAST-MODIFIED:20241127T051848Z
UID:3483-1768748400-1768755600@arathana.com
SUMMARY:Sunday Worship Service
DESCRIPTION:Join our worship services with your family and friends and receive showers of Blessings.
URL:https://arathana.com/event/sunday-worship-service-377/
LOCATION:Arathana Church\, 300 E. Yamato Road\, Boca Raton\, FL\, 33431\, United States
CATEGORIES:Sunday Worship Service
ORGANIZER;CN="Arathana - Church":MAILTO:info@arathana.com
END:VEVENT
END:VCALENDAR