BEGIN:VCALENDAR
VERSION:2.0
PRODID:-//Arathana - To know Him and make Him known - ECPv6.15.20//NONSGML v1.0//EN
CALSCALE:GREGORIAN
METHOD:PUBLISH
X-WR-CALNAME:Arathana - To know Him and make Him known
X-ORIGINAL-URL:https://arathana.com
X-WR-CALDESC:Events for Arathana - To know Him and make Him known
REFRESH-INTERVAL;VALUE=DURATION:PT1H
X-Robots-Tag:noindex
X-PUBLISHED-TTL:PT1H
BEGIN:VTIMEZONE
TZID:America/New_York
BEGIN:DAYLIGHT
TZOFFSETFROM:-0500
TZOFFSETTO:-0400
TZNAME:EDT
DTSTART:20200308T070000
END:DAYLIGHT
BEGIN:STANDARD
TZOFFSETFROM:-0400
TZOFFSETTO:-0500
TZNAME:EST
DTSTART:20201101T060000
END:STANDARD
BEGIN:DAYLIGHT
TZOFFSETFROM:-0500
TZOFFSETTO:-0400
TZNAME:EDT
DTSTART:20210314T070000
END:DAYLIGHT
BEGIN:STANDARD
TZOFFSETFROM:-0400
TZOFFSETTO:-0500
TZNAME:EST
DTSTART:20211107T060000
END:STANDARD
BEGIN:DAYLIGHT
TZOFFSETFROM:-0500
TZOFFSETTO:-0400
TZNAME:EDT
DTSTART:20220313T070000
END:DAYLIGHT
BEGIN:STANDARD
TZOFFSETFROM:-0400
TZOFFSETTO:-0500
TZNAME:EST
DTSTART:20221106T060000
END:STANDARD
END:VTIMEZONE
BEGIN:VEVENT
DTSTART;TZID=America/New_York:20210815T143000
DTEND;TZID=America/New_York:20210815T163000
DTSTAMP:20260423T074334
CREATED:20210301T184217Z
LAST-MODIFIED:20210301T184217Z
UID:3013-1629037800-1629045000@arathana.com
SUMMARY:Sunday Worship Service
DESCRIPTION:Join us with our worship services with your family and friends and receive showers of Blessings.
URL:https://arathana.com/event/sunday-worship-service-248/
LOCATION:Arathana Church\, 300 E. Yamato Road\, Boca Raton\, FL\, 33431\, United States
CATEGORIES:Sunday Worship Service
ORGANIZER;CN="Arathana - Church":MAILTO:info@arathana.com
END:VEVENT
BEGIN:VEVENT
DTSTART;TZID=America/New_York:20210808T143000
DTEND;TZID=America/New_York:20210808T163000
DTSTAMP:20260423T074334
CREATED:20210301T184216Z
LAST-MODIFIED:20210301T184216Z
UID:3012-1628433000-1628440200@arathana.com
SUMMARY:Sunday Worship Service
DESCRIPTION:Join us with our worship services with your family and friends and receive showers of Blessings.
URL:https://arathana.com/event/sunday-worship-service-247/
LOCATION:Arathana Church\, 300 E. Yamato Road\, Boca Raton\, FL\, 33431\, United States
CATEGORIES:Sunday Worship Service
ORGANIZER;CN="Arathana - Church":MAILTO:info@arathana.com
END:VEVENT
BEGIN:VEVENT
DTSTART;TZID=America/New_York:20210801T143000
DTEND;TZID=America/New_York:20210801T163000
DTSTAMP:20260423T074334
CREATED:20210301T184215Z
LAST-MODIFIED:20210301T184215Z
UID:3011-1627828200-1627835400@arathana.com
SUMMARY:Sunday Worship Service
DESCRIPTION:Join us with our worship services with your family and friends and receive showers of Blessings.
URL:https://arathana.com/event/sunday-worship-service-246/
LOCATION:Arathana Church\, 300 E. Yamato Road\, Boca Raton\, FL\, 33431\, United States
CATEGORIES:Sunday Worship Service
ORGANIZER;CN="Arathana - Church":MAILTO:info@arathana.com
END:VEVENT
BEGIN:VEVENT
DTSTART;TZID=America/New_York:20210801T050000
DTEND;TZID=America/New_York:20210801T053000
DTSTAMP:20260423T074334
CREATED:20210301T183609Z
LAST-MODIFIED:20210301T183609Z
UID:2974-1627794000-1627795800@arathana.com
SUMMARY:First of August - Prayer
DESCRIPTION:First of Month – Prayer Line\nJoin the conference prayer line on every first of month prayer at 5:00 am. \nCall in Number\n515-606-5187 \nAccess Code\n900556
URL:https://arathana.com/event/first-of-august-prayer-5/
LOCATION:FL
CATEGORIES:First of Month Prayer
ORGANIZER;CN="Arathana - Church":MAILTO:info@arathana.com
END:VEVENT
BEGIN:VEVENT
DTSTART;TZID=America/New_York:20210725T143000
DTEND;TZID=America/New_York:20210725T163000
DTSTAMP:20260423T074334
CREATED:20210301T184212Z
LAST-MODIFIED:20210301T184212Z
UID:3010-1627223400-1627230600@arathana.com
SUMMARY:Sunday Worship Service
DESCRIPTION:Join us with our worship services with your family and friends and receive showers of Blessings.
URL:https://arathana.com/event/sunday-worship-service-245/
LOCATION:Arathana Church\, 300 E. Yamato Road\, Boca Raton\, FL\, 33431\, United States
CATEGORIES:Sunday Worship Service
ORGANIZER;CN="Arathana - Church":MAILTO:info@arathana.com
END:VEVENT
BEGIN:VEVENT
DTSTART;TZID=America/New_York:20210723T193000
DTEND;TZID=America/New_York:20210723T210000
DTSTAMP:20260423T074334
CREATED:20210301T184315Z
LAST-MODIFIED:20210301T184315Z
UID:3039-1627068600-1627074000@arathana.com
SUMMARY:Standing In The Gap - Prayer
DESCRIPTION:
URL:https://arathana.com/event/standing-in-the-gap-prayer-29/
LOCATION:FL
CATEGORIES:Prayer Meeting
ORGANIZER;CN="Arathana - Church":MAILTO:info@arathana.com
END:VEVENT
BEGIN:VEVENT
DTSTART;TZID=America/New_York:20210718T143000
DTEND;TZID=America/New_York:20210718T163000
DTSTAMP:20260423T074334
CREATED:20210301T184212Z
LAST-MODIFIED:20210301T184212Z
UID:3009-1626618600-1626625800@arathana.com
SUMMARY:Sunday Worship Service
DESCRIPTION:Join us with our worship services with your family and friends and receive showers of Blessings.
URL:https://arathana.com/event/sunday-worship-service-244/
LOCATION:Arathana Church\, 300 E. Yamato Road\, Boca Raton\, FL\, 33431\, United States
CATEGORIES:Sunday Worship Service
ORGANIZER;CN="Arathana - Church":MAILTO:info@arathana.com
END:VEVENT
BEGIN:VEVENT
DTSTART;TZID=America/New_York:20210711T143000
DTEND;TZID=America/New_York:20210711T163000
DTSTAMP:20260423T074334
CREATED:20210301T184211Z
LAST-MODIFIED:20210301T184211Z
UID:3008-1626013800-1626021000@arathana.com
SUMMARY:Sunday Worship Service
DESCRIPTION:Join us with our worship services with your family and friends and receive showers of Blessings.
URL:https://arathana.com/event/sunday-worship-service-243/
LOCATION:Arathana Church\, 300 E. Yamato Road\, Boca Raton\, FL\, 33431\, United States
CATEGORIES:Sunday Worship Service
ORGANIZER;CN="Arathana - Church":MAILTO:info@arathana.com
END:VEVENT
BEGIN:VEVENT
DTSTART;TZID=America/New_York:20210704T143000
DTEND;TZID=America/New_York:20210704T163000
DTSTAMP:20260423T074334
CREATED:20210301T184211Z
LAST-MODIFIED:20210301T184211Z
UID:3007-1625409000-1625416200@arathana.com
SUMMARY:Sunday Worship Service
DESCRIPTION:Join us with our worship services with your family and friends and receive showers of Blessings.
URL:https://arathana.com/event/sunday-worship-service-242/
LOCATION:Arathana Church\, 300 E. Yamato Road\, Boca Raton\, FL\, 33431\, United States
CATEGORIES:Sunday Worship Service
ORGANIZER;CN="Arathana - Church":MAILTO:info@arathana.com
END:VEVENT
BEGIN:VEVENT
DTSTART;TZID=America/New_York:20210701T050000
DTEND;TZID=America/New_York:20210701T053000
DTSTAMP:20260423T074334
CREATED:20210301T183608Z
LAST-MODIFIED:20210301T183608Z
UID:2973-1625115600-1625117400@arathana.com
SUMMARY:First of July - Prayer
DESCRIPTION:First of Month – Prayer Line\nJoin the conference prayer line on every first of month prayer at 5:00 am. \nCall in Number\n515-606-5187 \nAccess Code\n900556
URL:https://arathana.com/event/first-of-july-prayer-5/
LOCATION:FL
CATEGORIES:First of Month Prayer
ORGANIZER;CN="Arathana - Church":MAILTO:info@arathana.com
END:VEVENT
BEGIN:VEVENT
DTSTART;TZID=America/New_York:20210627T143000
DTEND;TZID=America/New_York:20210627T163000
DTSTAMP:20260423T074334
CREATED:20210301T184210Z
LAST-MODIFIED:20210301T184210Z
UID:3006-1624804200-1624811400@arathana.com
SUMMARY:Sunday Worship Service
DESCRIPTION:Join us with our worship services with your family and friends and receive showers of Blessings.
URL:https://arathana.com/event/sunday-worship-service-241/
LOCATION:Arathana Church\, 300 E. Yamato Road\, Boca Raton\, FL\, 33431\, United States
CATEGORIES:Sunday Worship Service
ORGANIZER;CN="Arathana - Church":MAILTO:info@arathana.com
END:VEVENT
BEGIN:VEVENT
DTSTART;TZID=America/New_York:20210625T193000
DTEND;TZID=America/New_York:20210625T210000
DTSTAMP:20260423T074334
CREATED:20210301T184315Z
LAST-MODIFIED:20210301T184315Z
UID:3038-1624649400-1624654800@arathana.com
SUMMARY:Standing In The Gap - Prayer
DESCRIPTION:
URL:https://arathana.com/event/standing-in-the-gap-prayer-28/
LOCATION:FL
CATEGORIES:Prayer Meeting
ORGANIZER;CN="Arathana - Church":MAILTO:info@arathana.com
END:VEVENT
BEGIN:VEVENT
DTSTART;TZID=America/New_York:20210620T143000
DTEND;TZID=America/New_York:20210620T163000
DTSTAMP:20260423T074334
CREATED:20210301T184157Z
LAST-MODIFIED:20210301T184157Z
UID:3005-1624199400-1624206600@arathana.com
SUMMARY:Sunday Worship Service
DESCRIPTION:Join us with our worship services with your family and friends and receive showers of Blessings.
URL:https://arathana.com/event/sunday-worship-service-240/
LOCATION:Arathana Church\, 300 E. Yamato Road\, Boca Raton\, FL\, 33431\, United States
CATEGORIES:Sunday Worship Service
ORGANIZER;CN="Arathana - Church":MAILTO:info@arathana.com
END:VEVENT
BEGIN:VEVENT
DTSTART;TZID=America/New_York:20210613T143000
DTEND;TZID=America/New_York:20210613T163000
DTSTAMP:20260423T074334
CREATED:20210301T184157Z
LAST-MODIFIED:20210301T184157Z
UID:3004-1623594600-1623601800@arathana.com
SUMMARY:Sunday Worship Service
DESCRIPTION:Join us with our worship services with your family and friends and receive showers of Blessings.
URL:https://arathana.com/event/sunday-worship-service-239/
LOCATION:Arathana Church\, 300 E. Yamato Road\, Boca Raton\, FL\, 33431\, United States
CATEGORIES:Sunday Worship Service
ORGANIZER;CN="Arathana - Church":MAILTO:info@arathana.com
END:VEVENT
BEGIN:VEVENT
DTSTART;TZID=America/New_York:20210606T143000
DTEND;TZID=America/New_York:20210606T163000
DTSTAMP:20260423T074334
CREATED:20210301T184156Z
LAST-MODIFIED:20210301T184156Z
UID:3003-1622989800-1622997000@arathana.com
SUMMARY:Sunday Worship Service
DESCRIPTION:Join us with our worship services with your family and friends and receive showers of Blessings.
URL:https://arathana.com/event/sunday-worship-service-238/
LOCATION:Arathana Church\, 300 E. Yamato Road\, Boca Raton\, FL\, 33431\, United States
CATEGORIES:Sunday Worship Service
ORGANIZER;CN="Arathana - Church":MAILTO:info@arathana.com
END:VEVENT
BEGIN:VEVENT
DTSTART;TZID=America/New_York:20210601T050000
DTEND;TZID=America/New_York:20210601T053000
DTSTAMP:20260423T074334
CREATED:20210301T183605Z
LAST-MODIFIED:20210301T183605Z
UID:2972-1622523600-1622525400@arathana.com
SUMMARY:First of June - Prayer
DESCRIPTION:First of Month – Prayer Line\nJoin the conference prayer line on every first of month prayer at 5:00 am. \nCall in Number\n515-606-5187 \nAccess Code\n900556
URL:https://arathana.com/event/first-of-june-prayer-5/
LOCATION:FL
CATEGORIES:First of Month Prayer
ORGANIZER;CN="Arathana - Church":MAILTO:info@arathana.com
END:VEVENT
BEGIN:VEVENT
DTSTART;TZID=America/New_York:20210530T143000
DTEND;TZID=America/New_York:20210530T163000
DTSTAMP:20260423T074334
CREATED:20210301T184156Z
LAST-MODIFIED:20210301T184156Z
UID:3002-1622385000-1622392200@arathana.com
SUMMARY:Sunday Worship Service
DESCRIPTION:Join us with our worship services with your family and friends and receive showers of Blessings.
URL:https://arathana.com/event/sunday-worship-service-237/
LOCATION:Arathana Church\, 300 E. Yamato Road\, Boca Raton\, FL\, 33431\, United States
CATEGORIES:Sunday Worship Service
ORGANIZER;CN="Arathana - Church":MAILTO:info@arathana.com
END:VEVENT
BEGIN:VEVENT
DTSTART;TZID=America/New_York:20210528T193000
DTEND;TZID=America/New_York:20210528T210000
DTSTAMP:20260423T074334
CREATED:20210301T184311Z
LAST-MODIFIED:20210301T184311Z
UID:3037-1622230200-1622235600@arathana.com
SUMMARY:Standing In The Gap - Prayer
DESCRIPTION:
URL:https://arathana.com/event/standing-in-the-gap-prayer-27/
LOCATION:FL
CATEGORIES:Prayer Meeting
ORGANIZER;CN="Arathana - Church":MAILTO:info@arathana.com
END:VEVENT
BEGIN:VEVENT
DTSTART;TZID=America/New_York:20210523T143000
DTEND;TZID=America/New_York:20210523T163000
DTSTAMP:20260423T074334
CREATED:20210301T184155Z
LAST-MODIFIED:20210301T184155Z
UID:3001-1621780200-1621787400@arathana.com
SUMMARY:Sunday Worship Service
DESCRIPTION:Join us with our worship services with your family and friends and receive showers of Blessings.
URL:https://arathana.com/event/sunday-worship-service-236/
LOCATION:Arathana Church\, 300 E. Yamato Road\, Boca Raton\, FL\, 33431\, United States
CATEGORIES:Sunday Worship Service
ORGANIZER;CN="Arathana - Church":MAILTO:info@arathana.com
END:VEVENT
BEGIN:VEVENT
DTSTART;TZID=America/New_York:20210516T143000
DTEND;TZID=America/New_York:20210516T163000
DTSTAMP:20260423T074334
CREATED:20210301T184000Z
LAST-MODIFIED:20210301T184000Z
UID:3000-1621175400-1621182600@arathana.com
SUMMARY:Sunday Worship Service
DESCRIPTION:Join us with our worship services with your family and friends and receive showers of Blessings.
URL:https://arathana.com/event/sunday-worship-service-235/
LOCATION:Arathana Church\, 300 E. Yamato Road\, Boca Raton\, FL\, 33431\, United States
CATEGORIES:Sunday Worship Service
ORGANIZER;CN="Arathana - Church":MAILTO:info@arathana.com
END:VEVENT
BEGIN:VEVENT
DTSTART;TZID=America/New_York:20210509T143000
DTEND;TZID=America/New_York:20210509T163000
DTSTAMP:20260423T074334
CREATED:20210301T183959Z
LAST-MODIFIED:20210301T183959Z
UID:2999-1620570600-1620577800@arathana.com
SUMMARY:Sunday Worship Service
DESCRIPTION:Join us with our worship services with your family and friends and receive showers of Blessings.
URL:https://arathana.com/event/sunday-worship-service-234/
LOCATION:Arathana Church\, 300 E. Yamato Road\, Boca Raton\, FL\, 33431\, United States
CATEGORIES:Sunday Worship Service
ORGANIZER;CN="Arathana - Church":MAILTO:info@arathana.com
END:VEVENT
BEGIN:VEVENT
DTSTART;TZID=America/New_York:20210502T143000
DTEND;TZID=America/New_York:20210502T163000
DTSTAMP:20260423T074334
CREATED:20210301T183959Z
LAST-MODIFIED:20210301T183959Z
UID:2998-1619965800-1619973000@arathana.com
SUMMARY:Sunday Worship Service
DESCRIPTION:Join us with our worship services with your family and friends and receive showers of Blessings.
URL:https://arathana.com/event/sunday-worship-service-233/
LOCATION:Arathana Church\, 300 E. Yamato Road\, Boca Raton\, FL\, 33431\, United States
CATEGORIES:Sunday Worship Service
ORGANIZER;CN="Arathana - Church":MAILTO:info@arathana.com
END:VEVENT
BEGIN:VEVENT
DTSTART;TZID=America/New_York:20210501T050000
DTEND;TZID=America/New_York:20210501T053000
DTSTAMP:20260423T074334
CREATED:20210301T183604Z
LAST-MODIFIED:20210301T183604Z
UID:2971-1619845200-1619847000@arathana.com
SUMMARY:First of May - Prayer
DESCRIPTION:First of Month – Prayer Line\nJoin the conference prayer line on every first of month prayer at 5:00 am. \nCall in Number\n515-606-5187 \nAccess Code\n900556
URL:https://arathana.com/event/first-of-may-prayer-5/
LOCATION:FL
CATEGORIES:First of Month Prayer
ORGANIZER;CN="Arathana - Church":MAILTO:info@arathana.com
END:VEVENT
BEGIN:VEVENT
DTSTART;TZID=America/New_York:20210425T143000
DTEND;TZID=America/New_York:20210425T163000
DTSTAMP:20260423T074334
CREATED:20210301T183958Z
LAST-MODIFIED:20210301T183958Z
UID:2997-1619361000-1619368200@arathana.com
SUMMARY:Sunday Worship Service
DESCRIPTION:Join us with our worship services with your family and friends and receive showers of Blessings.
URL:https://arathana.com/event/sunday-worship-service-232/
LOCATION:Arathana Church\, 300 E. Yamato Road\, Boca Raton\, FL\, 33431\, United States
CATEGORIES:Sunday Worship Service
ORGANIZER;CN="Arathana - Church":MAILTO:info@arathana.com
END:VEVENT
BEGIN:VEVENT
DTSTART;TZID=America/New_York:20210423T193000
DTEND;TZID=America/New_York:20210423T210000
DTSTAMP:20260423T074334
CREATED:20210301T184311Z
LAST-MODIFIED:20210301T184311Z
UID:3036-1619206200-1619211600@arathana.com
SUMMARY:Standing In The Gap - Prayer
DESCRIPTION:
URL:https://arathana.com/event/standing-in-the-gap-prayer-26/
LOCATION:FL
CATEGORIES:Prayer Meeting
ORGANIZER;CN="Arathana - Church":MAILTO:info@arathana.com
END:VEVENT
BEGIN:VEVENT
DTSTART;TZID=America/New_York:20210418T143000
DTEND;TZID=America/New_York:20210418T163000
DTSTAMP:20260423T074334
CREATED:20210301T183958Z
LAST-MODIFIED:20210301T183958Z
UID:2996-1618756200-1618763400@arathana.com
SUMMARY:Sunday Worship Service
DESCRIPTION:Join us with our worship services with your family and friends and receive showers of Blessings.
URL:https://arathana.com/event/sunday-worship-service-231/
LOCATION:Arathana Church\, 300 E. Yamato Road\, Boca Raton\, FL\, 33431\, United States
CATEGORIES:Sunday Worship Service
ORGANIZER;CN="Arathana - Church":MAILTO:info@arathana.com
END:VEVENT
BEGIN:VEVENT
DTSTART;TZID=America/New_York:20210411T143000
DTEND;TZID=America/New_York:20210411T163000
DTSTAMP:20260423T074334
CREATED:20210301T183800Z
LAST-MODIFIED:20210301T183800Z
UID:2995-1618151400-1618158600@arathana.com
SUMMARY:Sunday Worship Service
DESCRIPTION:Join us with our worship services with your family and friends and receive showers of Blessings.
URL:https://arathana.com/event/sunday-worship-service-230/
LOCATION:Arathana Church\, 300 E. Yamato Road\, Boca Raton\, FL\, 33431\, United States
CATEGORIES:Sunday Worship Service
ORGANIZER;CN="Arathana - Church":MAILTO:info@arathana.com
END:VEVENT
BEGIN:VEVENT
DTSTART;TZID=America/New_York:20210404T143000
DTEND;TZID=America/New_York:20210404T163000
DTSTAMP:20260423T074334
CREATED:20210301T183800Z
LAST-MODIFIED:20210301T183800Z
UID:2994-1617546600-1617553800@arathana.com
SUMMARY:Sunday Worship Service
DESCRIPTION:Join us with our worship services with your family and friends and receive showers of Blessings.
URL:https://arathana.com/event/sunday-worship-service-229/
LOCATION:Arathana Church\, 300 E. Yamato Road\, Boca Raton\, FL\, 33431\, United States
CATEGORIES:Sunday Worship Service
ORGANIZER;CN="Arathana - Church":MAILTO:info@arathana.com
END:VEVENT
BEGIN:VEVENT
DTSTART;TZID=America/New_York:20210401T050000
DTEND;TZID=America/New_York:20210401T053000
DTSTAMP:20260423T074334
CREATED:20210301T183604Z
LAST-MODIFIED:20210301T183604Z
UID:2970-1617253200-1617255000@arathana.com
SUMMARY:First of April - Prayer
DESCRIPTION:First of Month – Prayer Line\nJoin the conference prayer line on every first of month prayer at 5:00 am. \nCall in Number\n515-606-5187 \nAccess Code\n900556
URL:https://arathana.com/event/first-of-april-prayer-5/
LOCATION:FL
CATEGORIES:First of Month Prayer
ORGANIZER;CN="Arathana - Church":MAILTO:info@arathana.com
END:VEVENT
BEGIN:VEVENT
DTSTART;TZID=America/New_York:20210328T143000
DTEND;TZID=America/New_York:20210328T163000
DTSTAMP:20260423T074334
CREATED:20210301T183759Z
LAST-MODIFIED:20210301T183759Z
UID:2993-1616941800-1616949000@arathana.com
SUMMARY:Sunday Worship Service
DESCRIPTION:Join us with our worship services with your family and friends and receive showers of Blessings.
URL:https://arathana.com/event/sunday-worship-service-228/
LOCATION:Arathana Church\, 300 E. Yamato Road\, Boca Raton\, FL\, 33431\, United States
CATEGORIES:Sunday Worship Service
ORGANIZER;CN="Arathana - Church":MAILTO:info@arathana.com
END:VEVENT
END:VCALENDAR