BEGIN:VCALENDAR
VERSION:2.0
PRODID:-//Arathana - To know Him and make Him known - ECPv6.15.20//NONSGML v1.0//EN
CALSCALE:GREGORIAN
METHOD:PUBLISH
X-WR-CALNAME:Arathana - To know Him and make Him known
X-ORIGINAL-URL:https://arathana.com
X-WR-CALDESC:Events for Arathana - To know Him and make Him known
REFRESH-INTERVAL;VALUE=DURATION:PT1H
X-Robots-Tag:noindex
X-PUBLISHED-TTL:PT1H
BEGIN:VTIMEZONE
TZID:America/New_York
BEGIN:DAYLIGHT
TZOFFSETFROM:-0500
TZOFFSETTO:-0400
TZNAME:EDT
DTSTART:20150308T070000
END:DAYLIGHT
BEGIN:STANDARD
TZOFFSETFROM:-0400
TZOFFSETTO:-0500
TZNAME:EST
DTSTART:20151101T060000
END:STANDARD
BEGIN:DAYLIGHT
TZOFFSETFROM:-0500
TZOFFSETTO:-0400
TZNAME:EDT
DTSTART:20160313T070000
END:DAYLIGHT
BEGIN:STANDARD
TZOFFSETFROM:-0400
TZOFFSETTO:-0500
TZNAME:EST
DTSTART:20161106T060000
END:STANDARD
BEGIN:DAYLIGHT
TZOFFSETFROM:-0500
TZOFFSETTO:-0400
TZNAME:EDT
DTSTART:20170312T070000
END:DAYLIGHT
BEGIN:STANDARD
TZOFFSETFROM:-0400
TZOFFSETTO:-0500
TZNAME:EST
DTSTART:20171105T060000
END:STANDARD
BEGIN:DAYLIGHT
TZOFFSETFROM:-0500
TZOFFSETTO:-0400
TZNAME:EDT
DTSTART:20180311T070000
END:DAYLIGHT
BEGIN:STANDARD
TZOFFSETFROM:-0400
TZOFFSETTO:-0500
TZNAME:EST
DTSTART:20181104T060000
END:STANDARD
BEGIN:DAYLIGHT
TZOFFSETFROM:-0500
TZOFFSETTO:-0400
TZNAME:EDT
DTSTART:20190310T070000
END:DAYLIGHT
BEGIN:STANDARD
TZOFFSETFROM:-0400
TZOFFSETTO:-0500
TZNAME:EST
DTSTART:20191103T060000
END:STANDARD
BEGIN:DAYLIGHT
TZOFFSETFROM:-0500
TZOFFSETTO:-0400
TZNAME:EDT
DTSTART:20200308T070000
END:DAYLIGHT
BEGIN:STANDARD
TZOFFSETFROM:-0400
TZOFFSETTO:-0500
TZNAME:EST
DTSTART:20201101T060000
END:STANDARD
BEGIN:DAYLIGHT
TZOFFSETFROM:-0500
TZOFFSETTO:-0400
TZNAME:EDT
DTSTART:20210314T070000
END:DAYLIGHT
BEGIN:STANDARD
TZOFFSETFROM:-0400
TZOFFSETTO:-0500
TZNAME:EST
DTSTART:20211107T060000
END:STANDARD
BEGIN:DAYLIGHT
TZOFFSETFROM:-0500
TZOFFSETTO:-0400
TZNAME:EDT
DTSTART:20220313T070000
END:DAYLIGHT
BEGIN:STANDARD
TZOFFSETFROM:-0400
TZOFFSETTO:-0500
TZNAME:EST
DTSTART:20221106T060000
END:STANDARD
BEGIN:DAYLIGHT
TZOFFSETFROM:-0500
TZOFFSETTO:-0400
TZNAME:EDT
DTSTART:20230312T070000
END:DAYLIGHT
BEGIN:STANDARD
TZOFFSETFROM:-0400
TZOFFSETTO:-0500
TZNAME:EST
DTSTART:20231105T060000
END:STANDARD
BEGIN:DAYLIGHT
TZOFFSETFROM:-0500
TZOFFSETTO:-0400
TZNAME:EDT
DTSTART:20240310T070000
END:DAYLIGHT
BEGIN:STANDARD
TZOFFSETFROM:-0400
TZOFFSETTO:-0500
TZNAME:EST
DTSTART:20241103T060000
END:STANDARD
END:VTIMEZONE
BEGIN:VEVENT
DTSTART;TZID=America/New_York:20230513T180000
DTEND;TZID=America/New_York:20230513T200000
DTSTAMP:20260423T065856
CREATED:20230503T000017Z
LAST-MODIFIED:20230503T000017Z
UID:3235-1684000800-1684008000@arathana.com
SUMMARY:11th Church Anniversary Service
DESCRIPTION:Join us for our 11th Church Anniversary Service and celebrate the marvelous things GOD has done. \n  \nZoom Link \nPasscode 1122
URL:https://arathana.com/event/11th-church-anniversary-service/
CATEGORIES:Worship Service
ORGANIZER;CN="Arathana - Church":MAILTO:info@arathana.com
END:VEVENT
BEGIN:VEVENT
DTSTART;TZID=America/New_York:20200410T183000
DTEND;TZID=America/New_York:20200410T203000
DTSTAMP:20260423T065856
CREATED:20200401T025911Z
LAST-MODIFIED:20200401T030737Z
UID:2856-1586543400-1586550600@arathana.com
SUMMARY:Good Friday 2020
DESCRIPTION:Join us for a Special Good Friday service at Arathana church. If you ever considered giving church a try\, this will be a great weekend to come and experience Heartfelt worship\, Inspiring word and Great Fellowship.
URL:https://arathana.com/event/good-friday-2020/
LOCATION:Phone Conference Prayer
CATEGORIES:Worship Service
ORGANIZER;CN="Arathana - Church":MAILTO:info@arathana.com
END:VEVENT
BEGIN:VEVENT
DTSTART;TZID=America/New_York:20190608T100000
DTEND;TZID=America/New_York:20190608T170000
DTSTAMP:20260423T065856
CREATED:20190606T153452Z
LAST-MODIFIED:20190606T153536Z
UID:2646-1559988000-1560013200@arathana.com
SUMMARY:God of Wonders - VBS 2019
DESCRIPTION:Come with the Kids for our VBS 2019 and receive showers of Blessings. Invite your friends and families. May the Lord bless you.
URL:https://arathana.com/event/god-of-wonders-vbs-2019/
LOCATION:John&Christy House\, 14912 SW 54th St\, Miramar\, FL\, 33027\, United States
CATEGORIES:Worship Service
ORGANIZER;CN="Arathana - Church":MAILTO:info@arathana.com
END:VEVENT
BEGIN:VEVENT
DTSTART;TZID=America/New_York:20190419T183000
DTEND;TZID=America/New_York:20190419T203000
DTSTAMP:20260423T065856
CREATED:20190415T125829Z
LAST-MODIFIED:20190417T142912Z
UID:2550-1555698600-1555705800@arathana.com
SUMMARY:Good Friday 2019
DESCRIPTION:Join us for a Special Good Friday service at Arathana church. If you ever considered giving church a try\, this will be a great weekend to come and experience Heartfelt worship\, Inspiring word and Great Fellowship.
URL:https://arathana.com/event/good-friday-2019/
LOCATION:Arathana Church\, 300 E. Yamato Road\, Boca Raton\, FL\, 33431\, United States
CATEGORIES:Worship Service
ORGANIZER;CN="Arathana - Church":MAILTO:info@arathana.com
END:VEVENT
BEGIN:VEVENT
DTSTART;TZID=America/New_York:20180401T143000
DTEND;TZID=America/New_York:20180401T163000
DTSTAMP:20260423T065856
CREATED:20180102T004923Z
LAST-MODIFIED:20180330T141610Z
UID:2169-1522593000-1522600200@arathana.com
SUMMARY:Easter Worship Service
DESCRIPTION:Join us with our worship services with your family and friends and receive showers of Blessings.
URL:https://arathana.com/event/sunday-worship-service-73/
LOCATION:Arathana Church\, 300 E. Yamato Road\, Boca Raton\, FL\, 33431\, United States
CATEGORIES:Sunday Worship Service,Worship Service
ORGANIZER;CN="Arathana - Church":MAILTO:info@arathana.com
END:VEVENT
BEGIN:VEVENT
DTSTART;TZID=America/New_York:20161223T190000
DTEND;TZID=America/New_York:20161223T210000
DTSTAMP:20260423T065856
CREATED:20161214T181432Z
LAST-MODIFIED:20161214T181603Z
UID:1546-1482519600-1482526800@arathana.com
SUMMARY:2016 Christmas Sing Song Service
DESCRIPTION:“கர்த்தருக்குப் புதுப்பாட்டைப் பாடுங்கள்; பூமியின் குடிகளே\, எல்லாரும் கர்த்தரைப் பாடுங்கள்.\n கர்த்தரைப் பாடி\, அவருடைய நாமத்தை ஸ்தோத்திரித்து\, நாளுக்கு நாள் அவருடைய இரட்சிப்பைச் சுவிசேஷமாய் அறிவியுங்கள்.”\n சங்கீதம் 96 : 1 – 2 \n“Oh\, sing to the Lord a new song!\n Sing to the Lord\, all the earth.\n Sing to the Lord\, bless His name;\n Proclaim the good news of His salvation from day to day.”\n Psalm 96 : 1-2
URL:https://arathana.com/event/2016-christmas-sing-song-service/
LOCATION:Arathana Church\, 300 E. Yamato Road\, Boca Raton\, FL\, 33431\, United States
CATEGORIES:Worship Service
ORGANIZER;CN="Arathana - Church":MAILTO:info@arathana.com
END:VEVENT
END:VCALENDAR