BEGIN:VCALENDAR
VERSION:2.0
PRODID:-//Arathana - To know Him and make Him known - ECPv6.15.20//NONSGML v1.0//EN
CALSCALE:GREGORIAN
METHOD:PUBLISH
X-WR-CALNAME:Arathana - To know Him and make Him known
X-ORIGINAL-URL:https://arathana.com
X-WR-CALDESC:Events for Arathana - To know Him and make Him known
REFRESH-INTERVAL;VALUE=DURATION:PT1H
X-Robots-Tag:noindex
X-PUBLISHED-TTL:PT1H
BEGIN:VTIMEZONE
TZID:America/New_York
BEGIN:DAYLIGHT
TZOFFSETFROM:-0500
TZOFFSETTO:-0400
TZNAME:EDT
DTSTART:20150308T070000
END:DAYLIGHT
BEGIN:STANDARD
TZOFFSETFROM:-0400
TZOFFSETTO:-0500
TZNAME:EST
DTSTART:20151101T060000
END:STANDARD
BEGIN:DAYLIGHT
TZOFFSETFROM:-0500
TZOFFSETTO:-0400
TZNAME:EDT
DTSTART:20160313T070000
END:DAYLIGHT
BEGIN:STANDARD
TZOFFSETFROM:-0400
TZOFFSETTO:-0500
TZNAME:EST
DTSTART:20161106T060000
END:STANDARD
BEGIN:DAYLIGHT
TZOFFSETFROM:-0500
TZOFFSETTO:-0400
TZNAME:EDT
DTSTART:20170312T070000
END:DAYLIGHT
BEGIN:STANDARD
TZOFFSETFROM:-0400
TZOFFSETTO:-0500
TZNAME:EST
DTSTART:20171105T060000
END:STANDARD
BEGIN:DAYLIGHT
TZOFFSETFROM:-0500
TZOFFSETTO:-0400
TZNAME:EDT
DTSTART:20180311T070000
END:DAYLIGHT
BEGIN:STANDARD
TZOFFSETFROM:-0400
TZOFFSETTO:-0500
TZNAME:EST
DTSTART:20181104T060000
END:STANDARD
BEGIN:DAYLIGHT
TZOFFSETFROM:-0500
TZOFFSETTO:-0400
TZNAME:EDT
DTSTART:20190310T070000
END:DAYLIGHT
BEGIN:STANDARD
TZOFFSETFROM:-0400
TZOFFSETTO:-0500
TZNAME:EST
DTSTART:20191103T060000
END:STANDARD
BEGIN:DAYLIGHT
TZOFFSETFROM:-0500
TZOFFSETTO:-0400
TZNAME:EDT
DTSTART:20200308T070000
END:DAYLIGHT
BEGIN:STANDARD
TZOFFSETFROM:-0400
TZOFFSETTO:-0500
TZNAME:EST
DTSTART:20201101T060000
END:STANDARD
BEGIN:DAYLIGHT
TZOFFSETFROM:-0500
TZOFFSETTO:-0400
TZNAME:EDT
DTSTART:20210314T070000
END:DAYLIGHT
BEGIN:STANDARD
TZOFFSETFROM:-0400
TZOFFSETTO:-0500
TZNAME:EST
DTSTART:20211107T060000
END:STANDARD
BEGIN:DAYLIGHT
TZOFFSETFROM:-0500
TZOFFSETTO:-0400
TZNAME:EDT
DTSTART:20220313T070000
END:DAYLIGHT
BEGIN:STANDARD
TZOFFSETFROM:-0400
TZOFFSETTO:-0500
TZNAME:EST
DTSTART:20221106T060000
END:STANDARD
END:VTIMEZONE
BEGIN:VEVENT
DTSTART;TZID=America/New_York:20210423T193000
DTEND;TZID=America/New_York:20210423T210000
DTSTAMP:20260423T015926
CREATED:20210301T184311Z
LAST-MODIFIED:20210301T184311Z
UID:3036-1619206200-1619211600@arathana.com
SUMMARY:Standing In The Gap - Prayer
DESCRIPTION:
URL:https://arathana.com/event/standing-in-the-gap-prayer-26/
CATEGORIES:Prayer Meeting
ORGANIZER;CN="Arathana - Church":MAILTO:info@arathana.com
END:VEVENT
BEGIN:VEVENT
DTSTART;TZID=America/New_York:20210326T193000
DTEND;TZID=America/New_York:20210326T210000
DTSTAMP:20260423T015926
CREATED:20210301T184311Z
LAST-MODIFIED:20210301T184311Z
UID:3035-1616787000-1616792400@arathana.com
SUMMARY:Standing In The Gap - Prayer
DESCRIPTION:
URL:https://arathana.com/event/standing-in-the-gap-prayer-25/
CATEGORIES:Prayer Meeting
ORGANIZER;CN="Arathana - Church":MAILTO:info@arathana.com
END:VEVENT
BEGIN:VEVENT
DTSTART;TZID=America/New_York:20210226T193000
DTEND;TZID=America/New_York:20210226T210000
DTSTAMP:20260423T015926
CREATED:20210301T184311Z
LAST-MODIFIED:20210301T184311Z
UID:3034-1614367800-1614373200@arathana.com
SUMMARY:Standing In The Gap - Prayer
DESCRIPTION:
URL:https://arathana.com/event/standing-in-the-gap-prayer-24/
CATEGORIES:Prayer Meeting
ORGANIZER;CN="Arathana - Church":MAILTO:info@arathana.com
END:VEVENT
BEGIN:VEVENT
DTSTART;TZID=America/New_York:20210129T193000
DTEND;TZID=America/New_York:20210129T210000
DTSTAMP:20260423T015926
CREATED:20210301T184310Z
LAST-MODIFIED:20210301T184310Z
UID:3033-1611948600-1611954000@arathana.com
SUMMARY:Standing In The Gap - Prayer
DESCRIPTION:
URL:https://arathana.com/event/standing-in-the-gap-prayer-23/
CATEGORIES:Prayer Meeting
ORGANIZER;CN="Arathana - Church":MAILTO:info@arathana.com
END:VEVENT
BEGIN:VEVENT
DTSTART;TZID=America/New_York:20201127T193000
DTEND;TZID=America/New_York:20201127T210000
DTSTAMP:20260423T015926
CREATED:20200106T185808Z
LAST-MODIFIED:20200106T185808Z
UID:2836-1606505400-1606510800@arathana.com
SUMMARY:Standing In The Gap - Prayer
DESCRIPTION:
URL:https://arathana.com/event/standing-in-the-gap-prayer-22/
CATEGORIES:Prayer Meeting
ORGANIZER;CN="Arathana - Church":MAILTO:info@arathana.com
END:VEVENT
BEGIN:VEVENT
DTSTART;TZID=America/New_York:20201023T193000
DTEND;TZID=America/New_York:20201023T210000
DTSTAMP:20260423T015926
CREATED:20200106T185800Z
LAST-MODIFIED:20200106T185800Z
UID:2835-1603481400-1603486800@arathana.com
SUMMARY:Standing In The Gap - Prayer
DESCRIPTION:
URL:https://arathana.com/event/standing-in-the-gap-prayer-21/
CATEGORIES:Prayer Meeting
ORGANIZER;CN="Arathana - Church":MAILTO:info@arathana.com
END:VEVENT
BEGIN:VEVENT
DTSTART;TZID=America/New_York:20200925T193000
DTEND;TZID=America/New_York:20200925T210000
DTSTAMP:20260423T015926
CREATED:20200106T185757Z
LAST-MODIFIED:20200106T185757Z
UID:2834-1601062200-1601067600@arathana.com
SUMMARY:Standing In The Gap - Prayer
DESCRIPTION:
URL:https://arathana.com/event/standing-in-the-gap-prayer-20/
CATEGORIES:Prayer Meeting
ORGANIZER;CN="Arathana - Church":MAILTO:info@arathana.com
END:VEVENT
BEGIN:VEVENT
DTSTART;TZID=America/New_York:20200828T193000
DTEND;TZID=America/New_York:20200828T210000
DTSTAMP:20260423T015926
CREATED:20200106T185756Z
LAST-MODIFIED:20200106T185756Z
UID:2833-1598643000-1598648400@arathana.com
SUMMARY:Standing In The Gap - Prayer
DESCRIPTION:
URL:https://arathana.com/event/standing-in-the-gap-prayer-19/
CATEGORIES:Prayer Meeting
ORGANIZER;CN="Arathana - Church":MAILTO:info@arathana.com
END:VEVENT
BEGIN:VEVENT
DTSTART;TZID=America/New_York:20200724T193000
DTEND;TZID=America/New_York:20200724T210000
DTSTAMP:20260423T015926
CREATED:20200106T185752Z
LAST-MODIFIED:20200106T185752Z
UID:2832-1595619000-1595624400@arathana.com
SUMMARY:Standing In The Gap - Prayer
DESCRIPTION:
URL:https://arathana.com/event/standing-in-the-gap-prayer-18/
CATEGORIES:Prayer Meeting
ORGANIZER;CN="Arathana - Church":MAILTO:info@arathana.com
END:VEVENT
BEGIN:VEVENT
DTSTART;TZID=America/New_York:20200626T193000
DTEND;TZID=America/New_York:20200626T210000
DTSTAMP:20260423T015926
CREATED:20200106T185736Z
LAST-MODIFIED:20200106T185736Z
UID:2831-1593199800-1593205200@arathana.com
SUMMARY:Standing In The Gap - Prayer
DESCRIPTION:
URL:https://arathana.com/event/standing-in-the-gap-prayer-17/
CATEGORIES:Prayer Meeting
ORGANIZER;CN="Arathana - Church":MAILTO:info@arathana.com
END:VEVENT
BEGIN:VEVENT
DTSTART;TZID=America/New_York:20200522T193000
DTEND;TZID=America/New_York:20200522T210000
DTSTAMP:20260423T015926
CREATED:20200106T185700Z
LAST-MODIFIED:20200106T185700Z
UID:2830-1590175800-1590181200@arathana.com
SUMMARY:Standing In The Gap - Prayer
DESCRIPTION:
URL:https://arathana.com/event/standing-in-the-gap-prayer-16/
CATEGORIES:Prayer Meeting
ORGANIZER;CN="Arathana - Church":MAILTO:info@arathana.com
END:VEVENT
BEGIN:VEVENT
DTSTART;TZID=America/New_York:20200424T193000
DTEND;TZID=America/New_York:20200424T210000
DTSTAMP:20260423T015926
CREATED:20200106T185658Z
LAST-MODIFIED:20200106T185658Z
UID:2829-1587756600-1587762000@arathana.com
SUMMARY:Standing In The Gap - Prayer
DESCRIPTION:
URL:https://arathana.com/event/standing-in-the-gap-prayer-15/
CATEGORIES:Prayer Meeting
ORGANIZER;CN="Arathana - Church":MAILTO:info@arathana.com
END:VEVENT
BEGIN:VEVENT
DTSTART;TZID=America/New_York:20200327T193000
DTEND;TZID=America/New_York:20200327T210000
DTSTAMP:20260423T015926
CREATED:20200106T185654Z
LAST-MODIFIED:20200106T185654Z
UID:2828-1585337400-1585342800@arathana.com
SUMMARY:Standing In The Gap - Prayer
DESCRIPTION:
URL:https://arathana.com/event/standing-in-the-gap-prayer-14/
CATEGORIES:Prayer Meeting
ORGANIZER;CN="Arathana - Church":MAILTO:info@arathana.com
END:VEVENT
BEGIN:VEVENT
DTSTART;TZID=America/New_York:20200228T193000
DTEND;TZID=America/New_York:20200228T210000
DTSTAMP:20260423T015926
CREATED:20200106T185652Z
LAST-MODIFIED:20200106T185652Z
UID:2827-1582918200-1582923600@arathana.com
SUMMARY:Standing In The Gap - Prayer
DESCRIPTION:
URL:https://arathana.com/event/standing-in-the-gap-prayer-13/
CATEGORIES:Prayer Meeting
ORGANIZER;CN="Arathana - Church":MAILTO:info@arathana.com
END:VEVENT
BEGIN:VEVENT
DTSTART;TZID=America/New_York:20200124T193000
DTEND;TZID=America/New_York:20200124T210000
DTSTAMP:20260423T015926
CREATED:20200106T185642Z
LAST-MODIFIED:20200106T185642Z
UID:2826-1579894200-1579899600@arathana.com
SUMMARY:Standing In The Gap - Prayer
DESCRIPTION:
URL:https://arathana.com/event/standing-in-the-gap-prayer-12/
CATEGORIES:Prayer Meeting
ORGANIZER;CN="Arathana - Church":MAILTO:info@arathana.com
END:VEVENT
BEGIN:VEVENT
DTSTART;TZID=America/New_York:20180210T120000
DTEND;TZID=America/New_York:20180210T150000
DTSTAMP:20260423T015926
CREATED:20180205T184810Z
LAST-MODIFIED:20180205T184956Z
UID:2222-1518264000-1518274800@arathana.com
SUMMARY:Fasting Prayer - February 2018
DESCRIPTION:“பரிசுத்த உபவாசநாளை நியமியுங்கள்; விசேஷித்த ஆசரிப்பைக் கூறுங்கள்; மூப்பரையும் தேசத்தின் எல்லாக்குடிகளையும் உங்கள் தேவனாகிய கர்த்தரின் ஆலயத்திலே கூடிவரச்செய்து கர்த்தரை நோக்கிக் கூப்பிடுங்கள்.” \nயோவேல் 1:14 \nFasting Prayer \nJoin us with our Fasting Prayer with your family and friends and receive showers of Blessings.
URL:https://arathana.com/event/fasting-prayer-february-2018/
LOCATION:John&Christy House\, 14912 SW 54th St\, Miramar\, FL\, 33027\, United States
CATEGORIES:Bible Study,Fasting Prayer,Prayer Meeting
ORGANIZER;CN="Arathana - Church":MAILTO:info@arathana.com
END:VEVENT
BEGIN:VEVENT
DTSTART;TZID=America/New_York:20180126T193000
DTEND;TZID=America/New_York:20180126T210000
DTSTAMP:20260423T015926
CREATED:20180124T152316Z
LAST-MODIFIED:20180124T152316Z
UID:2218-1516995000-1517000400@arathana.com
SUMMARY:Standing In The Gap - Prayer Meeting - January 2018
DESCRIPTION:நான் தேசத்தை அழிக்காதபடிக்குத் திறப்பிலே நிற்கவும் சுவரை அடைக்கவுந்தக்கதாக ஒரு மனுஷனைத் தேடினேன்… \nஎசேக்கியேல் 22:30 \nAnd I sought for a man among them\, that should make up the hedge\, and stand in the gap before me for the land\, that I should not destroy it:  \nEzekiel 22:30
URL:https://arathana.com/event/standing-in-the-gap-prayer-meeting-january-2018/
LOCATION:Patience House\, 11314 NW 49 DR\, CORAL SPRINGS\, FL\, 33076\, United States
CATEGORIES:Bible Study,Prayer Meeting
ORGANIZER;CN="Arathana - Church":MAILTO:info@arathana.com
END:VEVENT
BEGIN:VEVENT
DTSTART;TZID=America/New_York:20180113T120000
DTEND;TZID=America/New_York:20180113T150000
DTSTAMP:20260423T015926
CREATED:20180112T153009Z
LAST-MODIFIED:20180112T153009Z
UID:2215-1515844800-1515855600@arathana.com
SUMMARY:Fasting Prayer - January 2018
DESCRIPTION:“பரிசுத்த உபவாசநாளை நியமியுங்கள்; விசேஷித்த ஆசரிப்பைக் கூறுங்கள்; மூப்பரையும் தேசத்தின் எல்லாக்குடிகளையும் உங்கள் தேவனாகிய கர்த்தரின் ஆலயத்திலே கூடிவரச்செய்து கர்த்தரை நோக்கிக் கூப்பிடுங்கள்.” \nயோவேல் 1:14 \nFasting Prayer \nJoin us with our Fasting Prayer with your family and friends and receive showers of Blessings.
URL:https://arathana.com/event/fasting-prayer-january-2018/
LOCATION:Suresh and Roseline\, Kumar’s House\, 2614 SW 181st Ter\, Miramar\, FL\, 33029\, United States
CATEGORIES:Bible Study,Fasting Prayer,Prayer Meeting
ORGANIZER;CN="Arathana - Church":MAILTO:info@arathana.com
END:VEVENT
BEGIN:VEVENT
DTSTART;TZID=America/New_York:20170520T120000
DTEND;TZID=America/New_York:20170520T150000
DTSTAMP:20260423T015926
CREATED:20170517T130055Z
LAST-MODIFIED:20170517T130055Z
UID:1709-1495281600-1495292400@arathana.com
SUMMARY:Fasting Prayer - May 2017
DESCRIPTION:“பரிசுத்த உபவாசநாளை நியமியுங்கள்; விசேஷித்த ஆசரிப்பைக் கூறுங்கள்; மூப்பரையும் தேசத்தின் எல்லாக்குடிகளையும் உங்கள் தேவனாகிய கர்த்தரின் ஆலயத்திலே கூடிவரச்செய்து கர்த்தரை நோக்கிக் கூப்பிடுங்கள்.” \nயோவேல் 1:14 \nFasting Prayer \nJoin us with our Fasting Prayer with your family and friends and receive showers of Blessings.
URL:https://arathana.com/event/fasting-prayer-may-2017/
LOCATION:Alex and Christy’s House\, 7100 NW 10th Ct\, Plantation\, FL\, 33313\, United States
CATEGORIES:Fasting Prayer,Prayer Meeting
ORGANIZER;CN="Arathana - Church":MAILTO:info@arathana.com
END:VEVENT
BEGIN:VEVENT
DTSTART;TZID=America/New_York:20170428T193000
DTEND;TZID=America/New_York:20170428T213000
DTSTAMP:20260423T015926
CREATED:20170426T124426Z
LAST-MODIFIED:20170426T124608Z
UID:1697-1493407800-1493415000@arathana.com
SUMMARY:Standing in the Gap - Prayer Meeting - April 2017
DESCRIPTION:நான் தேசத்தை அழிக்காதபடிக்குத் திறப்பிலே நிற்கவும் சுவரை அடைக்கவுந்தக்கதாக ஒரு மனுஷனைத் தேடினேன்… \nஎசேக்கியேல் 22:30 \nAnd I sought for a man among them\, that should make up the hedge\, and stand in the gap before me for the land\, that I should not destroy it:  \nEzekiel 22:30
URL:https://arathana.com/event/standing-in-the-gap-prayer-meeting-may-2017/
LOCATION:Patience House\, 11314 NW 49 DR\, CORAL SPRINGS\, FL\, 33076\, United States
CATEGORIES:Bible Study,Prayer Meeting
ORGANIZER;CN="Arathana - Church":MAILTO:info@arathana.com
END:VEVENT
BEGIN:VEVENT
DTSTART;TZID=America/New_York:20170224T193000
DTEND;TZID=America/New_York:20170224T213000
DTSTAMP:20260423T015926
CREATED:20170222T193107Z
LAST-MODIFIED:20170222T193236Z
UID:1664-1487964600-1487971800@arathana.com
SUMMARY:Standing in the Gap - Prayer Meeting - February 2017
DESCRIPTION:நான் தேசத்தை அழிக்காதபடிக்குத் திறப்பிலே நிற்கவும் சுவரை அடைக்கவுந்தக்கதாக ஒரு மனுஷனைத் தேடினேன்… \nஎசேக்கியேல் 22:30 \nAnd I sought for a man among them\, that should make up the hedge\, and stand in the gap before me for the land\, that I should not destroy it:  \nEzekiel 22:30
URL:https://arathana.com/event/standing-in-the-gap-prayer-meeting-february-2017/
LOCATION:Mohan Raj House\, 11175 Nantucket Bay Ct.\, Wellington\, FL\, 33414\, United States
CATEGORIES:Prayer Meeting
ORGANIZER;CN="Arathana - Church":MAILTO:info@arathana.com
END:VEVENT
BEGIN:VEVENT
DTSTART;TZID=America/New_York:20161217T120000
DTEND;TZID=America/New_York:20161217T153000
DTSTAMP:20260423T015926
CREATED:20161214T180534Z
LAST-MODIFIED:20161214T180747Z
UID:1544-1481976000-1481988600@arathana.com
SUMMARY:Fasting Prayer – December 2016
DESCRIPTION:“பரிசுத்த உபவாசநாளை நியமியுங்கள்; விசேஷித்த ஆசரிப்பைக் கூறுங்கள்; மூப்பரையும் தேசத்தின் எல்லாக்குடிகளையும் உங்கள் தேவனாகிய கர்த்தரின் ஆலயத்திலே கூடிவரச்செய்து கர்த்தரை நோக்கிக் கூப்பிடுங்கள்.” \nயோவேல் 1:14 \nFasting Prayer \nJoin us with our Fasting Prayer with your family and friends and receive showers of Blessings.
URL:https://arathana.com/event/fasting-prayer-december-2016/
LOCATION:CRTC\, 11326 Wiles Road\, Coral Springs\, FL\, 33076\, United States
CATEGORIES:Bible Study,Fasting Prayer,Prayer Meeting
ORGANIZER;CN="Arathana - Church":MAILTO:info@arathana.com
END:VEVENT
BEGIN:VEVENT
DTSTART;TZID=America/New_York:20160923T193000
DTEND;TZID=America/New_York:20160923T210000
DTSTAMP:20260423T015926
CREATED:20160921T185931Z
LAST-MODIFIED:20160921T185931Z
UID:1401-1474659000-1474664400@arathana.com
SUMMARY:Standing in the Gap - September 2016
DESCRIPTION:நான் தேசத்தை அழிக்காதபடிக்குத் திறப்பிலே நிற்கவும் சுவரை அடைக்கவுந்தக்கதாக ஒரு மனுஷனைத் தேடினேன்… \nஎசேக்கியேல் 22:30 \nAnd I sought for a man among them\, that should make up the hedge\, and stand in the gap before me for the land\, that I should not destroy it:  \nEzekiel 22:30
URL:https://arathana.com/event/standing-in-the-gap-september-2016/
LOCATION:CRTC\, 11326 Wiles Road\, Coral Springs\, FL\, 33076\, United States
CATEGORIES:Prayer Meeting
ORGANIZER;CN="Arathana - Church":MAILTO:info@arathana.com
END:VEVENT
BEGIN:VEVENT
DTSTART;TZID=America/New_York:20160826T193000
DTEND;TZID=America/New_York:20160826T210000
DTSTAMP:20260423T015926
CREATED:20160824T003826Z
LAST-MODIFIED:20160824T003919Z
UID:1132-1472239800-1472245200@arathana.com
SUMMARY:Standing in the Gap - August 2016
DESCRIPTION:நான் தேசத்தை அழிக்காதபடிக்குத் திறப்பிலே நிற்கவும் சுவரை அடைக்கவுந்தக்கதாக ஒரு மனுஷனைத் தேடினேன்… \nஎசேக்கியேல் 22:30 \nAnd I sought for a man among them\, that should make up the hedge\, and stand in the gap before me for the land\, that I should not destroy it:  \nEzekiel 22:30
URL:https://arathana.com/event/standing-in-the-gap-august-2016/
LOCATION:Suresh and Roseline\, Kumar’s House\, 2614 SW 181st Ter\, Miramar\, FL\, 33029\, United States
CATEGORIES:Prayer Meeting
ORGANIZER;CN="Arathana - Church":MAILTO:info@arathana.com
END:VEVENT
END:VCALENDAR