BEGIN:VCALENDAR
VERSION:2.0
PRODID:-//Arathana - To know Him and make Him known - ECPv6.15.20//NONSGML v1.0//EN
CALSCALE:GREGORIAN
METHOD:PUBLISH
X-WR-CALNAME:Arathana - To know Him and make Him known
X-ORIGINAL-URL:https://arathana.com
X-WR-CALDESC:Events for Arathana - To know Him and make Him known
REFRESH-INTERVAL;VALUE=DURATION:PT1H
X-Robots-Tag:noindex
X-PUBLISHED-TTL:PT1H
BEGIN:VTIMEZONE
TZID:America/New_York
BEGIN:DAYLIGHT
TZOFFSETFROM:-0500
TZOFFSETTO:-0400
TZNAME:EDT
DTSTART:20170312T070000
END:DAYLIGHT
BEGIN:STANDARD
TZOFFSETFROM:-0400
TZOFFSETTO:-0500
TZNAME:EST
DTSTART:20171105T060000
END:STANDARD
BEGIN:DAYLIGHT
TZOFFSETFROM:-0500
TZOFFSETTO:-0400
TZNAME:EDT
DTSTART:20180311T070000
END:DAYLIGHT
BEGIN:STANDARD
TZOFFSETFROM:-0400
TZOFFSETTO:-0500
TZNAME:EST
DTSTART:20181104T060000
END:STANDARD
BEGIN:DAYLIGHT
TZOFFSETFROM:-0500
TZOFFSETTO:-0400
TZNAME:EDT
DTSTART:20190310T070000
END:DAYLIGHT
BEGIN:STANDARD
TZOFFSETFROM:-0400
TZOFFSETTO:-0500
TZNAME:EST
DTSTART:20191103T060000
END:STANDARD
BEGIN:DAYLIGHT
TZOFFSETFROM:-0500
TZOFFSETTO:-0400
TZNAME:EDT
DTSTART:20200308T070000
END:DAYLIGHT
BEGIN:STANDARD
TZOFFSETFROM:-0400
TZOFFSETTO:-0500
TZNAME:EST
DTSTART:20201101T060000
END:STANDARD
BEGIN:DAYLIGHT
TZOFFSETFROM:-0500
TZOFFSETTO:-0400
TZNAME:EDT
DTSTART:20210314T070000
END:DAYLIGHT
BEGIN:STANDARD
TZOFFSETFROM:-0400
TZOFFSETTO:-0500
TZNAME:EST
DTSTART:20211107T060000
END:STANDARD
BEGIN:DAYLIGHT
TZOFFSETFROM:-0500
TZOFFSETTO:-0400
TZNAME:EDT
DTSTART:20220313T070000
END:DAYLIGHT
BEGIN:STANDARD
TZOFFSETFROM:-0400
TZOFFSETTO:-0500
TZNAME:EST
DTSTART:20221106T060000
END:STANDARD
END:VTIMEZONE
BEGIN:VEVENT
DTSTART;TZID=America/New_York:20210301T050000
DTEND;TZID=America/New_York:20210301T053000
DTSTAMP:20260422T190817
CREATED:20210301T183604Z
LAST-MODIFIED:20210301T183604Z
UID:2969-1614574800-1614576600@arathana.com
SUMMARY:First of March - Prayer
DESCRIPTION:First of Month – Prayer Line\nJoin the conference prayer line on every first of month prayer at 5:00 am. \nCall in Number\n515-606-5187 \nAccess Code\n900556
URL:https://arathana.com/event/first-of-march-prayer-5/
CATEGORIES:First of Month Prayer
ORGANIZER;CN="Arathana - Church":MAILTO:info@arathana.com
END:VEVENT
BEGIN:VEVENT
DTSTART;TZID=America/New_York:20210201T050000
DTEND;TZID=America/New_York:20210201T053000
DTSTAMP:20260422T190817
CREATED:20210301T183603Z
LAST-MODIFIED:20210301T183603Z
UID:2968-1612155600-1612157400@arathana.com
SUMMARY:First of February - Prayer
DESCRIPTION:First of Month – Prayer Line\nJoin the conference prayer line on every first of month prayer at 5:00 am. \nCall in Number\n515-606-5187 \nAccess Code\n900556
URL:https://arathana.com/event/first-of-february-prayer-5/
CATEGORIES:First of Month Prayer
ORGANIZER;CN="Arathana - Church":MAILTO:info@arathana.com
END:VEVENT
BEGIN:VEVENT
DTSTART;TZID=America/New_York:20201201T050000
DTEND;TZID=America/New_York:20201201T053000
DTSTAMP:20260422T190817
CREATED:20200106T173024Z
LAST-MODIFIED:20200106T173024Z
UID:2730-1606798800-1606800600@arathana.com
SUMMARY:First of December - Prayer
DESCRIPTION:First of Month – Prayer Line\nJoin the conference prayer line on every first of month prayer at 5:00 am. \nCall in Number\n515-606-5187 \nAccess Code\n900556
URL:https://arathana.com/event/first-of-december-prayer-5/
CATEGORIES:First of Month Prayer
ORGANIZER;CN="Arathana - Church":MAILTO:info@arathana.com
END:VEVENT
BEGIN:VEVENT
DTSTART;TZID=America/New_York:20201101T050000
DTEND;TZID=America/New_York:20201101T053000
DTSTAMP:20260422T190817
CREATED:20200106T173016Z
LAST-MODIFIED:20200106T173016Z
UID:2729-1604206800-1604208600@arathana.com
SUMMARY:First of Novemebr - Prayer
DESCRIPTION:First of Month – Prayer Line\nJoin the conference prayer line on every first of month prayer at 5:00 am. \nCall in Number\n515-606-5187 \nAccess Code\n900556
URL:https://arathana.com/event/first-of-novemebr-prayer-4/
CATEGORIES:First of Month Prayer
ORGANIZER;CN="Arathana - Church":MAILTO:info@arathana.com
END:VEVENT
BEGIN:VEVENT
DTSTART;TZID=America/New_York:20201001T050000
DTEND;TZID=America/New_York:20201001T053000
DTSTAMP:20260422T190817
CREATED:20200106T173013Z
LAST-MODIFIED:20200106T173013Z
UID:2728-1601528400-1601530200@arathana.com
SUMMARY:First of October - Prayer
DESCRIPTION:First of Month – Prayer Line\nJoin the conference prayer line on every first of month prayer at 5:00 am. \nCall in Number\n515-606-5187 \nAccess Code\n900556
URL:https://arathana.com/event/first-of-october-prayer-4/
CATEGORIES:First of Month Prayer
ORGANIZER;CN="Arathana - Church":MAILTO:info@arathana.com
END:VEVENT
BEGIN:VEVENT
DTSTART;TZID=America/New_York:20200901T050000
DTEND;TZID=America/New_York:20200901T053000
DTSTAMP:20260422T190817
CREATED:20200106T173011Z
LAST-MODIFIED:20200106T173011Z
UID:2727-1598936400-1598938200@arathana.com
SUMMARY:First of September - Prayer
DESCRIPTION:First of Month – Prayer Line\nJoin the conference prayer line on every first of month prayer at 5:00 am. \nCall in Number\n515-606-5187 \nAccess Code\n900556
URL:https://arathana.com/event/first-of-september-prayer-4/
CATEGORIES:First of Month Prayer
ORGANIZER;CN="Arathana - Church":MAILTO:info@arathana.com
END:VEVENT
BEGIN:VEVENT
DTSTART;TZID=America/New_York:20200801T050000
DTEND;TZID=America/New_York:20200801T053000
DTSTAMP:20260422T190817
CREATED:20200106T173009Z
LAST-MODIFIED:20200106T173009Z
UID:2726-1596258000-1596259800@arathana.com
SUMMARY:First of August - Prayer
DESCRIPTION:First of Month – Prayer Line\nJoin the conference prayer line on every first of month prayer at 5:00 am. \nCall in Number\n515-606-5187 \nAccess Code\n900556
URL:https://arathana.com/event/first-of-august-prayer-4/
CATEGORIES:First of Month Prayer
ORGANIZER;CN="Arathana - Church":MAILTO:info@arathana.com
END:VEVENT
BEGIN:VEVENT
DTSTART;TZID=America/New_York:20200701T050000
DTEND;TZID=America/New_York:20200701T053000
DTSTAMP:20260422T190817
CREATED:20200106T173005Z
LAST-MODIFIED:20200106T173005Z
UID:2725-1593579600-1593581400@arathana.com
SUMMARY:First of July - Prayer
DESCRIPTION:First of Month – Prayer Line\nJoin the conference prayer line on every first of month prayer at 5:00 am. \nCall in Number\n515-606-5187 \nAccess Code\n900556
URL:https://arathana.com/event/first-of-july-prayer-4/
CATEGORIES:First of Month Prayer
ORGANIZER;CN="Arathana - Church":MAILTO:info@arathana.com
END:VEVENT
BEGIN:VEVENT
DTSTART;TZID=America/New_York:20200601T050000
DTEND;TZID=America/New_York:20200601T053000
DTSTAMP:20260422T190817
CREATED:20200106T172956Z
LAST-MODIFIED:20200106T172956Z
UID:2724-1590987600-1590989400@arathana.com
SUMMARY:First of June - Prayer
DESCRIPTION:First of Month – Prayer Line\nJoin the conference prayer line on every first of month prayer at 5:00 am. \nCall in Number\n515-606-5187 \nAccess Code\n900556
URL:https://arathana.com/event/first-of-june-prayer-4/
CATEGORIES:First of Month Prayer
ORGANIZER;CN="Arathana - Church":MAILTO:info@arathana.com
END:VEVENT
BEGIN:VEVENT
DTSTART;TZID=America/New_York:20200501T050000
DTEND;TZID=America/New_York:20200501T053000
DTSTAMP:20260422T190817
CREATED:20200106T172954Z
LAST-MODIFIED:20200106T172954Z
UID:2723-1588309200-1588311000@arathana.com
SUMMARY:First of May - Prayer
DESCRIPTION:First of Month – Prayer Line\nJoin the conference prayer line on every first of month prayer at 5:00 am. \nCall in Number\n515-606-5187 \nAccess Code\n900556
URL:https://arathana.com/event/first-of-may-prayer-4/
CATEGORIES:First of Month Prayer
ORGANIZER;CN="Arathana - Church":MAILTO:info@arathana.com
END:VEVENT
BEGIN:VEVENT
DTSTART;TZID=America/New_York:20200401T050000
DTEND;TZID=America/New_York:20200401T053000
DTSTAMP:20260422T190817
CREATED:20200106T172951Z
LAST-MODIFIED:20200106T172951Z
UID:2722-1585717200-1585719000@arathana.com
SUMMARY:First of April - Prayer
DESCRIPTION:First of Month – Prayer Line\nJoin the conference prayer line on every first of month prayer at 5:00 am. \nCall in Number\n515-606-5187 \nAccess Code\n900556
URL:https://arathana.com/event/first-of-april-prayer-4/
CATEGORIES:First of Month Prayer
ORGANIZER;CN="Arathana - Church":MAILTO:info@arathana.com
END:VEVENT
BEGIN:VEVENT
DTSTART;TZID=America/New_York:20200301T050000
DTEND;TZID=America/New_York:20200301T053000
DTSTAMP:20260422T190817
CREATED:20200106T172949Z
LAST-MODIFIED:20200106T172949Z
UID:2721-1583038800-1583040600@arathana.com
SUMMARY:First of March - Prayer
DESCRIPTION:First of Month – Prayer Line\nJoin the conference prayer line on every first of month prayer at 5:00 am. \nCall in Number\n515-606-5187 \nAccess Code\n900556
URL:https://arathana.com/event/first-of-march-prayer-4/
CATEGORIES:First of Month Prayer
ORGANIZER;CN="Arathana - Church":MAILTO:info@arathana.com
END:VEVENT
BEGIN:VEVENT
DTSTART;TZID=America/New_York:20200201T050000
DTEND;TZID=America/New_York:20200201T053000
DTSTAMP:20260422T190817
CREATED:20200106T172947Z
LAST-MODIFIED:20200106T172947Z
UID:2720-1580533200-1580535000@arathana.com
SUMMARY:First of February - Prayer
DESCRIPTION:First of Month – Prayer Line\nJoin the conference prayer line on every first of month prayer at 5:00 am. \nCall in Number\n515-606-5187 \nAccess Code\n900556
URL:https://arathana.com/event/first-of-february-prayer-4/
CATEGORIES:First of Month Prayer
ORGANIZER;CN="Arathana - Church":MAILTO:info@arathana.com
END:VEVENT
BEGIN:VEVENT
DTSTART;TZID=America/New_York:20191201T050000
DTEND;TZID=America/New_York:20191201T053000
DTSTAMP:20260422T190817
CREATED:20181221T154454Z
LAST-MODIFIED:20181221T154454Z
UID:2382-1575176400-1575178200@arathana.com
SUMMARY:First of December - Prayer
DESCRIPTION:First of Month – Prayer Line\nJoin the conference prayer line on every first of month prayer at 5:00 am. \nCall in Number\n515-739-1020 \nAccess Code\n900556
URL:https://arathana.com/event/first-of-december-prayer-4/
CATEGORIES:First of Month Prayer
ORGANIZER;CN="Arathana - Church":MAILTO:info@arathana.com
END:VEVENT
BEGIN:VEVENT
DTSTART;TZID=America/New_York:20191101T050000
DTEND;TZID=America/New_York:20191101T053000
DTSTAMP:20260422T190817
CREATED:20181221T154453Z
LAST-MODIFIED:20181221T154453Z
UID:2381-1572584400-1572586200@arathana.com
SUMMARY:First of Novemebr - Prayer
DESCRIPTION:First of Month – Prayer Line\nJoin the conference prayer line on every first of month prayer at 5:00 am. \nCall in Number\n515-739-1020 \nAccess Code\n900556
URL:https://arathana.com/event/first-of-novemebr-prayer-3/
CATEGORIES:First of Month Prayer
ORGANIZER;CN="Arathana - Church":MAILTO:info@arathana.com
END:VEVENT
BEGIN:VEVENT
DTSTART;TZID=America/New_York:20191001T050000
DTEND;TZID=America/New_York:20191001T053000
DTSTAMP:20260422T190817
CREATED:20181221T154453Z
LAST-MODIFIED:20181221T154453Z
UID:2380-1569906000-1569907800@arathana.com
SUMMARY:First of October - Prayer
DESCRIPTION:First of Month – Prayer Line\nJoin the conference prayer line on every first of month prayer at 5:00 am. \nCall in Number\n515-739-1020 \nAccess Code\n900556
URL:https://arathana.com/event/first-of-october-prayer-3/
CATEGORIES:First of Month Prayer
ORGANIZER;CN="Arathana - Church":MAILTO:info@arathana.com
END:VEVENT
BEGIN:VEVENT
DTSTART;TZID=America/New_York:20190901T050000
DTEND;TZID=America/New_York:20190901T053000
DTSTAMP:20260422T190817
CREATED:20181221T154450Z
LAST-MODIFIED:20181221T154450Z
UID:2379-1567314000-1567315800@arathana.com
SUMMARY:First of September - Prayer
DESCRIPTION:First of Month – Prayer Line\nJoin the conference prayer line on every first of month prayer at 5:00 am. \nCall in Number\n515-739-1020 \nAccess Code\n900556
URL:https://arathana.com/event/first-of-september-prayer-3/
CATEGORIES:First of Month Prayer
ORGANIZER;CN="Arathana - Church":MAILTO:info@arathana.com
END:VEVENT
BEGIN:VEVENT
DTSTART;TZID=America/New_York:20190801T050000
DTEND;TZID=America/New_York:20190801T053000
DTSTAMP:20260422T190817
CREATED:20181221T154450Z
LAST-MODIFIED:20181221T154450Z
UID:2378-1564635600-1564637400@arathana.com
SUMMARY:First of August - Prayer
DESCRIPTION:First of Month – Prayer Line\nJoin the conference prayer line on every first of month prayer at 5:00 am. \nCall in Number\n515-739-1020 \nAccess Code\n900556
URL:https://arathana.com/event/first-of-august-prayer-3/
CATEGORIES:First of Month Prayer
ORGANIZER;CN="Arathana - Church":MAILTO:info@arathana.com
END:VEVENT
BEGIN:VEVENT
DTSTART;TZID=America/New_York:20190701T050000
DTEND;TZID=America/New_York:20190701T053000
DTSTAMP:20260422T190817
CREATED:20181221T154449Z
LAST-MODIFIED:20181221T154449Z
UID:2377-1561957200-1561959000@arathana.com
SUMMARY:First of July - Prayer
DESCRIPTION:First of Month – Prayer Line\nJoin the conference prayer line on every first of month prayer at 5:00 am. \nCall in Number\n515-739-1020 \nAccess Code\n900556
URL:https://arathana.com/event/first-of-july-prayer-3/
CATEGORIES:First of Month Prayer
ORGANIZER;CN="Arathana - Church":MAILTO:info@arathana.com
END:VEVENT
BEGIN:VEVENT
DTSTART;TZID=America/New_York:20190601T050000
DTEND;TZID=America/New_York:20190601T053000
DTSTAMP:20260422T190817
CREATED:20181221T154448Z
LAST-MODIFIED:20181221T154448Z
UID:2376-1559365200-1559367000@arathana.com
SUMMARY:First of June - Prayer
DESCRIPTION:First of Month – Prayer Line\nJoin the conference prayer line on every first of month prayer at 5:00 am. \nCall in Number\n515-739-1020 \nAccess Code\n900556
URL:https://arathana.com/event/first-of-june-prayer-3/
CATEGORIES:First of Month Prayer
ORGANIZER;CN="Arathana - Church":MAILTO:info@arathana.com
END:VEVENT
BEGIN:VEVENT
DTSTART;TZID=America/New_York:20190501T050000
DTEND;TZID=America/New_York:20190501T053000
DTSTAMP:20260422T190817
CREATED:20181221T154448Z
LAST-MODIFIED:20181221T154448Z
UID:2375-1556686800-1556688600@arathana.com
SUMMARY:First of May - Prayer
DESCRIPTION:First of Month – Prayer Line\nJoin the conference prayer line on every first of month prayer at 5:00 am. \nCall in Number\n515-739-1020 \nAccess Code\n900556
URL:https://arathana.com/event/first-of-may-prayer-3/
CATEGORIES:First of Month Prayer
ORGANIZER;CN="Arathana - Church":MAILTO:info@arathana.com
END:VEVENT
BEGIN:VEVENT
DTSTART;TZID=America/New_York:20190401T050000
DTEND;TZID=America/New_York:20190401T053000
DTSTAMP:20260422T190817
CREATED:20181221T154444Z
LAST-MODIFIED:20181221T154444Z
UID:2374-1554094800-1554096600@arathana.com
SUMMARY:First of April - Prayer
DESCRIPTION:First of Month – Prayer Line\nJoin the conference prayer line on every first of month prayer at 5:00 am. \nCall in Number\n515-739-1020 \nAccess Code\n900556
URL:https://arathana.com/event/first-of-april-prayer-3/
CATEGORIES:First of Month Prayer
ORGANIZER;CN="Arathana - Church":MAILTO:info@arathana.com
END:VEVENT
BEGIN:VEVENT
DTSTART;TZID=America/New_York:20190301T050000
DTEND;TZID=America/New_York:20190301T053000
DTSTAMP:20260422T190817
CREATED:20181221T154443Z
LAST-MODIFIED:20181221T154443Z
UID:2373-1551416400-1551418200@arathana.com
SUMMARY:First of March - Prayer
DESCRIPTION:First of Month – Prayer Line\nJoin the conference prayer line on every first of month prayer at 5:00 am. \nCall in Number\n515-739-1020 \nAccess Code\n900556
URL:https://arathana.com/event/first-of-march-prayer-3/
CATEGORIES:First of Month Prayer
ORGANIZER;CN="Arathana - Church":MAILTO:info@arathana.com
END:VEVENT
BEGIN:VEVENT
DTSTART;TZID=America/New_York:20190201T050000
DTEND;TZID=America/New_York:20190201T053000
DTSTAMP:20260422T190817
CREATED:20181221T154443Z
LAST-MODIFIED:20181221T154443Z
UID:2372-1548997200-1548999000@arathana.com
SUMMARY:First of February - Prayer
DESCRIPTION:First of Month – Prayer Line\nJoin the conference prayer line on every first of month prayer at 5:00 am. \nCall in Number\n515-739-1020 \nAccess Code\n900556
URL:https://arathana.com/event/first-of-february-prayer-3/
CATEGORIES:First of Month Prayer
ORGANIZER;CN="Arathana - Church":MAILTO:info@arathana.com
END:VEVENT
BEGIN:VEVENT
DTSTART;TZID=America/New_York:20181201T050000
DTEND;TZID=America/New_York:20181201T053000
DTSTAMP:20260422T190817
CREATED:20180102T004419Z
LAST-MODIFIED:20180102T004419Z
UID:2154-1543640400-1543642200@arathana.com
SUMMARY:First of December - Prayer
DESCRIPTION:First of Month – Prayer Line\nJoin the conference prayer line on every first of month prayer at 5:00 am. \nCall in Number\n515-739-1020 \nAccess Code\n900556
URL:https://arathana.com/event/first-of-december-prayer-3/
CATEGORIES:First of Month Prayer
END:VEVENT
BEGIN:VEVENT
DTSTART;TZID=America/New_York:20181101T050000
DTEND;TZID=America/New_York:20181101T053000
DTSTAMP:20260422T190817
CREATED:20180102T004418Z
LAST-MODIFIED:20180102T004418Z
UID:2153-1541048400-1541050200@arathana.com
SUMMARY:First of Novemebr - Prayer
DESCRIPTION:First of Month – Prayer Line\nJoin the conference prayer line on every first of month prayer at 5:00 am. \nCall in Number\n515-739-1020 \nAccess Code\n900556
URL:https://arathana.com/event/first-of-novemebr-prayer-2/
CATEGORIES:First of Month Prayer
END:VEVENT
BEGIN:VEVENT
DTSTART;TZID=America/New_York:20181001T050000
DTEND;TZID=America/New_York:20181001T053000
DTSTAMP:20260422T190817
CREATED:20180102T004418Z
LAST-MODIFIED:20180102T004418Z
UID:2152-1538370000-1538371800@arathana.com
SUMMARY:First of October - Prayer
DESCRIPTION:First of Month – Prayer Line\nJoin the conference prayer line on every first of month prayer at 5:00 am. \nCall in Number\n515-739-1020 \nAccess Code\n900556
URL:https://arathana.com/event/first-of-october-prayer-2/
CATEGORIES:First of Month Prayer
END:VEVENT
BEGIN:VEVENT
DTSTART;TZID=America/New_York:20180901T050000
DTEND;TZID=America/New_York:20180901T053000
DTSTAMP:20260422T190817
CREATED:20180102T004416Z
LAST-MODIFIED:20180102T004416Z
UID:2151-1535778000-1535779800@arathana.com
SUMMARY:First of September - Prayer
DESCRIPTION:First of Month – Prayer Line\nJoin the conference prayer line on every first of month prayer at 5:00 am. \nCall in Number\n515-739-1020 \nAccess Code\n900556
URL:https://arathana.com/event/first-of-september-prayer-2/
CATEGORIES:First of Month Prayer
END:VEVENT
BEGIN:VEVENT
DTSTART;TZID=America/New_York:20180801T050000
DTEND;TZID=America/New_York:20180801T053000
DTSTAMP:20260422T190817
CREATED:20180102T004416Z
LAST-MODIFIED:20180102T004416Z
UID:2150-1533099600-1533101400@arathana.com
SUMMARY:First of August - Prayer
DESCRIPTION:First of Month – Prayer Line\nJoin the conference prayer line on every first of month prayer at 5:00 am. \nCall in Number\n515-739-1020 \nAccess Code\n900556
URL:https://arathana.com/event/first-of-august-prayer-2/
CATEGORIES:First of Month Prayer
END:VEVENT
BEGIN:VEVENT
DTSTART;TZID=America/New_York:20180701T050000
DTEND;TZID=America/New_York:20180701T053000
DTSTAMP:20260422T190817
CREATED:20180102T004416Z
LAST-MODIFIED:20180102T004416Z
UID:2149-1530421200-1530423000@arathana.com
SUMMARY:First of July - Prayer
DESCRIPTION:First of Month – Prayer Line\nJoin the conference prayer line on every first of month prayer at 5:00 am. \nCall in Number\n515-739-1020 \nAccess Code\n900556
URL:https://arathana.com/event/first-of-july-prayer-2/
CATEGORIES:First of Month Prayer
END:VEVENT
END:VCALENDAR