BEGIN:VCALENDAR
VERSION:2.0
PRODID:-//Arathana - To know Him and make Him known - ECPv6.15.20//NONSGML v1.0//EN
CALSCALE:GREGORIAN
METHOD:PUBLISH
X-WR-CALNAME:Arathana - To know Him and make Him known
X-ORIGINAL-URL:https://arathana.com
X-WR-CALDESC:Events for Arathana - To know Him and make Him known
REFRESH-INTERVAL;VALUE=DURATION:PT1H
X-Robots-Tag:noindex
X-PUBLISHED-TTL:PT1H
BEGIN:VTIMEZONE
TZID:America/New_York
BEGIN:DAYLIGHT
TZOFFSETFROM:-0500
TZOFFSETTO:-0400
TZNAME:EDT
DTSTART:20150308T070000
END:DAYLIGHT
BEGIN:STANDARD
TZOFFSETFROM:-0400
TZOFFSETTO:-0500
TZNAME:EST
DTSTART:20151101T060000
END:STANDARD
BEGIN:DAYLIGHT
TZOFFSETFROM:-0500
TZOFFSETTO:-0400
TZNAME:EDT
DTSTART:20160313T070000
END:DAYLIGHT
BEGIN:STANDARD
TZOFFSETFROM:-0400
TZOFFSETTO:-0500
TZNAME:EST
DTSTART:20161106T060000
END:STANDARD
BEGIN:DAYLIGHT
TZOFFSETFROM:-0500
TZOFFSETTO:-0400
TZNAME:EDT
DTSTART:20170312T070000
END:DAYLIGHT
BEGIN:STANDARD
TZOFFSETFROM:-0400
TZOFFSETTO:-0500
TZNAME:EST
DTSTART:20171105T060000
END:STANDARD
END:VTIMEZONE
BEGIN:VEVENT
DTSTART;TZID=America/New_York:20160601T050000
DTEND;TZID=America/New_York:20160601T053000
DTSTAMP:20260423T132113
CREATED:20160413T135857Z
LAST-MODIFIED:20160413T162704Z
UID:965-1464757200-1464759000@arathana.com
SUMMARY:First of June - Prayer
DESCRIPTION:First of Month – Prayer Line \nJoin the conference prayer line on every first of month prayer at 5:00 am. \nCall in Number\n515-739-1020 \nAccess Code\n900556
URL:https://arathana.com/event/first-june-prayer/
LOCATION:Arathana – Prayer Line
CATEGORIES:First of Month Prayer
ORGANIZER;CN="Arathana - Church":MAILTO:info@arathana.com
END:VEVENT
BEGIN:VEVENT
DTSTART;TZID=America/New_York:20160501T050000
DTEND;TZID=America/New_York:20160501T053000
DTSTAMP:20260423T132113
CREATED:20160330T213512Z
LAST-MODIFIED:20160425T034454Z
UID:650-1462078800-1462080600@arathana.com
SUMMARY:First of May - Prayer Line
DESCRIPTION:First of Month – Prayer Line \nJoin the conference prayer line on every first of month prayer at 5:00 am. \nCall in Number\n515-739-1020 \nAccess Code\n900556
URL:https://arathana.com/event/first-of-month-prayer-line-may/
LOCATION:Arathana – Prayer Line
CATEGORIES:First of Month Prayer
ORGANIZER;CN="Arathana - Church":MAILTO:info@arathana.com
END:VEVENT
BEGIN:VEVENT
DTSTART;TZID=America/New_York:20160401T050000
DTEND;TZID=America/New_York:20160401T053000
DTSTAMP:20260423T132113
CREATED:20160330T002154Z
LAST-MODIFIED:20160401T131743Z
UID:188-1459486800-1459488600@arathana.com
SUMMARY:First of April - Prayer Line
DESCRIPTION:First of Month – Prayer Line \nJoin the conference prayer line on every first of month prayer at 5:00 am. \nCall in Number\n515-739-1020 \nAccess Code\n900556
URL:https://arathana.com/event/first-of-month-prayer/
LOCATION:Arathana – Prayer Line
CATEGORIES:First of Month Prayer
ORGANIZER;CN="Arathana - Church":MAILTO:info@arathana.com
END:VEVENT
END:VCALENDAR